BEGIN:VCALENDAR
VERSION:2.0
PRODID:-//Pinellas County - ECPv6.15.18//NONSGML v1.0//EN
CALSCALE:GREGORIAN
METHOD:PUBLISH
X-WR-CALNAME:Pinellas County
X-ORIGINAL-URL:https://pinellas.gov
X-WR-CALDESC:Events for Pinellas County
REFRESH-INTERVAL;VALUE=DURATION:PT1H
X-Robots-Tag:noindex
X-PUBLISHED-TTL:PT1H
BEGIN:VTIMEZONE
TZID:America/New_York
BEGIN:DAYLIGHT
TZOFFSETFROM:-0500
TZOFFSETTO:-0400
TZNAME:EDT
DTSTART:20250309T070000
END:DAYLIGHT
BEGIN:STANDARD
TZOFFSETFROM:-0400
TZOFFSETTO:-0500
TZNAME:EST
DTSTART:20251102T060000
END:STANDARD
BEGIN:DAYLIGHT
TZOFFSETFROM:-0500
TZOFFSETTO:-0400
TZNAME:EDT
DTSTART:20260308T070000
END:DAYLIGHT
BEGIN:STANDARD
TZOFFSETFROM:-0400
TZOFFSETTO:-0500
TZNAME:EST
DTSTART:20261101T060000
END:STANDARD
BEGIN:DAYLIGHT
TZOFFSETFROM:-0500
TZOFFSETTO:-0400
TZNAME:EDT
DTSTART:20270314T070000
END:DAYLIGHT
BEGIN:STANDARD
TZOFFSETFROM:-0400
TZOFFSETTO:-0500
TZNAME:EST
DTSTART:20271107T060000
END:STANDARD
END:VTIMEZONE
BEGIN:VEVENT
DTSTART;VALUE=DATE:20260401
DTEND;VALUE=DATE:20260601
DTSTAMP:20260420T014228
CREATED:20260304T195949Z
LAST-MODIFIED:20260408T135637Z
UID:10007832-1775001600-1780271999@pinellas.gov
SUMMARY:Spring Cleaning for Household Chemicals
DESCRIPTION:It’s spring cleaning time! You can drop off household chemicals\, including gasoline\, oil\, paint\, fluorescent bulbs and certain batteries\, for free through the Household Hazardous Waste (HHW) program. Quantity limits apply. Many of these old chemicals are fire hazards and could pollute your home and neighborhood during a hurricane. Clean them out now before the start of hurricane season on June 1 to help protect your community from environmental contamination and avoid waiting in long lines right before a storm! \nYou can drop off household chemicals at the HHW Center\, located at 2855 109th Ave. N.\, St. Petersburg\, which is open select days from 7 a.m. to 5 p.m.\, and HHW North\, located at 29582 U.S. 19 N\, Clearwater\, which is open select Saturdays from 9 a.m. to 2 p.m. \nFor more information\, visit Pinellas.gov/hhw. For business waste\, visit Pinellas.gov/bizwaste.
URL:https://pinellas.gov/event/spring-cleaning-for-household-chemicals-2/
LOCATION:FL
ORGANIZER;CN="Pinellas County Solid Waste":MAILTO:waste@pinellas.gov
END:VEVENT
BEGIN:VEVENT
DTSTART;TZID=America/New_York:20260420T080000
DTEND;TZID=America/New_York:20260420T170000
DTSTAMP:20260420T014228
CREATED:20240723T213706Z
LAST-MODIFIED:20260129T141759Z
UID:10007703-1776672000-1776704400@pinellas.gov
SUMMARY:Mobile Medical Unit - Clearwater Health Department
DESCRIPTION:The mobile unit is a medical office on wheels. It has provided basic care for more than 20 years. Pinellas County homeless can receive free basic health care on the mobile medical unit. Emergency services are not provided. The unit travels to multiple locations in Pinellas County to serve uninsured homeless residents. Learn more about the Mobile Medical Unit.
URL:https://pinellas.gov/event/mobile-medical-unit-clearwater-health-department/2026-04-20/
LOCATION:Clearwater Health Department\, 310 N Myrtle Avenue\, Clearwater\, FL\, 33756\, United States
CATEGORIES:Mobile Medical Unit
ATTACH;FMTTYPE=image/jpeg:https://pinellas.gov/wp-content/uploads/2024/06/New-MMU-van-6-2024.jpg
END:VEVENT
BEGIN:VEVENT
DTSTART;TZID=America/New_York:20260420T083000
DTEND;TZID=America/New_York:20260420T103000
DTSTAMP:20260420T014228
CREATED:20251118T184718Z
LAST-MODIFIED:20251119T171019Z
UID:10007359-1776673800-1776681000@pinellas.gov
SUMMARY:Bicycle Pedestrian Advisory Committee (BPAC) Meeting
DESCRIPTION:More information about Forward Pinellas Bicycle Pedestrian Advisory Committee is available here: https://forwardpinellas.org/advisory-committees/bicycle-pedestrian-advisory-committee/ \nAppeals: Certain public meetings result in actions taken by the public board\, commission or agency that may be appealed; in such case persons are advised that\, if they decide to appeal any decision made at a public meeting/hearing\, they will need a record of the proceedings\, and\, for such purposes\, they may need to ensure that a verbatim record of the proceedings is made\, which record includes the testimony and evidence upon which the appeal is to be based. \nForward Pinellas is committed to making our documents accessible to all audiences If you have accessibility concerns\, please contact info@forwardpinellas.org or call 727-464-8250. Visit https://forwardpinellas.org/legal/website-accessibility-statement/ for more information. \nAdditional Contact: Maria Kelly \n727-464-5648 \nmkelly@forwardpinellas.org
URL:https://pinellas.gov/event/bicycle-pedestrian-advisory-committee-bpac-meeting-31/
LOCATION:310 Court Street\, Lg Conference Room \, 1st floor\, Clearwater
CATEGORIES:Forward Pinellas
ATTACH;FMTTYPE=image/png:https://pinellas.gov/wp-content/uploads/2022/11/Forward-Pinellas-logo-no-tagline.png
END:VEVENT
BEGIN:VEVENT
DTSTART;TZID=America/New_York:20260420T090000
DTEND;TZID=America/New_York:20260420T120000
DTSTAMP:20260420T014228
CREATED:20251212T213741Z
LAST-MODIFIED:20251212T213801Z
UID:10007521-1776675600-1776686400@pinellas.gov
SUMMARY:Development Review Committee - Site Plan Review and Pre-Application Review
DESCRIPTION:MEETING DATES ARE SUBJECT TO CHANGE \nDevelopment Review Committee (DRC) site plan meetings are comment review meetings. Pre-applications meetings are concept plan comment review meetings. Not open to the public. \nThe Development Review Committee is not a Sunshine Body. Cancellations will therefore not be announced.
URL:https://pinellas.gov/event/development-review-committee-site-plan-review-and-pre-application-review-45/
LOCATION:440 Court Street\, 400 Court Street\, Clearwater\, FL\, 33756\, United States
CATEGORIES:Development Review Committee
END:VEVENT
END:VCALENDAR