BEGIN:VCALENDAR
VERSION:2.0
PRODID:-//Pinellas County - ECPv6.15.18//NONSGML v1.0//EN
CALSCALE:GREGORIAN
METHOD:PUBLISH
X-WR-CALNAME:Pinellas County
X-ORIGINAL-URL:https://pinellas.gov
X-WR-CALDESC:Events for Pinellas County
REFRESH-INTERVAL;VALUE=DURATION:PT1H
X-Robots-Tag:noindex
X-PUBLISHED-TTL:PT1H
BEGIN:VTIMEZONE
TZID:America/New_York
BEGIN:DAYLIGHT
TZOFFSETFROM:-0500
TZOFFSETTO:-0400
TZNAME:EDT
DTSTART:20250309T070000
END:DAYLIGHT
BEGIN:STANDARD
TZOFFSETFROM:-0400
TZOFFSETTO:-0500
TZNAME:EST
DTSTART:20251102T060000
END:STANDARD
BEGIN:DAYLIGHT
TZOFFSETFROM:-0500
TZOFFSETTO:-0400
TZNAME:EDT
DTSTART:20260308T070000
END:DAYLIGHT
BEGIN:STANDARD
TZOFFSETFROM:-0400
TZOFFSETTO:-0500
TZNAME:EST
DTSTART:20261101T060000
END:STANDARD
BEGIN:DAYLIGHT
TZOFFSETFROM:-0500
TZOFFSETTO:-0400
TZNAME:EDT
DTSTART:20270314T070000
END:DAYLIGHT
BEGIN:STANDARD
TZOFFSETFROM:-0400
TZOFFSETTO:-0500
TZNAME:EST
DTSTART:20271107T060000
END:STANDARD
END:VTIMEZONE
BEGIN:VEVENT
DTSTART;VALUE=DATE:20260401
DTEND;VALUE=DATE:20260601
DTSTAMP:20260421T012340
CREATED:20260304T195949Z
LAST-MODIFIED:20260408T135637Z
UID:10007832-1775001600-1780271999@pinellas.gov
SUMMARY:Spring Cleaning for Household Chemicals
DESCRIPTION:It’s spring cleaning time! You can drop off household chemicals\, including gasoline\, oil\, paint\, fluorescent bulbs and certain batteries\, for free through the Household Hazardous Waste (HHW) program. Quantity limits apply. Many of these old chemicals are fire hazards and could pollute your home and neighborhood during a hurricane. Clean them out now before the start of hurricane season on June 1 to help protect your community from environmental contamination and avoid waiting in long lines right before a storm! \nYou can drop off household chemicals at the HHW Center\, located at 2855 109th Ave. N.\, St. Petersburg\, which is open select days from 7 a.m. to 5 p.m.\, and HHW North\, located at 29582 U.S. 19 N\, Clearwater\, which is open select Saturdays from 9 a.m. to 2 p.m. \nFor more information\, visit Pinellas.gov/hhw. For business waste\, visit Pinellas.gov/bizwaste.
URL:https://pinellas.gov/event/spring-cleaning-for-household-chemicals-2/
ORGANIZER;CN="Pinellas County Solid Waste":MAILTO:waste@pinellas.gov
END:VEVENT
BEGIN:VEVENT
DTSTART;TZID=America/New_York:20260421T080000
DTEND;TZID=America/New_York:20260421T170000
DTSTAMP:20260421T012340
CREATED:20250106T153258Z
LAST-MODIFIED:20260129T141037Z
UID:10007674-1776758400-1776790800@pinellas.gov
SUMMARY:Mobile Medical Unit - Human Services Office
DESCRIPTION:The mobile unit is a medical office on wheels. It has provided basic care for more than 20 years. Pinellas County homeless can receive free basic health care on the mobile medical unit. Emergency services are not provided. The unit travels to multiple locations in Pinellas County to serve uninsured homeless residents. Learn more about the Mobile Medical Unit.
URL:https://pinellas.gov/event/mobile-medical-unit-human-services-office/2026-04-21/
LOCATION:Human Services – St Pete Office\, 647 1st Avenue N\, St Petersburg\, 33701\, United States
CATEGORIES:Mobile Medical Unit
ATTACH;FMTTYPE=image/jpeg:https://pinellas.gov/wp-content/uploads/2021/07/mmu-truck.jpg
END:VEVENT
BEGIN:VEVENT
DTSTART;TZID=America/New_York:20260421T083000
DTEND;TZID=America/New_York:20260421T113000
DTSTAMP:20260421T012340
CREATED:20260408T175954Z
LAST-MODIFIED:20260408T180326Z
UID:10007872-1776760200-1776771000@pinellas.gov
SUMMARY:26-0180-RFP Banking Services BCC and Clerk Presentations
DESCRIPTION:This meeting invitation covers both presentations. \n\nPresentation #1 – JP Morgan 8:45 to 9:45 – 40-minute presentation with 20 minutes for questions\n\nBreak 15 minutes \n\nPresentation #2 – Wells Fargo 10:00 am to 11:00 am – 40-minute presentation with 20 minutes for questions\n\nIndividual Presentation Evaluation Review 11:00 to 12:00 \n  \nPatricia Cortez – Procurement Analyst Lead \n727 464 3766 \npdcortez@pinellas.gov
URL:https://pinellas.gov/event/26-0180-rfp-banking-services-bcc-and-clerk-presentations/
LOCATION:400 S. Fort Harrison Avenue\, 400 S. Fort Harrison Avenue\, Clearwater\, 33756\, United States
END:VEVENT
BEGIN:VEVENT
DTSTART;TZID=America/New_York:20260421T130000
DTEND;TZID=America/New_York:20260421T140000
DTSTAMP:20260421T012340
CREATED:20260408T175435Z
LAST-MODIFIED:20260408T175754Z
UID:10007871-1776776400-1776780000@pinellas.gov
SUMMARY:26-0180-RFP Banking Services BCC and Clerk Evaluation of Presentations
DESCRIPTION:Microsoft Teams meeting \nJoin: https://teams.microsoft.com/meet/23843806149911?p=XuqcECfEV4GgutbZgi \nMeeting ID: 238 438 061 499 11 \nPasscode: yc6yh2mB \n________________________________________ \nNeed help? | System reference \nDial in by phone \n+1 813-644-3116\,\,317808205# United States\, Tampa \nFind a local number \nPhone conference ID: 317 808 205# \nFor organizers: Meeting options | Reset dial-in PIN \n________________________________________ \nPatricia Cortez – Procurement Analyst Lead \n727 464 3766 \npdcortez@pinellas.gov \n 
URL:https://pinellas.gov/event/26-0180-rfp-banking-services-bcc-and-clerk-evaluation-of-presentations/
LOCATION:Virtual Meeting
END:VEVENT
BEGIN:VEVENT
DTSTART;TZID=America/New_York:20260421T140000
DTEND;TZID=America/New_York:20260421T200000
DTSTAMP:20260421T012340
CREATED:20250924T144836Z
LAST-MODIFIED:20260410T163741Z
UID:10007222-1776780000-1776801600@pinellas.gov
SUMMARY:Board of County Commissioners 2 p.m. Regular Meeting & 6 p.m. Public Hearing
DESCRIPTION:Board of County Commissioners agendas are posted at https://pinellas.legistar.com/Calendar.aspx as soon as they are available. \nThe County makes its best efforts to ensure that public hearings will be streamed live at https://www.youtube.com/@PinellasCountyMeetings and https://pinellas.gov/live-webcast-meetings/\, and broadcast on the Pinellas County cable public access channels: \n\nSpectrum Channel 637\nFrontier Channel 44\nWOW! Channel 18\n\nTo address the County Commission in person\, members of the public are encouraged to preregister at https://comment.pinellas.gov. Preregistration is encouraged but not required if individuals plan to attend the meeting at the Palm Room in person. Those who have not preregistered may register in person when they arrive. \nMembers of the public wishing to address the body virtually via Zoom or by phone are required to preregister by 5:00 P.M. the day before the meeting by visiting  https://comment.pinellas.gov. The registration form requires full name\, address and telephone number if joining by phone\, along with the topic or agenda item to be addressed. Members of the public who cannot access the registration form via the internet may call (727) 464-3000 to request assistance preregistering. Only members of the public who have preregistered by 5:00 P.M. the day before the meeting will be recognized and unmuted to offer comments. If a member of the public does not log in with the same Zoom name or phone number provided in the registration form\, they may not be recognized to speak. In person appearances for comment\, or advance comments as noted below\, are preferred. The County will use its best efforts to facilitate virtual comment\, but citizens using technology to comment virtually are cautioned that this mechanism is being offered by the County as a courtesy and the County does not guarantee the proper functioning of technology involved. \nMembers of the public wishing to provide comments in advance may call the Agenda Comment Line at (727) 464-4400 or complete the online comment form https://www.mypinellasclerk.gov/Home/Finance#127688-bcc-meetings. Comments on any agenda item must be submitted by 5:00 P.M. the day before the meeting. \nPersons who are deaf or hard of hearing may provide public input on any agenda item through use of the State of Florida’s relay service at 7-1-1 or for more information see https://www.ftri.org/relay/faqs. \nMembers of the public who have preregistered by 5 p.m. the day before may attend the meeting via Zoom by visiting Pinellascounty.org/attend or by calling the Zoom webinar at one of the following numbers: 1-646-558-8656; or 1-312-626-6799; or 1-301-715-8592; or 1-346-248-7799; or 1-720-707-2699; or 1-253-215-8782. The Webinar ID number is 238 247 671. \nAll comments on any agenda item received by 5:00 P.M. the day before the meeting will be included as part of the official record for this meeting and will be available to be considered by the County Commission prior to any action taken.
URL:https://pinellas.gov/event/board-of-county-commissioners-2-p-m-regular-meeting-6-p-m-public-hearing-45/
LOCATION:Pinellas County Communications – Palm Room\, 333 Chestnut Street\, Clearwater\, 33756
CATEGORIES:Board of County Commissioners Meetings
ATTACH;FMTTYPE=image/png:https://pinellas.gov/wp-content/uploads/2022/01/PC-seal-on-blue.png
END:VEVENT
END:VCALENDAR