BEGIN:VCALENDAR
VERSION:2.0
PRODID:-//Pinellas County - ECPv6.15.18//NONSGML v1.0//EN
CALSCALE:GREGORIAN
METHOD:PUBLISH
X-WR-CALNAME:Pinellas County
X-ORIGINAL-URL:https://pinellas.gov
X-WR-CALDESC:Events for Pinellas County
REFRESH-INTERVAL;VALUE=DURATION:PT1H
X-Robots-Tag:noindex
X-PUBLISHED-TTL:PT1H
BEGIN:VTIMEZONE
TZID:America/New_York
BEGIN:DAYLIGHT
TZOFFSETFROM:-0500
TZOFFSETTO:-0400
TZNAME:EDT
DTSTART:20210314T070000
END:DAYLIGHT
BEGIN:STANDARD
TZOFFSETFROM:-0400
TZOFFSETTO:-0500
TZNAME:EST
DTSTART:20211107T060000
END:STANDARD
BEGIN:DAYLIGHT
TZOFFSETFROM:-0500
TZOFFSETTO:-0400
TZNAME:EDT
DTSTART:20220313T070000
END:DAYLIGHT
BEGIN:STANDARD
TZOFFSETFROM:-0400
TZOFFSETTO:-0500
TZNAME:EST
DTSTART:20221106T060000
END:STANDARD
BEGIN:DAYLIGHT
TZOFFSETFROM:-0500
TZOFFSETTO:-0400
TZNAME:EDT
DTSTART:20230312T070000
END:DAYLIGHT
BEGIN:STANDARD
TZOFFSETFROM:-0400
TZOFFSETTO:-0500
TZNAME:EST
DTSTART:20231105T060000
END:STANDARD
END:VTIMEZONE
BEGIN:VEVENT
DTSTART;TZID=America/New_York:20220513T120000
DTEND;TZID=America/New_York:20220626T170000
DTSTAMP:20260423T175022
CREATED:20220505T160720Z
LAST-MODIFIED:20220505T162234Z
UID:10001300-1652443200-1656262800@pinellas.gov
SUMMARY:The Things They Left Behind: Grief\, Discovery\, and Remembrance
DESCRIPTION:Wednesdays – Sundays\, noon – 5 p.m.\nJoin Creative Pinellas for an interactive community-curated exhibition to memorialize and honor those who have passed away over the last two years from COVID-19 and other causes. Conceived as a way to use the arts to help our community heal\, the exhibition features crafts\, writing\, photography\, and other memorabilia from those being remembered\, including the artwork of arts administrator Suzanne Ruley. Don’t miss this special opportunity to get to know and carry on the legacy of those who are no longer with us. “THE THINGS THEY LEFT BEHIND: Grief\, Discovery\, and Remembrance” opens with a reception and program on Thursday\, May 12 from 6-8pm and run through June 26.
URL:https://pinellas.gov/event/the-things-they-left-behind-grief-discovery-and-remembrance/
LOCATION:The Gallery at Creative Pinellas\, 12211 Walsingham Rd\, Largo\, FL\, 33778\, United States
CATEGORIES:Arts and Culture Event
ATTACH;FMTTYPE=image/png:https://pinellas.gov/wp-content/uploads/2022/05/THE-THINGS-THEY-LEFT-BEHIND-1920x1080-1-2048x1152-1.png
END:VEVENT
END:VCALENDAR