BEGIN:VCALENDAR
VERSION:2.0
PRODID:-//Pinellas County - ECPv6.15.18//NONSGML v1.0//EN
CALSCALE:GREGORIAN
METHOD:PUBLISH
X-WR-CALNAME:Pinellas County
X-ORIGINAL-URL:https://pinellas.gov
X-WR-CALDESC:Events for Pinellas County
REFRESH-INTERVAL;VALUE=DURATION:PT1H
X-Robots-Tag:noindex
X-PUBLISHED-TTL:PT1H
BEGIN:VTIMEZONE
TZID:America/New_York
BEGIN:DAYLIGHT
TZOFFSETFROM:-0500
TZOFFSETTO:-0400
TZNAME:EDT
DTSTART:20230312T070000
END:DAYLIGHT
BEGIN:STANDARD
TZOFFSETFROM:-0400
TZOFFSETTO:-0500
TZNAME:EST
DTSTART:20231105T060000
END:STANDARD
BEGIN:DAYLIGHT
TZOFFSETFROM:-0500
TZOFFSETTO:-0400
TZNAME:EDT
DTSTART:20240310T070000
END:DAYLIGHT
BEGIN:STANDARD
TZOFFSETFROM:-0400
TZOFFSETTO:-0500
TZNAME:EST
DTSTART:20241103T060000
END:STANDARD
BEGIN:DAYLIGHT
TZOFFSETFROM:-0500
TZOFFSETTO:-0400
TZNAME:EDT
DTSTART:20250309T070000
END:DAYLIGHT
BEGIN:STANDARD
TZOFFSETFROM:-0400
TZOFFSETTO:-0500
TZNAME:EST
DTSTART:20251102T060000
END:STANDARD
END:VTIMEZONE
BEGIN:VEVENT
DTSTART;TZID=America/New_York:20240606T180000
DTEND;TZID=America/New_York:20240606T200000
DTSTAMP:20260421T090153
CREATED:20240509T133257Z
LAST-MODIFIED:20240529T125615Z
UID:10005191-1717696800-1717704000@pinellas.gov
SUMMARY:Pinellas County Charter Review Commission - Canceled
DESCRIPTION:This is a tentative meeting that will only be held if more deliberation is needed after the first public hearing. \nAll Charter Review Commission meetings are open to the public and public comments are welcome. \nAttending virtually by phone or Zoom:  Members of the public may attend a Charter Review Commission meeting via Zoom by visiting https://pinellas.gov/chartermeeting  or by calling the Zoom webinar at one of the following numbers: 305-224-1968 or 646-931-3860 or 301-715-8592. The Webinar ID is 846 3010 6256. There is no guarantee against technology failures. \nA new\, independent\, 13-member CRC is established every eight years to review the County Charter and to decide whether to place amendments on the ballot for voters.  Learn more about the CRC and Pinellas County Charter. \n 
URL:https://pinellas.gov/event/pinellas-county-charter-review-commission-tentative/
LOCATION:Pinellas County Communications\, the Palm Room\, 333 Chestnut St.\, Clearwater\, Florida\, 33756
CATEGORIES:Charter Review Commission
END:VEVENT
BEGIN:VEVENT
DTSTART;TZID=America/New_York:20240610T180000
DTEND;TZID=America/New_York:20240610T200000
DTSTAMP:20260421T090153
CREATED:20240509T133110Z
LAST-MODIFIED:20240611T122942Z
UID:10005190-1718042400-1718049600@pinellas.gov
SUMMARY:Pinellas County Charter Review Commission - Second Public Hearing
DESCRIPTION:This is the second and final public hearing. \nAll Charter Review Commission meetings are open to the public and public comments are welcome. \nAttending virtually by phone or Zoom:  Members of the public may attend a Charter Review Commission meeting via Zoom by visiting https://pinellas.gov/chartermeeting  or by calling the Zoom webinar at one of the following numbers: 305-224-1968 or 646-931-3860 or 301-715-8592. The Webinar ID is 846 3010 6256. There is no guarantee against technology failures. \nA new\, independent\, 13-member CRC is established every eight years to review the County Charter and to decide whether to place amendments on the ballot for voters.  Learn more about the CRC and Pinellas County Charter. \n 
URL:https://pinellas.gov/event/pinellas-county-charter-review-commission-second-public-hearing/
LOCATION:Pinellas County Communications\, the Palm Room\, 333 Chestnut St.\, Clearwater\, Florida\, 33756
CATEGORIES:Charter Review Commission
END:VEVENT
END:VCALENDAR