BEGIN:VCALENDAR
VERSION:2.0
PRODID:-//Pinellas County - ECPv6.15.18//NONSGML v1.0//EN
CALSCALE:GREGORIAN
METHOD:PUBLISH
X-WR-CALNAME:Pinellas County
X-ORIGINAL-URL:https://pinellas.gov
X-WR-CALDESC:Events for Pinellas County
REFRESH-INTERVAL;VALUE=DURATION:PT1H
X-Robots-Tag:noindex
X-PUBLISHED-TTL:PT1H
BEGIN:VTIMEZONE
TZID:America/New_York
BEGIN:DAYLIGHT
TZOFFSETFROM:-0500
TZOFFSETTO:-0400
TZNAME:EDT
DTSTART:20210314T070000
END:DAYLIGHT
BEGIN:STANDARD
TZOFFSETFROM:-0400
TZOFFSETTO:-0500
TZNAME:EST
DTSTART:20211107T060000
END:STANDARD
BEGIN:DAYLIGHT
TZOFFSETFROM:-0500
TZOFFSETTO:-0400
TZNAME:EDT
DTSTART:20220313T070000
END:DAYLIGHT
BEGIN:STANDARD
TZOFFSETFROM:-0400
TZOFFSETTO:-0500
TZNAME:EST
DTSTART:20221106T060000
END:STANDARD
BEGIN:DAYLIGHT
TZOFFSETFROM:-0500
TZOFFSETTO:-0400
TZNAME:EDT
DTSTART:20230312T070000
END:DAYLIGHT
BEGIN:STANDARD
TZOFFSETFROM:-0400
TZOFFSETTO:-0500
TZNAME:EST
DTSTART:20231105T060000
END:STANDARD
END:VTIMEZONE
BEGIN:VEVENT
DTSTART;TZID=America/New_York:20221114T080000
DTEND;TZID=America/New_York:20221114T100000
DTSTAMP:20260422T230454
CREATED:20221101T160140Z
LAST-MODIFIED:20221101T191723Z
UID:10001665-1668412800-1668420000@pinellas.gov
SUMMARY:Fraud Awareness Week 2022 - Shredding Event / Operation Medicine Cabinet
DESCRIPTION:Fraud Awareness Week is a coordinated campaign to minimize the impact of fraud by promoting fraud awareness and consumer education. In recognition of this week\, Pinellas County Consumer Protection is hosting this free\, public event. \nFree onsite shredding and Operation Medicine Cabinet\nDispose of your personal documents and unused medication. \n\nDrive-thru only; NO walk-ups allowed\nParticipants must stay in their vehicles at all times\nLimit 3 boxes/bags of documents per vehicle
URL:https://pinellas.gov/event/fraud-awareness-week-2022/
LOCATION:On Top of the World (South east Parking Lot)\, 2069 World Parkway East\, Clearwater\, FL\, 33763\, United States
CATEGORIES:Consumer Protection Fraud Awareness
ATTACH;FMTTYPE=image/jpeg:https://pinellas.gov/wp-content/uploads/2022/11/Pic-4-scaled.jpg
END:VEVENT
BEGIN:VEVENT
DTSTART;TZID=America/New_York:20221114T103000
DTEND;TZID=America/New_York:20221114T113000
DTSTAMP:20260422T230455
CREATED:20221101T144048Z
LAST-MODIFIED:20221101T191846Z
UID:10001666-1668421800-1668425400@pinellas.gov
SUMMARY:Fraud Awareness Week 2022 - Senior Scams and Crime Prevention Presentation
DESCRIPTION:Senior Scams and Crime Prevention Presentation\nSponsored by Pinellas County Consumer Protection and Pinellas County Sheriff’s Office\nFraud Awareness Week is a coordinated campaign in an effort to minimize the impact of fraud by promoting fraud awareness and consumer education.  In recognition of the week\, Pinellas County Office of Consumer Protection is hosting this free event open to the public. \n       
URL:https://pinellas.gov/event/fraud-awareness-week-2022-2/
LOCATION:On Top of the World (Largo Room-upstairs off the auditorium)\, 2069 World Parkway Blvd.\, East\, Clearwater\, FL\, 33763\, United States
CATEGORIES:Consumer Protection Fraud Awareness
ATTACH;FMTTYPE=image/jpeg:https://pinellas.gov/wp-content/uploads/2022/11/Pic-1.jpg
END:VEVENT
BEGIN:VEVENT
DTSTART;TZID=America/New_York:20221115T100000
DTEND;TZID=America/New_York:20221115T110000
DTSTAMP:20260422T230455
CREATED:20221101T144916Z
LAST-MODIFIED:20221101T192752Z
UID:10001668-1668506400-1668510000@pinellas.gov
SUMMARY:Fraud Awareness Week 2022 - Internet Safety Presentation
DESCRIPTION:Tips to Protect Your Personal & Financial Information Online\nInternet Safety Presentation sponsored by Pinellas County Consumer Protection and Pinellas County Sheriff’s Office \nFraud Awareness Week is a coordinated campaign to minimize the impact of fraud by promoting fraud awareness and consumer education.  In recognition of the week\, Pinellas County Consumer Protection is hosting this free public event.
URL:https://pinellas.gov/event/fraud-awareness-week-2022-internet-safety-presentation/
LOCATION:Hale Activity Center\, 330 Douglas Avenue\, Dunedin\, FL\, 34698\, United States
CATEGORIES:Consumer Protection Fraud Awareness
ATTACH;FMTTYPE=image/jpeg:https://pinellas.gov/wp-content/uploads/2022/11/FAW-2018-5.jpg
END:VEVENT
BEGIN:VEVENT
DTSTART;TZID=America/New_York:20221117T130000
DTEND;TZID=America/New_York:20221117T150000
DTSTAMP:20260422T230455
CREATED:20221101T151003Z
LAST-MODIFIED:20221101T191819Z
UID:10001669-1668690000-1668697200@pinellas.gov
SUMMARY:Fraud Awareness Week 2022 - Consumer Protection Resources
DESCRIPTION:Fraud Awareness Week is a coordinated campaign in an effort to minimize the impact of fraud by promoting fraud awareness and consumer education.  In recognition of the week\, Pinellas County Consumer Protection is hosting the following free event open to the public. \nThe Office of Consumer Protection will have a resource table with a Consumer Protection Investigator available to answer questions and provide free resources on a variety of consumer topics. \nSponsored by Pinellas County Consumer Protection
URL:https://pinellas.gov/event/fraud-awareness-week-2022-consumer-protection-frequently-asked-questions/
LOCATION:Tarpon Springs Library\, 138 E Lemon Street\, Tarpon Springs\, FL\, 34689\, United States
CATEGORIES:Consumer Protection Fraud Awareness
ATTACH;FMTTYPE=image/jpeg:https://pinellas.gov/wp-content/uploads/2022/11/Pic-2-scaled.jpg
END:VEVENT
BEGIN:VEVENT
DTSTART;TZID=America/New_York:20221118T120000
DTEND;TZID=America/New_York:20221118T123000
DTSTAMP:20260422T230455
CREATED:20221101T152329Z
LAST-MODIFIED:20221101T191753Z
UID:10001670-1668772800-1668774600@pinellas.gov
SUMMARY:Fraud Awareness Week 2022 - Consumer Protection Resources
DESCRIPTION:Fraud Awareness Week is a coordinated campaign in an effort to minimize the impact of fraud by promoting fraud awareness and consumer education.  In recognition of the week\, Pinellas County Consumer Protection is hosting the following free event open to the public. \nThe Office of Consumer Protection will have a resource table with a Consumer Protection Investigator available to answer questions and provide free resources on a variety of consumer topics. \nSponsored by Pinellas County Consumer Protection
URL:https://pinellas.gov/event/fraud-awareness-week-2022-consumer-protection-resources/
LOCATION:Sunshine Center\, 330 5th Street North\, St Petersburg\, FL\, 33701\, United States
CATEGORIES:Consumer Protection Fraud Awareness
ATTACH;FMTTYPE=image/jpeg:https://pinellas.gov/wp-content/uploads/2022/11/Pic-2-scaled.jpg
END:VEVENT
BEGIN:VEVENT
DTSTART;TZID=America/New_York:20221118T123000
DTEND;TZID=America/New_York:20221118T130000
DTSTAMP:20260422T230455
CREATED:20221101T153712Z
LAST-MODIFIED:20221101T193741Z
UID:10001672-1668774600-1668776400@pinellas.gov
SUMMARY:Fraud Awareness Week 2022 - Senior Scams and Fraud Awareness Presentation
DESCRIPTION:Fraud Awareness Week is a coordinated campaign in an effort to minimize the impact of fraud by promoting fraud awareness and consumer education.  In recognition of the week\, Pinellas County Office of Consumer Protection is hosting the following free event open to the public. \nSeniors Scams and Fraud Awareness Presentation sponsored by Pinellas County Office of Consumer Protection
URL:https://pinellas.gov/event/fraud-awareness-week-2022-senior-scams-and-fraud-awareness-presentation/
LOCATION:Sunshine Center\, 330 5th Street North\, St Petersburg\, FL\, 33701\, United States
CATEGORIES:Consumer Protection Fraud Awareness
ATTACH;FMTTYPE=image/jpeg:https://pinellas.gov/wp-content/uploads/2022/11/FAW-2018-5.jpg
END:VEVENT
BEGIN:VEVENT
DTSTART;TZID=America/New_York:20221129T113000
DTEND;TZID=America/New_York:20221129T170000
DTSTAMP:20260422T230455
CREATED:20221128T170258Z
LAST-MODIFIED:20221128T165724Z
UID:10002391-1669721400-1669741200@pinellas.gov
SUMMARY:The Office of Consumer Protection will be closed November 29\, 2022\, at 11:30am
DESCRIPTION:The Office of Consumer Protection will be closed on Tuesday\, November 29\, 2022\, from 11:30 am to 5:00 pm for a Staff Meeting/Training. The Office will reopen the following day; however\, you can file a complaint 24/7 through the Pinellas County Access Portal or by emailing consumer@pinellas.gov
URL:https://pinellas.gov/event/the-office-of-consumer-protection-will-be-closed-november-29-2022-at-1130am/
LOCATION:Office of Consumer Protection\, 14250 49th Street N.\, Suite 1000 Room 2\, Clearwater\, FL\, 33762\, United States
CATEGORIES:Consumer Protection Fraud Awareness
END:VEVENT
END:VCALENDAR