BEGIN:VCALENDAR
VERSION:2.0
PRODID:-//Pinellas County - ECPv6.15.18//NONSGML v1.0//EN
CALSCALE:GREGORIAN
METHOD:PUBLISH
X-WR-CALNAME:Pinellas County
X-ORIGINAL-URL:https://pinellas.gov
X-WR-CALDESC:Events for Pinellas County
REFRESH-INTERVAL;VALUE=DURATION:PT1H
X-Robots-Tag:noindex
X-PUBLISHED-TTL:PT1H
BEGIN:VTIMEZONE
TZID:America/New_York
BEGIN:DAYLIGHT
TZOFFSETFROM:-0500
TZOFFSETTO:-0400
TZNAME:EDT
DTSTART:20210314T070000
END:DAYLIGHT
BEGIN:STANDARD
TZOFFSETFROM:-0400
TZOFFSETTO:-0500
TZNAME:EST
DTSTART:20211107T060000
END:STANDARD
BEGIN:DAYLIGHT
TZOFFSETFROM:-0500
TZOFFSETTO:-0400
TZNAME:EDT
DTSTART:20220313T070000
END:DAYLIGHT
BEGIN:STANDARD
TZOFFSETFROM:-0400
TZOFFSETTO:-0500
TZNAME:EST
DTSTART:20221106T060000
END:STANDARD
BEGIN:DAYLIGHT
TZOFFSETFROM:-0500
TZOFFSETTO:-0400
TZNAME:EDT
DTSTART:20230312T070000
END:DAYLIGHT
BEGIN:STANDARD
TZOFFSETFROM:-0400
TZOFFSETTO:-0500
TZNAME:EST
DTSTART:20231105T060000
END:STANDARD
END:VTIMEZONE
BEGIN:VEVENT
DTSTART;TZID=America/New_York:20221209T120000
DTEND;TZID=America/New_York:20221209T170000
DTSTAMP:20260422T202616
CREATED:20221205T184644Z
LAST-MODIFIED:20221205T185046Z
UID:10002420-1670587200-1670605200@pinellas.gov
SUMMARY:The Office of Consumer Protection will be closed December 9\, 2022\, at 12pm
DESCRIPTION:The Office of Consumer Protection will be closed on Friday\, December 9\, 2022\, from 12:00pm to 5:00 pm for a Staff Meeting/Training. The Office will reopen the following Monday; however\, you can file a complaint 24/7 through the Pinellas County Access Portal or by emailing consumer@pinellas.gov
URL:https://pinellas.gov/event/the-office-of-consumer-protection-will-be-closed-december-9-2022-at-12pm/
LOCATION:Office of Consumer Protection\, 14250 49th Street N.\, Suite 1000 Room 2\, Clearwater\, FL\, 33762\, United States
CATEGORIES:Consumer Protection Fraud Awareness
ATTACH;FMTTYPE=image/jpeg:https://pinellas.gov/wp-content/uploads/2022/12/Consumer-Protection-Logo.jpg
END:VEVENT
END:VCALENDAR