BEGIN:VCALENDAR
VERSION:2.0
PRODID:-//Pinellas County - ECPv6.15.18//NONSGML v1.0//EN
CALSCALE:GREGORIAN
METHOD:PUBLISH
X-WR-CALNAME:Pinellas County
X-ORIGINAL-URL:https://pinellas.gov
X-WR-CALDESC:Events for Pinellas County
REFRESH-INTERVAL;VALUE=DURATION:PT1H
X-Robots-Tag:noindex
X-PUBLISHED-TTL:PT1H
BEGIN:VTIMEZONE
TZID:America/New_York
BEGIN:DAYLIGHT
TZOFFSETFROM:-0500
TZOFFSETTO:-0400
TZNAME:EDT
DTSTART:20220313T070000
END:DAYLIGHT
BEGIN:STANDARD
TZOFFSETFROM:-0400
TZOFFSETTO:-0500
TZNAME:EST
DTSTART:20221106T060000
END:STANDARD
BEGIN:DAYLIGHT
TZOFFSETFROM:-0500
TZOFFSETTO:-0400
TZNAME:EDT
DTSTART:20230312T070000
END:DAYLIGHT
BEGIN:STANDARD
TZOFFSETFROM:-0400
TZOFFSETTO:-0500
TZNAME:EST
DTSTART:20231105T060000
END:STANDARD
BEGIN:DAYLIGHT
TZOFFSETFROM:-0500
TZOFFSETTO:-0400
TZNAME:EDT
DTSTART:20240310T070000
END:DAYLIGHT
BEGIN:STANDARD
TZOFFSETFROM:-0400
TZOFFSETTO:-0500
TZNAME:EST
DTSTART:20241103T060000
END:STANDARD
END:VTIMEZONE
BEGIN:VEVENT
DTSTART;TZID=America/New_York:20230321T133000
DTEND;TZID=America/New_York:20230321T150000
DTSTAMP:20260422T100505
CREATED:20230213T215643Z
LAST-MODIFIED:20230216T220922Z
UID:10003387-1679405400-1679410800@pinellas.gov
SUMMARY:Consumer Protection Fraud Prevention Training
DESCRIPTION:Common Scams\nSometimes it’s hard to spot a scam. Con artists use various schemes to defraud millions of people every year. A combination of sophisticated technology and age-old tricks to get people to send money or give out personal information. Protect yourself by knowing what to look out for! Join Pinellas County Consumer Protection to learn ways scammers find their targets\, recognize the signs of a scam and steps to take to avoid falling victim. \nRoom capacity for the event is 50 people.\nEveryone is Welcome!
URL:https://pinellas.gov/event/consumer-protection-fraud-prevention-training/
LOCATION:EpiCenter Room 2-304\, 13805 58th Street N\, Clearwater\, FL\, 33760\, United States
CATEGORIES:Consumer Protection,Consumer Protection Fraud Awareness
ATTACH;FMTTYPE=image/jpeg:https://pinellas.gov/wp-content/uploads/2023/01/identity-theft.jpg
END:VEVENT
END:VCALENDAR