BEGIN:VCALENDAR
VERSION:2.0
PRODID:-//Pinellas County - ECPv6.15.18//NONSGML v1.0//EN
CALSCALE:GREGORIAN
METHOD:PUBLISH
X-WR-CALNAME:Pinellas County
X-ORIGINAL-URL:https://pinellas.gov
X-WR-CALDESC:Events for Pinellas County
REFRESH-INTERVAL;VALUE=DURATION:PT1H
X-Robots-Tag:noindex
X-PUBLISHED-TTL:PT1H
BEGIN:VTIMEZONE
TZID:America/New_York
BEGIN:DAYLIGHT
TZOFFSETFROM:-0500
TZOFFSETTO:-0400
TZNAME:EDT
DTSTART:20220313T070000
END:DAYLIGHT
BEGIN:STANDARD
TZOFFSETFROM:-0400
TZOFFSETTO:-0500
TZNAME:EST
DTSTART:20221106T060000
END:STANDARD
BEGIN:DAYLIGHT
TZOFFSETFROM:-0500
TZOFFSETTO:-0400
TZNAME:EDT
DTSTART:20230312T070000
END:DAYLIGHT
BEGIN:STANDARD
TZOFFSETFROM:-0400
TZOFFSETTO:-0500
TZNAME:EST
DTSTART:20231105T060000
END:STANDARD
BEGIN:DAYLIGHT
TZOFFSETFROM:-0500
TZOFFSETTO:-0400
TZNAME:EDT
DTSTART:20240310T070000
END:DAYLIGHT
BEGIN:STANDARD
TZOFFSETFROM:-0400
TZOFFSETTO:-0500
TZNAME:EST
DTSTART:20241103T060000
END:STANDARD
END:VTIMEZONE
BEGIN:VEVENT
DTSTART;TZID=America/New_York:20230404T133000
DTEND;TZID=America/New_York:20230404T150000
DTSTAMP:20260422T070430
CREATED:20230216T221123Z
LAST-MODIFIED:20230216T221635Z
UID:10003397-1680615000-1680620400@pinellas.gov
SUMMARY:Consumer Protection Fraud Prevention Training
DESCRIPTION:Identity Theft Basics\nIdentity thieves may use personal information to apply for new credit\, make withdraws or charges to existing accounts\, file taxes\, or even use your health insurance to get medical services. \nIdentity theft can happen to anyone\, but simple steps can help lessen the chance of it happening. It’s a serious crime that can affect housing\, finances\, credit history and can costs valuable time and money to restore your good name. Join Pinellas County Consumer Protection to learn what you should know about identity theft and ways to protect personal and financial information. \nRoom capacity for the event is 50 people.\nEveryone is Welcome!
URL:https://pinellas.gov/event/consumer-protection-fraud-prevention-training-2/
LOCATION:EpiCenter Room 2-304\, 13805 58th Street N\, Clearwater\, FL\, 33760\, United States
CATEGORIES:Consumer Protection,Consumer Protection Fraud Awareness
ATTACH;FMTTYPE=image/jpeg:https://pinellas.gov/wp-content/uploads/2023/01/identity-theft.jpg
END:VEVENT
END:VCALENDAR