BEGIN:VCALENDAR
VERSION:2.0
PRODID:-//Pinellas County - ECPv6.15.18//NONSGML v1.0//EN
CALSCALE:GREGORIAN
METHOD:PUBLISH
X-WR-CALNAME:Pinellas County
X-ORIGINAL-URL:https://pinellas.gov
X-WR-CALDESC:Events for Pinellas County
REFRESH-INTERVAL;VALUE=DURATION:PT1H
X-Robots-Tag:noindex
X-PUBLISHED-TTL:PT1H
BEGIN:VTIMEZONE
TZID:America/New_York
BEGIN:DAYLIGHT
TZOFFSETFROM:-0500
TZOFFSETTO:-0400
TZNAME:EDT
DTSTART:20220313T070000
END:DAYLIGHT
BEGIN:STANDARD
TZOFFSETFROM:-0400
TZOFFSETTO:-0500
TZNAME:EST
DTSTART:20221106T060000
END:STANDARD
BEGIN:DAYLIGHT
TZOFFSETFROM:-0500
TZOFFSETTO:-0400
TZNAME:EDT
DTSTART:20230312T070000
END:DAYLIGHT
BEGIN:STANDARD
TZOFFSETFROM:-0400
TZOFFSETTO:-0500
TZNAME:EST
DTSTART:20231105T060000
END:STANDARD
BEGIN:DAYLIGHT
TZOFFSETFROM:-0500
TZOFFSETTO:-0400
TZNAME:EDT
DTSTART:20240310T070000
END:DAYLIGHT
BEGIN:STANDARD
TZOFFSETFROM:-0400
TZOFFSETTO:-0500
TZNAME:EST
DTSTART:20241103T060000
END:STANDARD
END:VTIMEZONE
BEGIN:VEVENT
DTSTART;TZID=America/New_York:20230201T100000
DTEND;TZID=America/New_York:20230201T120000
DTSTAMP:20260423T014440
CREATED:20230109T225328Z
LAST-MODIFIED:20230124T154944Z
UID:10003265-1675245600-1675252800@pinellas.gov
SUMMARY:Identity Theft Awareness Week 2023
DESCRIPTION:Identity theft can happen to anyone\, but simple steps can help lessen the chance it will happen to you. Join Pinellas County Consumer Protection during Identity Theft Awareness Week\, to learn ways to safeguard your personal and financial information. \nInformation Table: Free Resources on How to Safeguard Your Personal & Financial Information. \nConsumer Protection Investigator will be available to answer questions and provide free resources on consumer topics.\nFREE Event Open to the Public.
URL:https://pinellas.gov/event/identity-theft-awareness-week-2023-3/
LOCATION:Largo Library\, 120 Central Park Drive\, Largo\, 33771
CATEGORIES:Consumer Protection Identity Theft Awareness Week
ATTACH;FMTTYPE=image/jpeg:https://pinellas.gov/wp-content/uploads/2023/01/identity-theft.jpg
END:VEVENT
BEGIN:VEVENT
DTSTART;TZID=America/New_York:20230202T103000
DTEND;TZID=America/New_York:20230202T113000
DTSTAMP:20260423T014440
CREATED:20230109T232214Z
LAST-MODIFIED:20230109T233052Z
UID:10003266-1675333800-1675337400@pinellas.gov
SUMMARY:Identity Theft Awareness Week 2023
DESCRIPTION:Tips to Protect Your Personal & Financial Information\nPresentation on ways to prevent identity theft and how to safeguard your information. Hosted by Pinellas County Consumer Protection.\nIdentity theft can happen to anyone\, but simple steps can help lessen the chance it will happen to you. Join Pinellas County Consumer Protection during Identity Theft Awareness Week\, to learn ways to safeguard your personal and financial information. \nFREE Event Open to the Public
URL:https://pinellas.gov/event/identity-theft-awareness-week-2023-4/
LOCATION:On Top of the World (in the Auditorium)\, 2069 World Parkway Blvd. East\, Clearwater\, FL\, 33763\, United States
CATEGORIES:Consumer Protection Identity Theft Awareness Week
ATTACH;FMTTYPE=image/jpeg:https://pinellas.gov/wp-content/uploads/2023/01/identity-theft.jpg
END:VEVENT
END:VCALENDAR