BEGIN:VCALENDAR
VERSION:2.0
PRODID:-//Pinellas County - ECPv6.15.18//NONSGML v1.0//EN
CALSCALE:GREGORIAN
METHOD:PUBLISH
X-WR-CALNAME:Pinellas County
X-ORIGINAL-URL:https://pinellas.gov
X-WR-CALDESC:Events for Pinellas County
REFRESH-INTERVAL;VALUE=DURATION:PT1H
X-Robots-Tag:noindex
X-PUBLISHED-TTL:PT1H
BEGIN:VTIMEZONE
TZID:America/New_York
BEGIN:DAYLIGHT
TZOFFSETFROM:-0500
TZOFFSETTO:-0400
TZNAME:EDT
DTSTART:20230312T070000
END:DAYLIGHT
BEGIN:STANDARD
TZOFFSETFROM:-0400
TZOFFSETTO:-0500
TZNAME:EST
DTSTART:20231105T060000
END:STANDARD
BEGIN:DAYLIGHT
TZOFFSETFROM:-0500
TZOFFSETTO:-0400
TZNAME:EDT
DTSTART:20240310T070000
END:DAYLIGHT
BEGIN:STANDARD
TZOFFSETFROM:-0400
TZOFFSETTO:-0500
TZNAME:EST
DTSTART:20241103T060000
END:STANDARD
BEGIN:DAYLIGHT
TZOFFSETFROM:-0500
TZOFFSETTO:-0400
TZNAME:EDT
DTSTART:20250309T070000
END:DAYLIGHT
BEGIN:STANDARD
TZOFFSETFROM:-0400
TZOFFSETTO:-0500
TZNAME:EST
DTSTART:20251102T060000
END:STANDARD
END:VTIMEZONE
BEGIN:VEVENT
DTSTART;TZID=America/New_York:20240928T080000
DTEND;TZID=America/New_York:20240928T120000
DTSTAMP:20260421T174948
CREATED:20240923T202005Z
LAST-MODIFIED:20240924T160058Z
UID:10005964-1727510400-1727524800@pinellas.gov
SUMMARY:City of Safety Harbor Shredding Event - CANCELLED
DESCRIPTION:“The shredding event that Pinellas County Consumer Protection is participating in with the City of Safety Harbor on 9/28/24 has been CANCELLED \nat Safety Harbor Public Works (1200 Railroad Ave.\, Safety Harbor\, FL 34695). \nPlease contact the City of Safety Harbor at 727-724-1562 for additional information.”
URL:https://pinellas.gov/event/city-of-safety-harbor-shredding-event-rescheduled/
LOCATION:City of Safety Harbor\, 1200 Railroad Ave\, Safety Harbor\, 34695\, United States
CATEGORIES:Consumer Protection
END:VEVENT
END:VCALENDAR