BEGIN:VCALENDAR
VERSION:2.0
PRODID:-//Pinellas County - ECPv6.15.18//NONSGML v1.0//EN
CALSCALE:GREGORIAN
METHOD:PUBLISH
X-WR-CALNAME:Pinellas County
X-ORIGINAL-URL:https://pinellas.gov
X-WR-CALDESC:Events for Pinellas County
REFRESH-INTERVAL;VALUE=DURATION:PT1H
X-Robots-Tag:noindex
X-PUBLISHED-TTL:PT1H
BEGIN:VTIMEZONE
TZID:America/New_York
BEGIN:DAYLIGHT
TZOFFSETFROM:-0500
TZOFFSETTO:-0400
TZNAME:EDT
DTSTART:20190310T070000
END:DAYLIGHT
BEGIN:STANDARD
TZOFFSETFROM:-0400
TZOFFSETTO:-0500
TZNAME:EST
DTSTART:20191103T060000
END:STANDARD
BEGIN:DAYLIGHT
TZOFFSETFROM:-0500
TZOFFSETTO:-0400
TZNAME:EDT
DTSTART:20200308T070000
END:DAYLIGHT
BEGIN:STANDARD
TZOFFSETFROM:-0400
TZOFFSETTO:-0500
TZNAME:EST
DTSTART:20201101T060000
END:STANDARD
BEGIN:DAYLIGHT
TZOFFSETFROM:-0500
TZOFFSETTO:-0400
TZNAME:EDT
DTSTART:20210314T070000
END:DAYLIGHT
BEGIN:STANDARD
TZOFFSETFROM:-0400
TZOFFSETTO:-0500
TZNAME:EST
DTSTART:20211107T060000
END:STANDARD
END:VTIMEZONE
BEGIN:VEVENT
DTSTART;TZID=America/New_York:20200717T090000
DTEND;TZID=America/New_York:20200717T100000
DTSTAMP:20260423T031913
CREATED:20220406T184327Z
LAST-MODIFIED:20221208T015625Z
UID:10001056-1594976400-1594980000@pinellas.gov
SUMMARY:Development Review Committee BOAA
DESCRIPTION:
URL:https://pinellas.gov/event/development-review-committee-boaa-4/
LOCATION:Pinellas County Housing and Community Development\, 310 Court Street\, Clearwater\, FL\, 33756\, United States
CATEGORIES:Development Review Committee
END:VEVENT
BEGIN:VEVENT
DTSTART;TZID=America/New_York:20200717T100000
DTEND;TZID=America/New_York:20200717T110000
DTSTAMP:20260423T031913
CREATED:20220406T184327Z
LAST-MODIFIED:20221208T015609Z
UID:10001057-1594980000-1594983600@pinellas.gov
SUMMARY:Development Review Committee LPA
DESCRIPTION:
URL:https://pinellas.gov/event/development-review-committee-lpa-3/
LOCATION:Pinellas County Housing and Community Development\, 310 Court Street\, Clearwater\, FL\, 33756\, United States
CATEGORIES:Development Review Committee
END:VEVENT
END:VCALENDAR