BEGIN:VCALENDAR
VERSION:2.0
PRODID:-//Pinellas County - ECPv6.15.18//NONSGML v1.0//EN
CALSCALE:GREGORIAN
METHOD:PUBLISH
X-WR-CALNAME:Pinellas County
X-ORIGINAL-URL:https://pinellas.gov
X-WR-CALDESC:Events for Pinellas County
REFRESH-INTERVAL;VALUE=DURATION:PT1H
X-Robots-Tag:noindex
X-PUBLISHED-TTL:PT1H
BEGIN:VTIMEZONE
TZID:America/New_York
BEGIN:DAYLIGHT
TZOFFSETFROM:-0500
TZOFFSETTO:-0400
TZNAME:EDT
DTSTART:20200308T070000
END:DAYLIGHT
BEGIN:STANDARD
TZOFFSETFROM:-0400
TZOFFSETTO:-0500
TZNAME:EST
DTSTART:20201101T060000
END:STANDARD
BEGIN:DAYLIGHT
TZOFFSETFROM:-0500
TZOFFSETTO:-0400
TZNAME:EDT
DTSTART:20210314T070000
END:DAYLIGHT
BEGIN:STANDARD
TZOFFSETFROM:-0400
TZOFFSETTO:-0500
TZNAME:EST
DTSTART:20211107T060000
END:STANDARD
BEGIN:DAYLIGHT
TZOFFSETFROM:-0500
TZOFFSETTO:-0400
TZNAME:EDT
DTSTART:20220313T070000
END:DAYLIGHT
BEGIN:STANDARD
TZOFFSETFROM:-0400
TZOFFSETTO:-0500
TZNAME:EST
DTSTART:20221106T060000
END:STANDARD
END:VTIMEZONE
BEGIN:VEVENT
DTSTART;TZID=America/New_York:20210302T090000
DTEND;TZID=America/New_York:20210302T120000
DTSTAMP:20260422T145544
CREATED:20220406T184338Z
LAST-MODIFIED:20221208T020722Z
UID:10001072-1614675600-1614686400@pinellas.gov
SUMMARY:Development Review Committee
DESCRIPTION:
URL:https://pinellas.gov/event/development-review-committee/
LOCATION:Magnolia Room\, 12520 Ulmerton Road\, Largo\, FL\, 33774\, United States
CATEGORIES:Development Review Committee
END:VEVENT
BEGIN:VEVENT
DTSTART;TZID=America/New_York:20210308T090000
DTEND;TZID=America/New_York:20210308T100000
DTSTAMP:20260422T145544
CREATED:20220406T184338Z
LAST-MODIFIED:20221208T020708Z
UID:10001073-1615194000-1615197600@pinellas.gov
SUMMARY:Development Review Committee BOAA
DESCRIPTION:
URL:https://pinellas.gov/event/development-review-committee-boaa-12/
LOCATION:Pinellas County Housing and Community Development\, 310 Court Street\, Clearwater\, FL\, 33756\, United States
CATEGORIES:Development Review Committee
END:VEVENT
END:VCALENDAR