BEGIN:VCALENDAR
VERSION:2.0
PRODID:-//Pinellas County - ECPv6.15.18//NONSGML v1.0//EN
CALSCALE:GREGORIAN
METHOD:PUBLISH
X-WR-CALNAME:Pinellas County
X-ORIGINAL-URL:https://pinellas.gov
X-WR-CALDESC:Events for Pinellas County
REFRESH-INTERVAL;VALUE=DURATION:PT1H
X-Robots-Tag:noindex
X-PUBLISHED-TTL:PT1H
BEGIN:VTIMEZONE
TZID:America/New_York
BEGIN:DAYLIGHT
TZOFFSETFROM:-0500
TZOFFSETTO:-0400
TZNAME:EDT
DTSTART:20220313T070000
END:DAYLIGHT
BEGIN:STANDARD
TZOFFSETFROM:-0400
TZOFFSETTO:-0500
TZNAME:EST
DTSTART:20221106T060000
END:STANDARD
BEGIN:DAYLIGHT
TZOFFSETFROM:-0500
TZOFFSETTO:-0400
TZNAME:EDT
DTSTART:20230312T070000
END:DAYLIGHT
BEGIN:STANDARD
TZOFFSETFROM:-0400
TZOFFSETTO:-0500
TZNAME:EST
DTSTART:20231105T060000
END:STANDARD
BEGIN:DAYLIGHT
TZOFFSETFROM:-0500
TZOFFSETTO:-0400
TZNAME:EDT
DTSTART:20240310T070000
END:DAYLIGHT
BEGIN:STANDARD
TZOFFSETFROM:-0400
TZOFFSETTO:-0500
TZNAME:EST
DTSTART:20241103T060000
END:STANDARD
END:VTIMEZONE
BEGIN:VEVENT
DTSTART;TZID=America/New_York:20230202T100000
DTEND;TZID=America/New_York:20230202T120000
DTSTAMP:20260421T213848
CREATED:20230112T145937Z
LAST-MODIFIED:20230224T194643Z
UID:10003300-1675332000-1675339200@pinellas.gov
SUMMARY:EMS Medical Control Board Freestanding ER Protocol Meeting
DESCRIPTION:The EMS Medical Control Board Freestanding ER Protocol Sub-Committee was created to discuss best practices for Freestanding ER Utilization in Pinellas County.  Please note that the meeting is scheduled in an in-person format and will be held in Room 132 at the John Morroni EMS & Fire Administration Center\, 12490 Ulmerton Road\, Largo\, FL 33774. \nThe EMS Medical Control Board is an eleven member board\, appointed by the EMS Authority\, consisting of emergency physicians and hospital administrators. The board meets quarterly at: \nEMS and Fire Administration\n12490 Ulmerton Road\nLargo\, FL 33774 \n 
URL:https://pinellas.gov/event/ems-medical-control-board-freestanding-er-protocol-meeting/
LOCATION:EMS and Fire Administration\, 12490 Ulmerton Road\, Largo\, FL\, 33774\, United States
CATEGORIES:Emergency Medical Services Medical Control Board
END:VEVENT
END:VCALENDAR