BEGIN:VCALENDAR
VERSION:2.0
PRODID:-//Pinellas County - ECPv6.15.18//NONSGML v1.0//EN
CALSCALE:GREGORIAN
METHOD:PUBLISH
X-WR-CALNAME:Pinellas County
X-ORIGINAL-URL:https://pinellas.gov
X-WR-CALDESC:Events for Pinellas County
REFRESH-INTERVAL;VALUE=DURATION:PT1H
X-Robots-Tag:noindex
X-PUBLISHED-TTL:PT1H
BEGIN:VTIMEZONE
TZID:America/New_York
BEGIN:DAYLIGHT
TZOFFSETFROM:-0500
TZOFFSETTO:-0400
TZNAME:EDT
DTSTART:20220313T070000
END:DAYLIGHT
BEGIN:STANDARD
TZOFFSETFROM:-0400
TZOFFSETTO:-0500
TZNAME:EST
DTSTART:20221106T060000
END:STANDARD
BEGIN:DAYLIGHT
TZOFFSETFROM:-0500
TZOFFSETTO:-0400
TZNAME:EDT
DTSTART:20230312T070000
END:DAYLIGHT
BEGIN:STANDARD
TZOFFSETFROM:-0400
TZOFFSETTO:-0500
TZNAME:EST
DTSTART:20231105T060000
END:STANDARD
BEGIN:DAYLIGHT
TZOFFSETFROM:-0500
TZOFFSETTO:-0400
TZNAME:EDT
DTSTART:20240310T070000
END:DAYLIGHT
BEGIN:STANDARD
TZOFFSETFROM:-0400
TZOFFSETTO:-0500
TZNAME:EST
DTSTART:20241103T060000
END:STANDARD
END:VTIMEZONE
BEGIN:VEVENT
DTSTART;TZID=America/New_York:20230316T100000
DTEND;TZID=America/New_York:20230316T120000
DTSTAMP:20260421T201245
CREATED:20230308T162722Z
LAST-MODIFIED:20240104T181314Z
UID:10003453-1678960800-1678968000@pinellas.gov
SUMMARY:EMS Medical Control Board
DESCRIPTION:The EMS Medical Control Board is responsible for recommending a medical director for the county EMS system to the EMS Authority and to support the development of necessary rules and regulations governing the county EMS system. \nThe EMS Medical Control Board is made up of 11 member physicians specializing in emergency medicine\, trauma\, and hospital administrators. \nAll citizens appointed by the Pinellas County Board of County Commissioners or an individual commissioner to any county board\, committee\, council\, or authority must comply with these standards of conduct. \nLocation:\nEmergency Medical Services Center\nConference Room 130 \nContact:\nKen Grimes\, 727-582-5754\, kgrimes@pinellas.gov
URL:https://pinellas.gov/event/pinellas-county-emergency-medical-services-ems-medical-control-board-2/
LOCATION:Emergency Medical Services Center\, 12490 Ulmerton Road\, Largo\, FL\, 33774\, United States
CATEGORIES:Emergency Medical Services Medical Control Board
END:VEVENT
END:VCALENDAR