BEGIN:VCALENDAR
VERSION:2.0
PRODID:-//Pinellas County - ECPv6.15.18//NONSGML v1.0//EN
CALSCALE:GREGORIAN
METHOD:PUBLISH
X-WR-CALNAME:Pinellas County
X-ORIGINAL-URL:https://pinellas.gov
X-WR-CALDESC:Events for Pinellas County
REFRESH-INTERVAL;VALUE=DURATION:PT1H
X-Robots-Tag:noindex
X-PUBLISHED-TTL:PT1H
BEGIN:VTIMEZONE
TZID:America/New_York
BEGIN:DAYLIGHT
TZOFFSETFROM:-0500
TZOFFSETTO:-0400
TZNAME:EDT
DTSTART:20210314T070000
END:DAYLIGHT
BEGIN:STANDARD
TZOFFSETFROM:-0400
TZOFFSETTO:-0500
TZNAME:EST
DTSTART:20211107T060000
END:STANDARD
BEGIN:DAYLIGHT
TZOFFSETFROM:-0500
TZOFFSETTO:-0400
TZNAME:EDT
DTSTART:20220313T070000
END:DAYLIGHT
BEGIN:STANDARD
TZOFFSETFROM:-0400
TZOFFSETTO:-0500
TZNAME:EST
DTSTART:20221106T060000
END:STANDARD
BEGIN:DAYLIGHT
TZOFFSETFROM:-0500
TZOFFSETTO:-0400
TZNAME:EDT
DTSTART:20230312T070000
END:DAYLIGHT
BEGIN:STANDARD
TZOFFSETFROM:-0400
TZOFFSETTO:-0500
TZNAME:EST
DTSTART:20231105T060000
END:STANDARD
END:VTIMEZONE
BEGIN:VEVENT
DTSTART;TZID=America/New_York:20221207T140000
DTEND;TZID=America/New_York:20221207T160000
DTSTAMP:20260424T164340
CREATED:20221026T200607Z
LAST-MODIFIED:20221104T142559Z
UID:10001638-1670421600-1670428800@pinellas.gov
SUMMARY:Technical Coordination Committee Meeting
DESCRIPTION:View the Agenda \nTechnical Coordinating Committee (TCC) Meeting \n2:00pm-4:00pm \n310 Court Street\, 1st Floor Conference Room\, Clearwater\, FL \nListen In\, public comment allowed \nhttps://us02web.zoom.us/j/89581830753?pwd=OUhhazh6RnVMdzNWRTNsYVpydjh5Zz09 \nMeeting ID: 895 8183 0753 \nPasscode: 183489 \nPublic participation is solicited without regard to race\, color\, national origin\, age\, sex\, religion\, disability\, or family status. Persons who require special accommodations under the Americans with Disabilities Act or persons who require translation services (free of charge) should contact the Office of Human Rights\, 400 South Fort Harrison Avenue\, Suite 300\, Clearwater\, Florida 33756; [(727) 464-4062 (V/TDD)] at least seven days prior to the meeting.\nAppeals: Certain public meetings result in actions taken by the public board\, commission or agency that may be appealed; in such case persons are advised that\, if they decide to appeal any decision made at a public meeting/hearing\, they will need a record of the proceedings\, and\, for such purposes\, they may need to ensure that a verbatim record of the proceedings is made\, which record includes the testimony and evidence upon which the appeal is to be based.
URL:https://pinellas.gov/event/technical-coordination-committee-meeting/
LOCATION:Forward Pinellas Building\, 310 Court Street\, Clearwater\, FL\, United States
CATEGORIES:Forward Pinellas
ATTACH;FMTTYPE=image/png:https://pinellas.gov/wp-content/uploads/2022/11/Forward-Pinellas-logo-no-tagline.png
END:VEVENT
BEGIN:VEVENT
DTSTART;TZID=America/New_York:20221208T190000
DTEND;TZID=America/New_York:20221208T210000
DTSTAMP:20260424T164340
CREATED:20221026T200356Z
LAST-MODIFIED:20221104T142659Z
UID:10001637-1670526000-1670533200@pinellas.gov
SUMMARY:Citizens Advisory Committee Meeting
DESCRIPTION:View the Agenda \nCITIZENS ADVISORY COMMITTEE (CAC) MEETING \n7:00pm-9:00pm \n310 Court Street\, 1st Floor Conference Room\, Clearwater\, FL \nListen In\, public comment allowed \nhttps://us02web.zoom.us/j/86885331500?pwd=YjBFQXY3NXFMdzlxTjFHeFgvbnA1QT09 \nMeeting ID: 868 8533 1500 \nPasscode: 887600 \nPublic participation is solicited without regard to race\, color\, national origin\, age\, sex\, religion\, disability\, or family status. Persons who require special accommodations under the Americans with Disabilities Act or persons who require translation services (free of charge) should contact the Office of Human Rights\, 400 South Fort Harrison Avenue\, Suite 300\, Clearwater\, Florida 33756; [(727) 464-4062 (V/TDD)] at least seven days prior to the meeting. \nAppeals: Certain public meetings result in actions taken by the public board\, commission or agency that may be appealed; in such case persons are advised that\, if they decide to appeal any decision made at a public meeting/hearing\, they will need a record of the proceedings\, and\, for such purposes\, they may need to ensure that a verbatim record of the proceedings is made\, which record includes the testimony and evidence upon which the appeal is to be based.
URL:https://pinellas.gov/event/citizens-advisory-committee-meeting/
LOCATION:Forward Pinellas Building\, 310 Court Street\, Clearwater\, FL\, United States
CATEGORIES:Forward Pinellas
ATTACH;FMTTYPE=image/png:https://pinellas.gov/wp-content/uploads/2022/11/Forward-Pinellas-logo-no-tagline.png
END:VEVENT
BEGIN:VEVENT
DTSTART;TZID=America/New_York:20221209T093000
DTEND;TZID=America/New_York:20221209T110000
DTSTAMP:20260424T164340
CREATED:20221026T195832Z
LAST-MODIFIED:20221104T165100Z
UID:10001636-1670578200-1670583600@pinellas.gov
SUMMARY:SCTPA Board and TMA Leadership Group Meeting
DESCRIPTION:View the Agenda & Presentations \nThe SCTPA Board & TMA Leadership Group meeting will be held at the Tampa Bay Regional Planning Council located at 4000 Gateway Centre Blvd #100\, Pinellas Park\, FL 33782 . The Zoom link to participate virtually is as follows:  \nTBRPC is inviting you to a scheduled Zoom meeting. \nTopic: TMA Leadership Group \nTime: Dec 9\, 2022 08:30 AM Eastern Time (US and Canada) \nJoin Zoom Meeting \nhttps://us02web.zoom.us/j/81852537677?pwd=aUZjNVg3OGtHVW9aY3hxVnVKVW15Zz09 \nMeeting ID: 818 5253 7677 \nPasscode: 100200 \nDial by your location \n        +1 786 635 1003 US (Miami) \nMeeting ID: 818 5253 7677 \nFor assistance\, contact cfavero@forwardpinellas.org.  \nLearn more about how to attend a meeting and make public comments: https://suncoasttpa.org/how-to-attend-a-meeting/ \nPublic participation is solicited without regard to race\, color\, national origin\, age\, sex\, religion\, disability\, or family status. Persons who require special accommodations under the Americans with Disabilities Act or persons who require translation services (free of charge) should contact the Office of Human Rights\, 400 South Fort Harrison Avenue\, Suite 300\, Clearwater\, Florida 33756; [(727) 464-4062 (V/TDD)] at least seven days prior to the meeting.\nAppeals: Certain public meetings result in actions taken by the public board\, commission or agency that may be appealed; in such case persons are advised that\, if they decide to appeal any decision made at a public meeting/hearing\, they will need a record of the proceedings\, and\, for such purposes\, they may need to ensure that a verbatim record of the proceedings is made\, which record includes the testimony and evidence upon which the appeal is to be based.
URL:https://pinellas.gov/event/sctpa-board-and-tma-leadership-group-meeting/
LOCATION:Tampa Bay Regional Planning Council\, 4000 Gateway Centre Blvd.\, Suite 100\, Pinellas Park\, FL\, 33782\, United States
CATEGORIES:Forward Pinellas
ATTACH;FMTTYPE=image/png:https://pinellas.gov/wp-content/uploads/2022/11/Forward-Pinellas-logo-no-tagline.png
END:VEVENT
BEGIN:VEVENT
DTSTART;TZID=America/New_York:20221214T110000
DTEND;TZID=America/New_York:20221214T130000
DTSTAMP:20260424T164340
CREATED:20221108T135602Z
LAST-MODIFIED:20221116T183425Z
UID:10002051-1671015600-1671022800@pinellas.gov
SUMMARY:Forward Pinellas Legislative Committee Meeting
DESCRIPTION:Maria Kelly – Forward Pinellas\n(727) 464-8250
URL:https://pinellas.gov/event/forward-pinellas-legislative-committee-meeting-8/
LOCATION:Pinellas County Communications\, the Palm Room\, 333 Chestnut St.\, Clearwater\, Florida\, 33756
CATEGORIES:Forward Pinellas
ATTACH;FMTTYPE=image/png:https://pinellas.gov/wp-content/uploads/2022/11/Forward-Pinellas-logo-no-tagline.png
END:VEVENT
BEGIN:VEVENT
DTSTART;TZID=America/New_York:20221214T130000
DTEND;TZID=America/New_York:20221214T150000
DTSTAMP:20260424T164340
CREATED:20221026T195525Z
LAST-MODIFIED:20221116T205917Z
UID:10001635-1671022800-1671030000@pinellas.gov
SUMMARY:Forward Pinellas Board Workshop
DESCRIPTION:The workshop with the Forward Pinellas Board on December 14th will bring together elected leaders countywide to develop a vision and strategic goals that will lead to shared positive outcomes in our community. \nDiscussion will focus on key countywide initiatives and activities to help inform the development of the 2050 Long Range Transportation Plan (LRTP)\, also known as Advantage Pinellas. \nThe meeting will be held in the Pinellas County Communications Building\, Palm Room located at 333 Chestnut Street\, Clearwater. \nThis meeting will be broadcast on PCCTV on Spectrum Channel 637\, Frontier Channel 44 and WOW Channel 18. It also will be streamed on YouTube at https://www.youtube.com/channel/UCakmugpSeqsZbfF5P5P90Dg and at http://pinellas.gov/TV.
URL:https://pinellas.gov/event/forward-pinellas-board-workshop/
LOCATION:Pinellas County Communications\, the Palm Room\, 333 Chestnut St.\, Clearwater\, Florida\, 33756
CATEGORIES:Forward Pinellas,Forward Pinellas Board
ATTACH;FMTTYPE=image/png:https://pinellas.gov/wp-content/uploads/2022/11/Forward-Pinellas-logo-no-tagline.png
END:VEVENT
BEGIN:VEVENT
DTSTART;TZID=America/New_York:20221219T083000
DTEND;TZID=America/New_York:20221219T103000
DTSTAMP:20260424T164340
CREATED:20221121T190906Z
LAST-MODIFIED:20221121T191840Z
UID:10002373-1671438600-1671445800@pinellas.gov
SUMMARY:Bicycle Pedestrian Advisory Committee Meeting
DESCRIPTION:View the Agenda \nBICYCLE PEDESTRIAN ADVISORY COMMITTEE (BPAC) MEETING \n8:30am – 10:30am \n310 Court Street\, 1st Floor Conference Room\, Clearwater\, FL \nListen In\, public comment allowed \nhttps://us02web.zoom.us/j/83969631423?pwd=ODJtRDdSbnM2WS9nSXgzVnNZZTVFdz09 \nMeeting ID: 839 6963 1423 \nPasscode: 355218 \nPublic participation is solicited without regard to race\, color\, national origin\, age\, sex\, religion\, disability\, or family status. Persons who require special accommodations under the Americans with Disabilities Act or persons who require translation services (free of charge) should contact the Office of Human Rights\, 400 South Fort Harrison Avenue\, Suite 300\, Clearwater\, Florida 33756; [(727) 464-4062 (V/TDD)] at least seven days prior to the meeting.\nAppeals: Certain public meetings result in actions taken by the public board\, commission or agency that may be appealed; in such case persons are advised that\, if they decide to appeal any decision made at a public meeting/hearing\, they will need a record of the proceedings\, and\, for such purposes\, they may need to ensure that a verbatim record of the proceedings is made\, which record includes the testimony and evidence upon which the appeal is to be based.
URL:https://pinellas.gov/event/bicycle-pedestrian-advisory-committee-meeting-revision-in-progress/
LOCATION:First Floor Conference Room\, 310 Court Street\, 310 Court St.\, Clearwater\, FL\, 33756\, United States
CATEGORIES:Forward Pinellas
ATTACH;FMTTYPE=image/png:https://pinellas.gov/wp-content/uploads/2022/11/Forward-Pinellas-logo-no-tagline.png
END:VEVENT
END:VCALENDAR