BEGIN:VCALENDAR
VERSION:2.0
PRODID:-//Pinellas County - ECPv6.15.18//NONSGML v1.0//EN
CALSCALE:GREGORIAN
METHOD:PUBLISH
X-WR-CALNAME:Pinellas County
X-ORIGINAL-URL:https://pinellas.gov
X-WR-CALDESC:Events for Pinellas County
REFRESH-INTERVAL;VALUE=DURATION:PT1H
X-Robots-Tag:noindex
X-PUBLISHED-TTL:PT1H
BEGIN:VTIMEZONE
TZID:America/New_York
BEGIN:DAYLIGHT
TZOFFSETFROM:-0500
TZOFFSETTO:-0400
TZNAME:EDT
DTSTART:20200308T070000
END:DAYLIGHT
BEGIN:STANDARD
TZOFFSETFROM:-0400
TZOFFSETTO:-0500
TZNAME:EST
DTSTART:20201101T060000
END:STANDARD
BEGIN:DAYLIGHT
TZOFFSETFROM:-0500
TZOFFSETTO:-0400
TZNAME:EDT
DTSTART:20210314T070000
END:DAYLIGHT
BEGIN:STANDARD
TZOFFSETFROM:-0400
TZOFFSETTO:-0500
TZNAME:EST
DTSTART:20211107T060000
END:STANDARD
BEGIN:DAYLIGHT
TZOFFSETFROM:-0500
TZOFFSETTO:-0400
TZNAME:EDT
DTSTART:20220313T070000
END:DAYLIGHT
BEGIN:STANDARD
TZOFFSETFROM:-0400
TZOFFSETTO:-0500
TZNAME:EST
DTSTART:20221106T060000
END:STANDARD
END:VTIMEZONE
BEGIN:VEVENT
DTSTART;TZID=America/New_York:20211117T180000
DTEND;TZID=America/New_York:20211117T200000
DTSTAMP:20260423T222215
CREATED:20221108T060040Z
LAST-MODIFIED:20221108T060143Z
UID:10002048-1637172000-1637179200@pinellas.gov
SUMMARY:Lealman Community Redevelopment Area Advisory Committee Meetings
DESCRIPTION:Tanya Kurtin\n(727) 464-5310\ntkurtin@pinellas.gov \nLealman Community Redevelopment Area Advisory Committee Meetings \nLOCATION: Lealman Exchange 5175 45th Street North\, St. Petersburg\, FL 33714
URL:https://pinellas.gov/event/lealman-community-redevelopment-area-advisory-committee-meetings/
LOCATION:Lealman Exchange Community Center\, 5175 45th St. N.\, Lealman\, FL\, 33714\, United States
CATEGORIES:Lealman CRA Advisory Committee
END:VEVENT
END:VCALENDAR