BEGIN:VCALENDAR
VERSION:2.0
PRODID:-//Pinellas County - ECPv6.15.18//NONSGML v1.0//EN
CALSCALE:GREGORIAN
METHOD:PUBLISH
X-WR-CALNAME:Pinellas County
X-ORIGINAL-URL:https://pinellas.gov
X-WR-CALDESC:Events for Pinellas County
REFRESH-INTERVAL;VALUE=DURATION:PT1H
X-Robots-Tag:noindex
X-PUBLISHED-TTL:PT1H
BEGIN:VTIMEZONE
TZID:America/New_York
BEGIN:DAYLIGHT
TZOFFSETFROM:-0500
TZOFFSETTO:-0400
TZNAME:EDT
DTSTART:20230312T070000
END:DAYLIGHT
BEGIN:STANDARD
TZOFFSETFROM:-0400
TZOFFSETTO:-0500
TZNAME:EST
DTSTART:20231105T060000
END:STANDARD
BEGIN:DAYLIGHT
TZOFFSETFROM:-0500
TZOFFSETTO:-0400
TZNAME:EDT
DTSTART:20240310T070000
END:DAYLIGHT
BEGIN:STANDARD
TZOFFSETFROM:-0400
TZOFFSETTO:-0500
TZNAME:EST
DTSTART:20241103T060000
END:STANDARD
BEGIN:DAYLIGHT
TZOFFSETFROM:-0500
TZOFFSETTO:-0400
TZNAME:EDT
DTSTART:20250309T070000
END:DAYLIGHT
BEGIN:STANDARD
TZOFFSETFROM:-0400
TZOFFSETTO:-0500
TZNAME:EST
DTSTART:20251102T060000
END:STANDARD
END:VTIMEZONE
BEGIN:VEVENT
DTSTART;TZID=America/New_York:20240603T080000
DTEND;TZID=America/New_York:20240603T163000
DTSTAMP:20260423T082232
CREATED:20230629T194628Z
LAST-MODIFIED:20240723T212134Z
UID:10005196-1717401600-1717432200@pinellas.gov
SUMMARY:Mobile Medical Unit - Safe Harbor
DESCRIPTION:The mobile unit is a medical office on wheels. It has provided basic care for more than 20 years. Pinellas County homeless can receive free basic health care on the mobile medical unit. Emergency services are not provided. The unit travels to multiple locations in Pinellas County to serve uninsured homeless residents. Learn more about the Mobile Medical Unit. \nLa unidad móvil es un consultorio médico sobre ruedas. Ha proporcionado atención básica durante más de 20 años. Las personas sin hogar del Condado Pinellas pueden recibir atención médica básica gratuita en la unidad médica móvil. No se prestan servicios de emergencia. La unidad viaja a varios lugares en el Condado Pinellas para atender a residentes sin seguro médico. Obtenga más información sobre la unidad médica móvil \n 
URL:https://pinellas.gov/event/mobile-medical-unit-safe-harbor/2024-06-03/
LOCATION:Safe Harbor\, 14840 49th Street N\, Clearwater\, 33762
CATEGORIES:Mobile Medical Unit
ATTACH;FMTTYPE=image/jpeg:https://pinellas.gov/wp-content/uploads/2023/06/New-MMU-van-6-2024.jpg
END:VEVENT
BEGIN:VEVENT
DTSTART;TZID=America/New_York:20240604T083000
DTEND;TZID=America/New_York:20240604T120000
DTSTAMP:20260423T082232
CREATED:20221118T213841Z
LAST-MODIFIED:20240916T200319Z
UID:10005208-1717489800-1717502400@pinellas.gov
SUMMARY:Mobile Medical Unit - SVDP Center of Hope
DESCRIPTION:The mobile unit is a medical office on wheels. It has provided basic care for more than 20 years. Pinellas County homeless can receive free basic health care on the mobile medical unit. Emergency services are not provided. The unit travels to multiple locations in Pinellas County to serve uninsured homeless residents. Learn more about the Mobile Medical Unit. \nLa unidad móvil es un consultorio médico sobre ruedas. Ha proporcionado atención básica durante más de 20 años. Las personas sin hogar del Condado Pinellas pueden recibir atención médica básica gratuita en la unidad médica móvil. No se prestan servicios de emergencia. La unidad viaja a varios lugares en el Condado Pinellas para atender a residentes sin seguro médico. Obtenga más información sobre la unidad médica móvil
URL:https://pinellas.gov/event/mobile-medical-unit-svdp-center-of-hope-2/2024-06-04/
LOCATION:SVDP Center of Hope\, 401 15th Street N\, St. Petersburg\, FL\, 33713\, United States
CATEGORIES:Mobile Medical Unit
ATTACH;FMTTYPE=image/jpeg:https://pinellas.gov/wp-content/uploads/2024/06/New-MMU-van-6-2024.jpg
END:VEVENT
BEGIN:VEVENT
DTSTART;TZID=America/New_York:20240605T083000
DTEND;TZID=America/New_York:20240605T163000
DTSTAMP:20260423T082232
CREATED:20230105T155301Z
LAST-MODIFIED:20260129T135206Z
UID:10005220-1717576200-1717605000@pinellas.gov
SUMMARY:Mobile Medical Unit - Pinellas Hope
DESCRIPTION:The mobile unit is a medical office on wheels. It has provided basic care for more than 20 years. Pinellas County homeless can receive free basic health care on the mobile medical unit. Emergency services are not provided. The unit travels to multiple locations in Pinellas County to serve uninsured homeless residents. Learn more about the Mobile Medical Unit. \nLa unidad móvil es un consultorio médico sobre ruedas. Ha proporcionado atención básica durante más de 20 años. Las personas sin hogar del Condado Pinellas pueden recibir atención médica básica gratuita en la unidad médica móvil. No se prestan servicios de emergencia. La unidad viaja a varios lugares en el Condado Pinellas para atender a residentes sin seguro médico. Obtenga más información sobre la unidad médica móvil. \n 
URL:https://pinellas.gov/event/mobile-medical-unit-pinellas-hope-2/2024-06-05/
LOCATION:Pinellas Hope\, 5726 126th Avenue N\, Clearwater\, FL\, 33760\, United States
CATEGORIES:Mobile Medical Unit
ATTACH;FMTTYPE=image/jpeg:https://pinellas.gov/wp-content/uploads/2024/06/New-MMU-van-6-2024.jpg
END:VEVENT
BEGIN:VEVENT
DTSTART;TZID=America/New_York:20240606T083000
DTEND;TZID=America/New_York:20240606T163000
DTSTAMP:20260423T082232
CREATED:20230105T154844Z
LAST-MODIFIED:20260129T142521Z
UID:10005214-1717662600-1717691400@pinellas.gov
SUMMARY:Mobile Medical Unit - Salvation Army ARC
DESCRIPTION:The mobile unit is a medical office on wheels. It has provided basic care for more than 20 years. Pinellas County homeless can receive free basic health care on the mobile medical unit. Emergency services are not provided. The unit travels to multiple locations in Pinellas County to serve uninsured homeless residents. Learn more about the Mobile Medical Unit. \n  \nLa unidad móvil es un consultorio médico sobre ruedas. Ha proporcionado atención básica durante más de 20 años. Las personas sin hogar del Condado Pinellas pueden recibir atención médica básica gratuita en la unidad médica móvil. No se prestan servicios de emergencia. La unidad viaja a varios lugares en el Condado Pinellas para atender a residentes sin seguro médico. Obtenga más información sobre la unidad médica móvil. \n 
URL:https://pinellas.gov/event/mobile-medical-unit-salvation-army-arc-2/2024-06-06/
LOCATION:Salvation Army\, ARC\, 5885 66th Street N\, St. Petersburg\, FL\, 33709\, United States
CATEGORIES:Mobile Medical Unit
ATTACH;FMTTYPE=image/jpeg:https://pinellas.gov/wp-content/uploads/2024/06/New-MMU-van-6-2024.jpg
END:VEVENT
BEGIN:VEVENT
DTSTART;TZID=America/New_York:20240607T083000
DTEND;TZID=America/New_York:20240607T160000
DTSTAMP:20260423T082232
CREATED:20230105T154532Z
LAST-MODIFIED:20260129T143324Z
UID:10005202-1717749000-1717776000@pinellas.gov
SUMMARY:Mobile Medical Unit - Salvation Army One Stop
DESCRIPTION:The mobile unit is a medical office on wheels. It has provided basic care for more than 20 years. Pinellas County homeless can receive free basic health care on the mobile medical unit. Emergency services are not provided. The unit travels to multiple locations in Pinellas County to serve uninsured homeless residents. Learn more about the Mobile Medical Unit. \nLa unidad móvil es un consultorio médico sobre ruedas. Ha proporcionado atención básica durante más de 20 años. Las personas sin hogar del Condado Pinellas pueden recibir atención médica básica gratuita en la unidad médica móvil. No se prestan servicios de emergencia. La unidad viaja a varios lugares en el Condado Pinellas para atender a residentes sin seguro médico. Obtenga más información sobre la unidad médica móvil. \n 
URL:https://pinellas.gov/event/mobile-medical-unit-salvation-army-one-stop-2/2024-06-07/
LOCATION:Salvation Army\, 1400 4th St S.\, St Petersburg\, FL\, 33701\, United States
CATEGORIES:Mobile Medical Unit
ATTACH;FMTTYPE=image/jpeg:https://pinellas.gov/wp-content/uploads/2024/06/New-MMU-van-6-2024.jpg
END:VEVENT
BEGIN:VEVENT
DTSTART;TZID=America/New_York:20240610T080000
DTEND;TZID=America/New_York:20240610T163000
DTSTAMP:20260423T082232
CREATED:20230629T194628Z
LAST-MODIFIED:20240723T212134Z
UID:10005197-1718006400-1718037000@pinellas.gov
SUMMARY:Mobile Medical Unit - Safe Harbor
DESCRIPTION:The mobile unit is a medical office on wheels. It has provided basic care for more than 20 years. Pinellas County homeless can receive free basic health care on the mobile medical unit. Emergency services are not provided. The unit travels to multiple locations in Pinellas County to serve uninsured homeless residents. Learn more about the Mobile Medical Unit. \nLa unidad móvil es un consultorio médico sobre ruedas. Ha proporcionado atención básica durante más de 20 años. Las personas sin hogar del Condado Pinellas pueden recibir atención médica básica gratuita en la unidad médica móvil. No se prestan servicios de emergencia. La unidad viaja a varios lugares en el Condado Pinellas para atender a residentes sin seguro médico. Obtenga más información sobre la unidad médica móvil \n 
URL:https://pinellas.gov/event/mobile-medical-unit-safe-harbor/2024-06-10/
LOCATION:Safe Harbor\, 14840 49th Street N\, Clearwater\, 33762
CATEGORIES:Mobile Medical Unit
ATTACH;FMTTYPE=image/jpeg:https://pinellas.gov/wp-content/uploads/2023/06/New-MMU-van-6-2024.jpg
END:VEVENT
BEGIN:VEVENT
DTSTART;TZID=America/New_York:20240611T083000
DTEND;TZID=America/New_York:20240611T120000
DTSTAMP:20260423T082232
CREATED:20221118T213841Z
LAST-MODIFIED:20240916T200319Z
UID:10005209-1718094600-1718107200@pinellas.gov
SUMMARY:Mobile Medical Unit - SVDP Center of Hope
DESCRIPTION:The mobile unit is a medical office on wheels. It has provided basic care for more than 20 years. Pinellas County homeless can receive free basic health care on the mobile medical unit. Emergency services are not provided. The unit travels to multiple locations in Pinellas County to serve uninsured homeless residents. Learn more about the Mobile Medical Unit. \nLa unidad móvil es un consultorio médico sobre ruedas. Ha proporcionado atención básica durante más de 20 años. Las personas sin hogar del Condado Pinellas pueden recibir atención médica básica gratuita en la unidad médica móvil. No se prestan servicios de emergencia. La unidad viaja a varios lugares en el Condado Pinellas para atender a residentes sin seguro médico. Obtenga más información sobre la unidad médica móvil
URL:https://pinellas.gov/event/mobile-medical-unit-svdp-center-of-hope-2/2024-06-11/
LOCATION:SVDP Center of Hope\, 401 15th Street N\, St. Petersburg\, FL\, 33713\, United States
CATEGORIES:Mobile Medical Unit
ATTACH;FMTTYPE=image/jpeg:https://pinellas.gov/wp-content/uploads/2024/06/New-MMU-van-6-2024.jpg
END:VEVENT
BEGIN:VEVENT
DTSTART;TZID=America/New_York:20240612T083000
DTEND;TZID=America/New_York:20240612T163000
DTSTAMP:20260423T082232
CREATED:20230105T155301Z
LAST-MODIFIED:20260129T135206Z
UID:10005221-1718181000-1718209800@pinellas.gov
SUMMARY:Mobile Medical Unit - Pinellas Hope
DESCRIPTION:The mobile unit is a medical office on wheels. It has provided basic care for more than 20 years. Pinellas County homeless can receive free basic health care on the mobile medical unit. Emergency services are not provided. The unit travels to multiple locations in Pinellas County to serve uninsured homeless residents. Learn more about the Mobile Medical Unit. \nLa unidad móvil es un consultorio médico sobre ruedas. Ha proporcionado atención básica durante más de 20 años. Las personas sin hogar del Condado Pinellas pueden recibir atención médica básica gratuita en la unidad médica móvil. No se prestan servicios de emergencia. La unidad viaja a varios lugares en el Condado Pinellas para atender a residentes sin seguro médico. Obtenga más información sobre la unidad médica móvil. \n 
URL:https://pinellas.gov/event/mobile-medical-unit-pinellas-hope-2/2024-06-12/
LOCATION:Pinellas Hope\, 5726 126th Avenue N\, Clearwater\, FL\, 33760\, United States
CATEGORIES:Mobile Medical Unit
ATTACH;FMTTYPE=image/jpeg:https://pinellas.gov/wp-content/uploads/2024/06/New-MMU-van-6-2024.jpg
END:VEVENT
BEGIN:VEVENT
DTSTART;TZID=America/New_York:20240613T083000
DTEND;TZID=America/New_York:20240613T163000
DTSTAMP:20260423T082232
CREATED:20230105T154844Z
LAST-MODIFIED:20260129T142521Z
UID:10005215-1718267400-1718296200@pinellas.gov
SUMMARY:Mobile Medical Unit - Salvation Army ARC
DESCRIPTION:The mobile unit is a medical office on wheels. It has provided basic care for more than 20 years. Pinellas County homeless can receive free basic health care on the mobile medical unit. Emergency services are not provided. The unit travels to multiple locations in Pinellas County to serve uninsured homeless residents. Learn more about the Mobile Medical Unit. \n  \nLa unidad móvil es un consultorio médico sobre ruedas. Ha proporcionado atención básica durante más de 20 años. Las personas sin hogar del Condado Pinellas pueden recibir atención médica básica gratuita en la unidad médica móvil. No se prestan servicios de emergencia. La unidad viaja a varios lugares en el Condado Pinellas para atender a residentes sin seguro médico. Obtenga más información sobre la unidad médica móvil. \n 
URL:https://pinellas.gov/event/mobile-medical-unit-salvation-army-arc-2/2024-06-13/
LOCATION:Salvation Army\, ARC\, 5885 66th Street N\, St. Petersburg\, FL\, 33709\, United States
CATEGORIES:Mobile Medical Unit
ATTACH;FMTTYPE=image/jpeg:https://pinellas.gov/wp-content/uploads/2024/06/New-MMU-van-6-2024.jpg
END:VEVENT
BEGIN:VEVENT
DTSTART;TZID=America/New_York:20240614T083000
DTEND;TZID=America/New_York:20240614T160000
DTSTAMP:20260423T082232
CREATED:20230105T154532Z
LAST-MODIFIED:20260129T143324Z
UID:10005203-1718353800-1718380800@pinellas.gov
SUMMARY:Mobile Medical Unit - Salvation Army One Stop
DESCRIPTION:The mobile unit is a medical office on wheels. It has provided basic care for more than 20 years. Pinellas County homeless can receive free basic health care on the mobile medical unit. Emergency services are not provided. The unit travels to multiple locations in Pinellas County to serve uninsured homeless residents. Learn more about the Mobile Medical Unit. \nLa unidad móvil es un consultorio médico sobre ruedas. Ha proporcionado atención básica durante más de 20 años. Las personas sin hogar del Condado Pinellas pueden recibir atención médica básica gratuita en la unidad médica móvil. No se prestan servicios de emergencia. La unidad viaja a varios lugares en el Condado Pinellas para atender a residentes sin seguro médico. Obtenga más información sobre la unidad médica móvil. \n 
URL:https://pinellas.gov/event/mobile-medical-unit-salvation-army-one-stop-2/2024-06-14/
LOCATION:Salvation Army\, 1400 4th St S.\, St Petersburg\, FL\, 33701\, United States
CATEGORIES:Mobile Medical Unit
ATTACH;FMTTYPE=image/jpeg:https://pinellas.gov/wp-content/uploads/2024/06/New-MMU-van-6-2024.jpg
END:VEVENT
BEGIN:VEVENT
DTSTART;TZID=America/New_York:20240617T080000
DTEND;TZID=America/New_York:20240617T163000
DTSTAMP:20260423T082232
CREATED:20230629T194628Z
LAST-MODIFIED:20240723T212134Z
UID:10005198-1718611200-1718641800@pinellas.gov
SUMMARY:Mobile Medical Unit - Safe Harbor
DESCRIPTION:The mobile unit is a medical office on wheels. It has provided basic care for more than 20 years. Pinellas County homeless can receive free basic health care on the mobile medical unit. Emergency services are not provided. The unit travels to multiple locations in Pinellas County to serve uninsured homeless residents. Learn more about the Mobile Medical Unit. \nLa unidad móvil es un consultorio médico sobre ruedas. Ha proporcionado atención básica durante más de 20 años. Las personas sin hogar del Condado Pinellas pueden recibir atención médica básica gratuita en la unidad médica móvil. No se prestan servicios de emergencia. La unidad viaja a varios lugares en el Condado Pinellas para atender a residentes sin seguro médico. Obtenga más información sobre la unidad médica móvil \n 
URL:https://pinellas.gov/event/mobile-medical-unit-safe-harbor/2024-06-17/
LOCATION:Safe Harbor\, 14840 49th Street N\, Clearwater\, 33762
CATEGORIES:Mobile Medical Unit
ATTACH;FMTTYPE=image/jpeg:https://pinellas.gov/wp-content/uploads/2023/06/New-MMU-van-6-2024.jpg
END:VEVENT
BEGIN:VEVENT
DTSTART;TZID=America/New_York:20240618T083000
DTEND;TZID=America/New_York:20240618T120000
DTSTAMP:20260423T082232
CREATED:20221118T213841Z
LAST-MODIFIED:20240916T200319Z
UID:10005210-1718699400-1718712000@pinellas.gov
SUMMARY:Mobile Medical Unit - SVDP Center of Hope
DESCRIPTION:The mobile unit is a medical office on wheels. It has provided basic care for more than 20 years. Pinellas County homeless can receive free basic health care on the mobile medical unit. Emergency services are not provided. The unit travels to multiple locations in Pinellas County to serve uninsured homeless residents. Learn more about the Mobile Medical Unit. \nLa unidad móvil es un consultorio médico sobre ruedas. Ha proporcionado atención básica durante más de 20 años. Las personas sin hogar del Condado Pinellas pueden recibir atención médica básica gratuita en la unidad médica móvil. No se prestan servicios de emergencia. La unidad viaja a varios lugares en el Condado Pinellas para atender a residentes sin seguro médico. Obtenga más información sobre la unidad médica móvil
URL:https://pinellas.gov/event/mobile-medical-unit-svdp-center-of-hope-2/2024-06-18/
LOCATION:SVDP Center of Hope\, 401 15th Street N\, St. Petersburg\, FL\, 33713\, United States
CATEGORIES:Mobile Medical Unit
ATTACH;FMTTYPE=image/jpeg:https://pinellas.gov/wp-content/uploads/2024/06/New-MMU-van-6-2024.jpg
END:VEVENT
BEGIN:VEVENT
DTSTART;TZID=America/New_York:20240619T083000
DTEND;TZID=America/New_York:20240619T163000
DTSTAMP:20260423T082232
CREATED:20230105T155301Z
LAST-MODIFIED:20260129T135206Z
UID:10005226-1718785800-1718814600@pinellas.gov
SUMMARY:Mobile Medical Unit - Pinellas Hope
DESCRIPTION:The mobile unit is a medical office on wheels. It has provided basic care for more than 20 years. Pinellas County homeless can receive free basic health care on the mobile medical unit. Emergency services are not provided. The unit travels to multiple locations in Pinellas County to serve uninsured homeless residents. Learn more about the Mobile Medical Unit. \nLa unidad móvil es un consultorio médico sobre ruedas. Ha proporcionado atención básica durante más de 20 años. Las personas sin hogar del Condado Pinellas pueden recibir atención médica básica gratuita en la unidad médica móvil. No se prestan servicios de emergencia. La unidad viaja a varios lugares en el Condado Pinellas para atender a residentes sin seguro médico. Obtenga más información sobre la unidad médica móvil. \n 
URL:https://pinellas.gov/event/mobile-medical-unit-pinellas-hope-2/2024-06-19/
LOCATION:Pinellas Hope\, 5726 126th Avenue N\, Clearwater\, FL\, 33760\, United States
CATEGORIES:Mobile Medical Unit
ATTACH;FMTTYPE=image/jpeg:https://pinellas.gov/wp-content/uploads/2024/06/New-MMU-van-6-2024.jpg
END:VEVENT
BEGIN:VEVENT
DTSTART;TZID=America/New_York:20240620T083000
DTEND;TZID=America/New_York:20240620T163000
DTSTAMP:20260423T082232
CREATED:20230105T154844Z
LAST-MODIFIED:20260129T142521Z
UID:10005216-1718872200-1718901000@pinellas.gov
SUMMARY:Mobile Medical Unit - Salvation Army ARC
DESCRIPTION:The mobile unit is a medical office on wheels. It has provided basic care for more than 20 years. Pinellas County homeless can receive free basic health care on the mobile medical unit. Emergency services are not provided. The unit travels to multiple locations in Pinellas County to serve uninsured homeless residents. Learn more about the Mobile Medical Unit. \n  \nLa unidad móvil es un consultorio médico sobre ruedas. Ha proporcionado atención básica durante más de 20 años. Las personas sin hogar del Condado Pinellas pueden recibir atención médica básica gratuita en la unidad médica móvil. No se prestan servicios de emergencia. La unidad viaja a varios lugares en el Condado Pinellas para atender a residentes sin seguro médico. Obtenga más información sobre la unidad médica móvil. \n 
URL:https://pinellas.gov/event/mobile-medical-unit-salvation-army-arc-2/2024-06-20/
LOCATION:Salvation Army\, ARC\, 5885 66th Street N\, St. Petersburg\, FL\, 33709\, United States
CATEGORIES:Mobile Medical Unit
ATTACH;FMTTYPE=image/jpeg:https://pinellas.gov/wp-content/uploads/2024/06/New-MMU-van-6-2024.jpg
END:VEVENT
BEGIN:VEVENT
DTSTART;TZID=America/New_York:20240621T083000
DTEND;TZID=America/New_York:20240621T160000
DTSTAMP:20260423T082232
CREATED:20230105T154532Z
LAST-MODIFIED:20260129T143324Z
UID:10005204-1718958600-1718985600@pinellas.gov
SUMMARY:Mobile Medical Unit - Salvation Army One Stop
DESCRIPTION:The mobile unit is a medical office on wheels. It has provided basic care for more than 20 years. Pinellas County homeless can receive free basic health care on the mobile medical unit. Emergency services are not provided. The unit travels to multiple locations in Pinellas County to serve uninsured homeless residents. Learn more about the Mobile Medical Unit. \nLa unidad móvil es un consultorio médico sobre ruedas. Ha proporcionado atención básica durante más de 20 años. Las personas sin hogar del Condado Pinellas pueden recibir atención médica básica gratuita en la unidad médica móvil. No se prestan servicios de emergencia. La unidad viaja a varios lugares en el Condado Pinellas para atender a residentes sin seguro médico. Obtenga más información sobre la unidad médica móvil. \n 
URL:https://pinellas.gov/event/mobile-medical-unit-salvation-army-one-stop-2/2024-06-21/
LOCATION:Salvation Army\, 1400 4th St S.\, St Petersburg\, FL\, 33701\, United States
CATEGORIES:Mobile Medical Unit
ATTACH;FMTTYPE=image/jpeg:https://pinellas.gov/wp-content/uploads/2024/06/New-MMU-van-6-2024.jpg
END:VEVENT
BEGIN:VEVENT
DTSTART;TZID=America/New_York:20240624T080000
DTEND;TZID=America/New_York:20240624T163000
DTSTAMP:20260423T082233
CREATED:20230629T194628Z
LAST-MODIFIED:20240723T212134Z
UID:10005199-1719216000-1719246600@pinellas.gov
SUMMARY:Mobile Medical Unit - Safe Harbor
DESCRIPTION:The mobile unit is a medical office on wheels. It has provided basic care for more than 20 years. Pinellas County homeless can receive free basic health care on the mobile medical unit. Emergency services are not provided. The unit travels to multiple locations in Pinellas County to serve uninsured homeless residents. Learn more about the Mobile Medical Unit. \nLa unidad móvil es un consultorio médico sobre ruedas. Ha proporcionado atención básica durante más de 20 años. Las personas sin hogar del Condado Pinellas pueden recibir atención médica básica gratuita en la unidad médica móvil. No se prestan servicios de emergencia. La unidad viaja a varios lugares en el Condado Pinellas para atender a residentes sin seguro médico. Obtenga más información sobre la unidad médica móvil \n 
URL:https://pinellas.gov/event/mobile-medical-unit-safe-harbor/2024-06-24/
LOCATION:Safe Harbor\, 14840 49th Street N\, Clearwater\, 33762
CATEGORIES:Mobile Medical Unit
ATTACH;FMTTYPE=image/jpeg:https://pinellas.gov/wp-content/uploads/2023/06/New-MMU-van-6-2024.jpg
END:VEVENT
BEGIN:VEVENT
DTSTART;TZID=America/New_York:20240625T083000
DTEND;TZID=America/New_York:20240625T120000
DTSTAMP:20260423T082233
CREATED:20221118T213841Z
LAST-MODIFIED:20240916T200319Z
UID:10005211-1719304200-1719316800@pinellas.gov
SUMMARY:Mobile Medical Unit - SVDP Center of Hope
DESCRIPTION:The mobile unit is a medical office on wheels. It has provided basic care for more than 20 years. Pinellas County homeless can receive free basic health care on the mobile medical unit. Emergency services are not provided. The unit travels to multiple locations in Pinellas County to serve uninsured homeless residents. Learn more about the Mobile Medical Unit. \nLa unidad móvil es un consultorio médico sobre ruedas. Ha proporcionado atención básica durante más de 20 años. Las personas sin hogar del Condado Pinellas pueden recibir atención médica básica gratuita en la unidad médica móvil. No se prestan servicios de emergencia. La unidad viaja a varios lugares en el Condado Pinellas para atender a residentes sin seguro médico. Obtenga más información sobre la unidad médica móvil
URL:https://pinellas.gov/event/mobile-medical-unit-svdp-center-of-hope-2/2024-06-25/
LOCATION:SVDP Center of Hope\, 401 15th Street N\, St. Petersburg\, FL\, 33713\, United States
CATEGORIES:Mobile Medical Unit
ATTACH;FMTTYPE=image/jpeg:https://pinellas.gov/wp-content/uploads/2024/06/New-MMU-van-6-2024.jpg
END:VEVENT
BEGIN:VEVENT
DTSTART;TZID=America/New_York:20240626T083000
DTEND;TZID=America/New_York:20240626T163000
DTSTAMP:20260423T082233
CREATED:20230105T155301Z
LAST-MODIFIED:20260129T135206Z
UID:10005222-1719390600-1719419400@pinellas.gov
SUMMARY:Mobile Medical Unit - Pinellas Hope
DESCRIPTION:The mobile unit is a medical office on wheels. It has provided basic care for more than 20 years. Pinellas County homeless can receive free basic health care on the mobile medical unit. Emergency services are not provided. The unit travels to multiple locations in Pinellas County to serve uninsured homeless residents. Learn more about the Mobile Medical Unit. \nLa unidad móvil es un consultorio médico sobre ruedas. Ha proporcionado atención básica durante más de 20 años. Las personas sin hogar del Condado Pinellas pueden recibir atención médica básica gratuita en la unidad médica móvil. No se prestan servicios de emergencia. La unidad viaja a varios lugares en el Condado Pinellas para atender a residentes sin seguro médico. Obtenga más información sobre la unidad médica móvil. \n 
URL:https://pinellas.gov/event/mobile-medical-unit-pinellas-hope-2/2024-06-26/
LOCATION:Pinellas Hope\, 5726 126th Avenue N\, Clearwater\, FL\, 33760\, United States
CATEGORIES:Mobile Medical Unit
ATTACH;FMTTYPE=image/jpeg:https://pinellas.gov/wp-content/uploads/2024/06/New-MMU-van-6-2024.jpg
END:VEVENT
BEGIN:VEVENT
DTSTART;TZID=America/New_York:20240627T083000
DTEND;TZID=America/New_York:20240627T163000
DTSTAMP:20260423T082233
CREATED:20230105T154844Z
LAST-MODIFIED:20260129T142521Z
UID:10005217-1719477000-1719505800@pinellas.gov
SUMMARY:Mobile Medical Unit - Salvation Army ARC
DESCRIPTION:The mobile unit is a medical office on wheels. It has provided basic care for more than 20 years. Pinellas County homeless can receive free basic health care on the mobile medical unit. Emergency services are not provided. The unit travels to multiple locations in Pinellas County to serve uninsured homeless residents. Learn more about the Mobile Medical Unit. \n  \nLa unidad móvil es un consultorio médico sobre ruedas. Ha proporcionado atención básica durante más de 20 años. Las personas sin hogar del Condado Pinellas pueden recibir atención médica básica gratuita en la unidad médica móvil. No se prestan servicios de emergencia. La unidad viaja a varios lugares en el Condado Pinellas para atender a residentes sin seguro médico. Obtenga más información sobre la unidad médica móvil. \n 
URL:https://pinellas.gov/event/mobile-medical-unit-salvation-army-arc-2/2024-06-27/
LOCATION:Salvation Army\, ARC\, 5885 66th Street N\, St. Petersburg\, FL\, 33709\, United States
CATEGORIES:Mobile Medical Unit
ATTACH;FMTTYPE=image/jpeg:https://pinellas.gov/wp-content/uploads/2024/06/New-MMU-van-6-2024.jpg
END:VEVENT
BEGIN:VEVENT
DTSTART;TZID=America/New_York:20240628T083000
DTEND;TZID=America/New_York:20240628T160000
DTSTAMP:20260423T082233
CREATED:20230105T154532Z
LAST-MODIFIED:20260129T143324Z
UID:10005205-1719563400-1719590400@pinellas.gov
SUMMARY:Mobile Medical Unit - Salvation Army One Stop
DESCRIPTION:The mobile unit is a medical office on wheels. It has provided basic care for more than 20 years. Pinellas County homeless can receive free basic health care on the mobile medical unit. Emergency services are not provided. The unit travels to multiple locations in Pinellas County to serve uninsured homeless residents. Learn more about the Mobile Medical Unit. \nLa unidad móvil es un consultorio médico sobre ruedas. Ha proporcionado atención básica durante más de 20 años. Las personas sin hogar del Condado Pinellas pueden recibir atención médica básica gratuita en la unidad médica móvil. No se prestan servicios de emergencia. La unidad viaja a varios lugares en el Condado Pinellas para atender a residentes sin seguro médico. Obtenga más información sobre la unidad médica móvil. \n 
URL:https://pinellas.gov/event/mobile-medical-unit-salvation-army-one-stop-2/2024-06-28/
LOCATION:Salvation Army\, 1400 4th St S.\, St Petersburg\, FL\, 33701\, United States
CATEGORIES:Mobile Medical Unit
ATTACH;FMTTYPE=image/jpeg:https://pinellas.gov/wp-content/uploads/2024/06/New-MMU-van-6-2024.jpg
END:VEVENT
END:VCALENDAR