BEGIN:VCALENDAR
VERSION:2.0
PRODID:-//Pinellas County - ECPv6.15.18//NONSGML v1.0//EN
CALSCALE:GREGORIAN
METHOD:PUBLISH
X-WR-CALNAME:Pinellas County
X-ORIGINAL-URL:https://pinellas.gov
X-WR-CALDESC:Events for Pinellas County
REFRESH-INTERVAL;VALUE=DURATION:PT1H
X-Robots-Tag:noindex
X-PUBLISHED-TTL:PT1H
BEGIN:VTIMEZONE
TZID:America/New_York
BEGIN:DAYLIGHT
TZOFFSETFROM:-0500
TZOFFSETTO:-0400
TZNAME:EDT
DTSTART:20230312T070000
END:DAYLIGHT
BEGIN:STANDARD
TZOFFSETFROM:-0400
TZOFFSETTO:-0500
TZNAME:EST
DTSTART:20231105T060000
END:STANDARD
BEGIN:DAYLIGHT
TZOFFSETFROM:-0500
TZOFFSETTO:-0400
TZNAME:EDT
DTSTART:20240310T070000
END:DAYLIGHT
BEGIN:STANDARD
TZOFFSETFROM:-0400
TZOFFSETTO:-0500
TZNAME:EST
DTSTART:20241103T060000
END:STANDARD
BEGIN:DAYLIGHT
TZOFFSETFROM:-0500
TZOFFSETTO:-0400
TZNAME:EDT
DTSTART:20250309T070000
END:DAYLIGHT
BEGIN:STANDARD
TZOFFSETFROM:-0400
TZOFFSETTO:-0500
TZNAME:EST
DTSTART:20251102T060000
END:STANDARD
END:VTIMEZONE
BEGIN:VEVENT
DTSTART;TZID=America/New_York:20240701T080000
DTEND;TZID=America/New_York:20240701T163000
DTSTAMP:20260423T070153
CREATED:20230629T194628Z
LAST-MODIFIED:20240723T212134Z
UID:10005200-1719820800-1719851400@pinellas.gov
SUMMARY:Mobile Medical Unit - Safe Harbor
DESCRIPTION:The mobile unit is a medical office on wheels. It has provided basic care for more than 20 years. Pinellas County homeless can receive free basic health care on the mobile medical unit. Emergency services are not provided. The unit travels to multiple locations in Pinellas County to serve uninsured homeless residents. Learn more about the Mobile Medical Unit. \nLa unidad móvil es un consultorio médico sobre ruedas. Ha proporcionado atención básica durante más de 20 años. Las personas sin hogar del Condado Pinellas pueden recibir atención médica básica gratuita en la unidad médica móvil. No se prestan servicios de emergencia. La unidad viaja a varios lugares en el Condado Pinellas para atender a residentes sin seguro médico. Obtenga más información sobre la unidad médica móvil \n 
URL:https://pinellas.gov/event/mobile-medical-unit-safe-harbor/2024-07-01/
LOCATION:Safe Harbor\, 14840 49th Street N\, Clearwater\, 33762
CATEGORIES:Mobile Medical Unit
ATTACH;FMTTYPE=image/jpeg:https://pinellas.gov/wp-content/uploads/2023/06/New-MMU-van-6-2024.jpg
END:VEVENT
BEGIN:VEVENT
DTSTART;TZID=America/New_York:20240702T083000
DTEND;TZID=America/New_York:20240702T120000
DTSTAMP:20260423T070153
CREATED:20221118T213841Z
LAST-MODIFIED:20240916T200319Z
UID:10005212-1719909000-1719921600@pinellas.gov
SUMMARY:Mobile Medical Unit - SVDP Center of Hope
DESCRIPTION:The mobile unit is a medical office on wheels. It has provided basic care for more than 20 years. Pinellas County homeless can receive free basic health care on the mobile medical unit. Emergency services are not provided. The unit travels to multiple locations in Pinellas County to serve uninsured homeless residents. Learn more about the Mobile Medical Unit. \nLa unidad móvil es un consultorio médico sobre ruedas. Ha proporcionado atención básica durante más de 20 años. Las personas sin hogar del Condado Pinellas pueden recibir atención médica básica gratuita en la unidad médica móvil. No se prestan servicios de emergencia. La unidad viaja a varios lugares en el Condado Pinellas para atender a residentes sin seguro médico. Obtenga más información sobre la unidad médica móvil
URL:https://pinellas.gov/event/mobile-medical-unit-svdp-center-of-hope-2/2024-07-02/
LOCATION:SVDP Center of Hope\, 401 15th Street N\, St. Petersburg\, FL\, 33713\, United States
CATEGORIES:Mobile Medical Unit
ATTACH;FMTTYPE=image/jpeg:https://pinellas.gov/wp-content/uploads/2024/06/New-MMU-van-6-2024.jpg
END:VEVENT
BEGIN:VEVENT
DTSTART;TZID=America/New_York:20240703T083000
DTEND;TZID=America/New_York:20240703T163000
DTSTAMP:20260423T070153
CREATED:20230105T155301Z
LAST-MODIFIED:20260129T135206Z
UID:10005223-1719995400-1720024200@pinellas.gov
SUMMARY:Mobile Medical Unit - Pinellas Hope
DESCRIPTION:The mobile unit is a medical office on wheels. It has provided basic care for more than 20 years. Pinellas County homeless can receive free basic health care on the mobile medical unit. Emergency services are not provided. The unit travels to multiple locations in Pinellas County to serve uninsured homeless residents. Learn more about the Mobile Medical Unit. \nLa unidad móvil es un consultorio médico sobre ruedas. Ha proporcionado atención básica durante más de 20 años. Las personas sin hogar del Condado Pinellas pueden recibir atención médica básica gratuita en la unidad médica móvil. No se prestan servicios de emergencia. La unidad viaja a varios lugares en el Condado Pinellas para atender a residentes sin seguro médico. Obtenga más información sobre la unidad médica móvil. \n 
URL:https://pinellas.gov/event/mobile-medical-unit-pinellas-hope-2/2024-07-03/
LOCATION:Pinellas Hope\, 5726 126th Avenue N\, Clearwater\, FL\, 33760\, United States
CATEGORIES:Mobile Medical Unit
ATTACH;FMTTYPE=image/jpeg:https://pinellas.gov/wp-content/uploads/2024/06/New-MMU-van-6-2024.jpg
END:VEVENT
BEGIN:VEVENT
DTSTART;TZID=America/New_York:20240708T080000
DTEND;TZID=America/New_York:20240708T163000
DTSTAMP:20260423T070153
CREATED:20230629T194628Z
LAST-MODIFIED:20240723T212134Z
UID:10005201-1720425600-1720456200@pinellas.gov
SUMMARY:Mobile Medical Unit - Safe Harbor
DESCRIPTION:The mobile unit is a medical office on wheels. It has provided basic care for more than 20 years. Pinellas County homeless can receive free basic health care on the mobile medical unit. Emergency services are not provided. The unit travels to multiple locations in Pinellas County to serve uninsured homeless residents. Learn more about the Mobile Medical Unit. \nLa unidad móvil es un consultorio médico sobre ruedas. Ha proporcionado atención básica durante más de 20 años. Las personas sin hogar del Condado Pinellas pueden recibir atención médica básica gratuita en la unidad médica móvil. No se prestan servicios de emergencia. La unidad viaja a varios lugares en el Condado Pinellas para atender a residentes sin seguro médico. Obtenga más información sobre la unidad médica móvil \n 
URL:https://pinellas.gov/event/mobile-medical-unit-safe-harbor/2024-07-08/
LOCATION:Safe Harbor\, 14840 49th Street N\, Clearwater\, 33762
CATEGORIES:Mobile Medical Unit
ATTACH;FMTTYPE=image/jpeg:https://pinellas.gov/wp-content/uploads/2023/06/New-MMU-van-6-2024.jpg
END:VEVENT
BEGIN:VEVENT
DTSTART;TZID=America/New_York:20240709T083000
DTEND;TZID=America/New_York:20240709T120000
DTSTAMP:20260423T070153
CREATED:20221118T213841Z
LAST-MODIFIED:20240916T200319Z
UID:10005326-1720513800-1720526400@pinellas.gov
SUMMARY:Mobile Medical Unit - SVDP Center of Hope
DESCRIPTION:The mobile unit is a medical office on wheels. It has provided basic care for more than 20 years. Pinellas County homeless can receive free basic health care on the mobile medical unit. Emergency services are not provided. The unit travels to multiple locations in Pinellas County to serve uninsured homeless residents. Learn more about the Mobile Medical Unit. \nLa unidad móvil es un consultorio médico sobre ruedas. Ha proporcionado atención básica durante más de 20 años. Las personas sin hogar del Condado Pinellas pueden recibir atención médica básica gratuita en la unidad médica móvil. No se prestan servicios de emergencia. La unidad viaja a varios lugares en el Condado Pinellas para atender a residentes sin seguro médico. Obtenga más información sobre la unidad médica móvil
URL:https://pinellas.gov/event/mobile-medical-unit-svdp-center-of-hope-2/2024-07-09/
LOCATION:SVDP Center of Hope\, 401 15th Street N\, St. Petersburg\, FL\, 33713\, United States
CATEGORIES:Mobile Medical Unit
ATTACH;FMTTYPE=image/jpeg:https://pinellas.gov/wp-content/uploads/2024/06/New-MMU-van-6-2024.jpg
END:VEVENT
BEGIN:VEVENT
DTSTART;TZID=America/New_York:20240709T083000
DTEND;TZID=America/New_York:20240709T120000
DTSTAMP:20260423T070153
CREATED:20240702T204112Z
LAST-MODIFIED:20240702T204152Z
UID:10005213-1720513800-1720526400@pinellas.gov
SUMMARY:Mobile Medical Unit - SVDP Center of Hope
DESCRIPTION:The mobile unit is a medical office on wheels. It has provided basic care for more than 20 years. Pinellas County homeless can receive free basic health care on the mobile medical unit. Emergency services are not provided. The unit travels to multiple locations in Pinellas County to serve uninsured homeless residents. Learn more about the Mobile Medical Unit. \nLa unidad móvil es un consultorio médico sobre ruedas. Ha proporcionado atención básica durante más de 20 años. Las personas sin hogar del Condado Pinellas pueden recibir atención médica básica gratuita en la unidad médica móvil. No se prestan servicios de emergencia. La unidad viaja a varios lugares en el Condado Pinellas para atender a residentes sin seguro médico. Obtenga más información sobre la unidad médica móvil
URL:https://pinellas.gov/event/mobile-medical-unit-svdp-center-of-hope-2-2/
LOCATION:SVDP Center of Hope\, 401 15th Street N\, St. Petersburg\, FL\, 33713\, United States
CATEGORIES:Mobile Medical Unit
ATTACH;FMTTYPE=image/jpeg:https://pinellas.gov/wp-content/uploads/2024/06/New-MMU-van-6-2024.jpg
END:VEVENT
BEGIN:VEVENT
DTSTART;TZID=America/New_York:20240710T083000
DTEND;TZID=America/New_York:20240710T163000
DTSTAMP:20260423T070153
CREATED:20230105T155301Z
LAST-MODIFIED:20260129T135206Z
UID:10005224-1720600200-1720629000@pinellas.gov
SUMMARY:Mobile Medical Unit - Pinellas Hope
DESCRIPTION:The mobile unit is a medical office on wheels. It has provided basic care for more than 20 years. Pinellas County homeless can receive free basic health care on the mobile medical unit. Emergency services are not provided. The unit travels to multiple locations in Pinellas County to serve uninsured homeless residents. Learn more about the Mobile Medical Unit. \nLa unidad móvil es un consultorio médico sobre ruedas. Ha proporcionado atención básica durante más de 20 años. Las personas sin hogar del Condado Pinellas pueden recibir atención médica básica gratuita en la unidad médica móvil. No se prestan servicios de emergencia. La unidad viaja a varios lugares en el Condado Pinellas para atender a residentes sin seguro médico. Obtenga más información sobre la unidad médica móvil. \n 
URL:https://pinellas.gov/event/mobile-medical-unit-pinellas-hope-2/2024-07-10/
LOCATION:Pinellas Hope\, 5726 126th Avenue N\, Clearwater\, FL\, 33760\, United States
CATEGORIES:Mobile Medical Unit
ATTACH;FMTTYPE=image/jpeg:https://pinellas.gov/wp-content/uploads/2024/06/New-MMU-van-6-2024.jpg
END:VEVENT
BEGIN:VEVENT
DTSTART;TZID=America/New_York:20240711T083000
DTEND;TZID=America/New_York:20240711T163000
DTSTAMP:20260423T070153
CREATED:20230105T154844Z
LAST-MODIFIED:20260129T142521Z
UID:10005219-1720686600-1720715400@pinellas.gov
SUMMARY:Mobile Medical Unit - Salvation Army ARC
DESCRIPTION:The mobile unit is a medical office on wheels. It has provided basic care for more than 20 years. Pinellas County homeless can receive free basic health care on the mobile medical unit. Emergency services are not provided. The unit travels to multiple locations in Pinellas County to serve uninsured homeless residents. Learn more about the Mobile Medical Unit. \n  \nLa unidad móvil es un consultorio médico sobre ruedas. Ha proporcionado atención básica durante más de 20 años. Las personas sin hogar del Condado Pinellas pueden recibir atención médica básica gratuita en la unidad médica móvil. No se prestan servicios de emergencia. La unidad viaja a varios lugares en el Condado Pinellas para atender a residentes sin seguro médico. Obtenga más información sobre la unidad médica móvil. \n 
URL:https://pinellas.gov/event/mobile-medical-unit-salvation-army-arc-2/2024-07-11/
LOCATION:Salvation Army\, ARC\, 5885 66th Street N\, St. Petersburg\, FL\, 33709\, United States
CATEGORIES:Mobile Medical Unit
ATTACH;FMTTYPE=image/jpeg:https://pinellas.gov/wp-content/uploads/2024/06/New-MMU-van-6-2024.jpg
END:VEVENT
BEGIN:VEVENT
DTSTART;TZID=America/New_York:20240712T083000
DTEND;TZID=America/New_York:20240712T160000
DTSTAMP:20260423T070153
CREATED:20230105T154532Z
LAST-MODIFIED:20260129T143324Z
UID:10005207-1720773000-1720800000@pinellas.gov
SUMMARY:Mobile Medical Unit - Salvation Army One Stop
DESCRIPTION:The mobile unit is a medical office on wheels. It has provided basic care for more than 20 years. Pinellas County homeless can receive free basic health care on the mobile medical unit. Emergency services are not provided. The unit travels to multiple locations in Pinellas County to serve uninsured homeless residents. Learn more about the Mobile Medical Unit. \nLa unidad móvil es un consultorio médico sobre ruedas. Ha proporcionado atención básica durante más de 20 años. Las personas sin hogar del Condado Pinellas pueden recibir atención médica básica gratuita en la unidad médica móvil. No se prestan servicios de emergencia. La unidad viaja a varios lugares en el Condado Pinellas para atender a residentes sin seguro médico. Obtenga más información sobre la unidad médica móvil. \n 
URL:https://pinellas.gov/event/mobile-medical-unit-salvation-army-one-stop-2/2024-07-12/
LOCATION:Salvation Army\, 1400 4th St S.\, St Petersburg\, FL\, 33701\, United States
CATEGORIES:Mobile Medical Unit
ATTACH;FMTTYPE=image/jpeg:https://pinellas.gov/wp-content/uploads/2024/06/New-MMU-van-6-2024.jpg
END:VEVENT
BEGIN:VEVENT
DTSTART;TZID=America/New_York:20240715T080000
DTEND;TZID=America/New_York:20240715T163000
DTSTAMP:20260423T070153
CREATED:20230629T194628Z
LAST-MODIFIED:20240723T212134Z
UID:10005334-1721030400-1721061000@pinellas.gov
SUMMARY:Mobile Medical Unit - Safe Harbor
DESCRIPTION:The mobile unit is a medical office on wheels. It has provided basic care for more than 20 years. Pinellas County homeless can receive free basic health care on the mobile medical unit. Emergency services are not provided. The unit travels to multiple locations in Pinellas County to serve uninsured homeless residents. Learn more about the Mobile Medical Unit. \nLa unidad móvil es un consultorio médico sobre ruedas. Ha proporcionado atención básica durante más de 20 años. Las personas sin hogar del Condado Pinellas pueden recibir atención médica básica gratuita en la unidad médica móvil. No se prestan servicios de emergencia. La unidad viaja a varios lugares en el Condado Pinellas para atender a residentes sin seguro médico. Obtenga más información sobre la unidad médica móvil \n 
URL:https://pinellas.gov/event/mobile-medical-unit-safe-harbor/2024-07-15/
LOCATION:Safe Harbor\, 14840 49th Street N\, Clearwater\, 33762
CATEGORIES:Mobile Medical Unit
ATTACH;FMTTYPE=image/jpeg:https://pinellas.gov/wp-content/uploads/2023/06/New-MMU-van-6-2024.jpg
END:VEVENT
BEGIN:VEVENT
DTSTART;TZID=America/New_York:20240717T083000
DTEND;TZID=America/New_York:20240717T163000
DTSTAMP:20260423T070153
CREATED:20230105T155301Z
LAST-MODIFIED:20260129T135206Z
UID:10005251-1721205000-1721233800@pinellas.gov
SUMMARY:Mobile Medical Unit - Pinellas Hope
DESCRIPTION:The mobile unit is a medical office on wheels. It has provided basic care for more than 20 years. Pinellas County homeless can receive free basic health care on the mobile medical unit. Emergency services are not provided. The unit travels to multiple locations in Pinellas County to serve uninsured homeless residents. Learn more about the Mobile Medical Unit. \nLa unidad móvil es un consultorio médico sobre ruedas. Ha proporcionado atención básica durante más de 20 años. Las personas sin hogar del Condado Pinellas pueden recibir atención médica básica gratuita en la unidad médica móvil. No se prestan servicios de emergencia. La unidad viaja a varios lugares en el Condado Pinellas para atender a residentes sin seguro médico. Obtenga más información sobre la unidad médica móvil. \n 
URL:https://pinellas.gov/event/mobile-medical-unit-pinellas-hope-2/2024-07-17/
LOCATION:Pinellas Hope\, 5726 126th Avenue N\, Clearwater\, FL\, 33760\, United States
CATEGORIES:Mobile Medical Unit
ATTACH;FMTTYPE=image/jpeg:https://pinellas.gov/wp-content/uploads/2024/06/New-MMU-van-6-2024.jpg
END:VEVENT
BEGIN:VEVENT
DTSTART;TZID=America/New_York:20240718T083000
DTEND;TZID=America/New_York:20240718T163000
DTSTAMP:20260423T070153
CREATED:20230105T154844Z
LAST-MODIFIED:20260129T142521Z
UID:10005248-1721291400-1721320200@pinellas.gov
SUMMARY:Mobile Medical Unit - Salvation Army ARC
DESCRIPTION:The mobile unit is a medical office on wheels. It has provided basic care for more than 20 years. Pinellas County homeless can receive free basic health care on the mobile medical unit. Emergency services are not provided. The unit travels to multiple locations in Pinellas County to serve uninsured homeless residents. Learn more about the Mobile Medical Unit. \n  \nLa unidad móvil es un consultorio médico sobre ruedas. Ha proporcionado atención básica durante más de 20 años. Las personas sin hogar del Condado Pinellas pueden recibir atención médica básica gratuita en la unidad médica móvil. No se prestan servicios de emergencia. La unidad viaja a varios lugares en el Condado Pinellas para atender a residentes sin seguro médico. Obtenga más información sobre la unidad médica móvil. \n 
URL:https://pinellas.gov/event/mobile-medical-unit-salvation-army-arc-2/2024-07-18/
LOCATION:Salvation Army\, ARC\, 5885 66th Street N\, St. Petersburg\, FL\, 33709\, United States
CATEGORIES:Mobile Medical Unit
ATTACH;FMTTYPE=image/jpeg:https://pinellas.gov/wp-content/uploads/2024/06/New-MMU-van-6-2024.jpg
END:VEVENT
BEGIN:VEVENT
DTSTART;TZID=America/New_York:20240719T083000
DTEND;TZID=America/New_York:20240719T160000
DTSTAMP:20260423T070153
CREATED:20230105T154532Z
LAST-MODIFIED:20260129T143324Z
UID:10005247-1721377800-1721404800@pinellas.gov
SUMMARY:Mobile Medical Unit - Salvation Army One Stop
DESCRIPTION:The mobile unit is a medical office on wheels. It has provided basic care for more than 20 years. Pinellas County homeless can receive free basic health care on the mobile medical unit. Emergency services are not provided. The unit travels to multiple locations in Pinellas County to serve uninsured homeless residents. Learn more about the Mobile Medical Unit. \nLa unidad móvil es un consultorio médico sobre ruedas. Ha proporcionado atención básica durante más de 20 años. Las personas sin hogar del Condado Pinellas pueden recibir atención médica básica gratuita en la unidad médica móvil. No se prestan servicios de emergencia. La unidad viaja a varios lugares en el Condado Pinellas para atender a residentes sin seguro médico. Obtenga más información sobre la unidad médica móvil. \n 
URL:https://pinellas.gov/event/mobile-medical-unit-salvation-army-one-stop-2/2024-07-19/
LOCATION:Salvation Army\, 1400 4th St S.\, St Petersburg\, FL\, 33701\, United States
CATEGORIES:Mobile Medical Unit
ATTACH;FMTTYPE=image/jpeg:https://pinellas.gov/wp-content/uploads/2024/06/New-MMU-van-6-2024.jpg
END:VEVENT
BEGIN:VEVENT
DTSTART;TZID=America/New_York:20240722T080000
DTEND;TZID=America/New_York:20240722T163000
DTSTAMP:20260423T070153
CREATED:20230629T194628Z
LAST-MODIFIED:20240723T212134Z
UID:10005324-1721635200-1721665800@pinellas.gov
SUMMARY:Mobile Medical Unit - Safe Harbor
DESCRIPTION:The mobile unit is a medical office on wheels. It has provided basic care for more than 20 years. Pinellas County homeless can receive free basic health care on the mobile medical unit. Emergency services are not provided. The unit travels to multiple locations in Pinellas County to serve uninsured homeless residents. Learn more about the Mobile Medical Unit. \nLa unidad móvil es un consultorio médico sobre ruedas. Ha proporcionado atención básica durante más de 20 años. Las personas sin hogar del Condado Pinellas pueden recibir atención médica básica gratuita en la unidad médica móvil. No se prestan servicios de emergencia. La unidad viaja a varios lugares en el Condado Pinellas para atender a residentes sin seguro médico. Obtenga más información sobre la unidad médica móvil \n 
URL:https://pinellas.gov/event/mobile-medical-unit-safe-harbor/2024-07-22/
LOCATION:Safe Harbor\, 14840 49th Street N\, Clearwater\, 33762
CATEGORIES:Mobile Medical Unit
ATTACH;FMTTYPE=image/jpeg:https://pinellas.gov/wp-content/uploads/2023/06/New-MMU-van-6-2024.jpg
END:VEVENT
BEGIN:VEVENT
DTSTART;TZID=America/New_York:20240723T083000
DTEND;TZID=America/New_York:20240723T120000
DTSTAMP:20260423T070153
CREATED:20221118T213841Z
LAST-MODIFIED:20240916T200319Z
UID:10005327-1721723400-1721736000@pinellas.gov
SUMMARY:Mobile Medical Unit - SVDP Center of Hope
DESCRIPTION:The mobile unit is a medical office on wheels. It has provided basic care for more than 20 years. Pinellas County homeless can receive free basic health care on the mobile medical unit. Emergency services are not provided. The unit travels to multiple locations in Pinellas County to serve uninsured homeless residents. Learn more about the Mobile Medical Unit. \nLa unidad móvil es un consultorio médico sobre ruedas. Ha proporcionado atención básica durante más de 20 años. Las personas sin hogar del Condado Pinellas pueden recibir atención médica básica gratuita en la unidad médica móvil. No se prestan servicios de emergencia. La unidad viaja a varios lugares en el Condado Pinellas para atender a residentes sin seguro médico. Obtenga más información sobre la unidad médica móvil
URL:https://pinellas.gov/event/mobile-medical-unit-svdp-center-of-hope-2/2024-07-23/
LOCATION:SVDP Center of Hope\, 401 15th Street N\, St. Petersburg\, FL\, 33713\, United States
CATEGORIES:Mobile Medical Unit
ATTACH;FMTTYPE=image/jpeg:https://pinellas.gov/wp-content/uploads/2024/06/New-MMU-van-6-2024.jpg
END:VEVENT
BEGIN:VEVENT
DTSTART;TZID=America/New_York:20240724T083000
DTEND;TZID=America/New_York:20240724T163000
DTSTAMP:20260423T070153
CREATED:20230105T155301Z
LAST-MODIFIED:20260129T135206Z
UID:10005252-1721809800-1721838600@pinellas.gov
SUMMARY:Mobile Medical Unit - Pinellas Hope
DESCRIPTION:The mobile unit is a medical office on wheels. It has provided basic care for more than 20 years. Pinellas County homeless can receive free basic health care on the mobile medical unit. Emergency services are not provided. The unit travels to multiple locations in Pinellas County to serve uninsured homeless residents. Learn more about the Mobile Medical Unit. \nLa unidad móvil es un consultorio médico sobre ruedas. Ha proporcionado atención básica durante más de 20 años. Las personas sin hogar del Condado Pinellas pueden recibir atención médica básica gratuita en la unidad médica móvil. No se prestan servicios de emergencia. La unidad viaja a varios lugares en el Condado Pinellas para atender a residentes sin seguro médico. Obtenga más información sobre la unidad médica móvil. \n 
URL:https://pinellas.gov/event/mobile-medical-unit-pinellas-hope-2/2024-07-24/
LOCATION:Pinellas Hope\, 5726 126th Avenue N\, Clearwater\, FL\, 33760\, United States
CATEGORIES:Mobile Medical Unit
ATTACH;FMTTYPE=image/jpeg:https://pinellas.gov/wp-content/uploads/2024/06/New-MMU-van-6-2024.jpg
END:VEVENT
BEGIN:VEVENT
DTSTART;TZID=America/New_York:20240725T083000
DTEND;TZID=America/New_York:20240725T163000
DTSTAMP:20260423T070153
CREATED:20230105T154844Z
LAST-MODIFIED:20260129T142521Z
UID:10005249-1721896200-1721925000@pinellas.gov
SUMMARY:Mobile Medical Unit - Salvation Army ARC
DESCRIPTION:The mobile unit is a medical office on wheels. It has provided basic care for more than 20 years. Pinellas County homeless can receive free basic health care on the mobile medical unit. Emergency services are not provided. The unit travels to multiple locations in Pinellas County to serve uninsured homeless residents. Learn more about the Mobile Medical Unit. \n  \nLa unidad móvil es un consultorio médico sobre ruedas. Ha proporcionado atención básica durante más de 20 años. Las personas sin hogar del Condado Pinellas pueden recibir atención médica básica gratuita en la unidad médica móvil. No se prestan servicios de emergencia. La unidad viaja a varios lugares en el Condado Pinellas para atender a residentes sin seguro médico. Obtenga más información sobre la unidad médica móvil. \n 
URL:https://pinellas.gov/event/mobile-medical-unit-salvation-army-arc-2/2024-07-25/
LOCATION:Salvation Army\, ARC\, 5885 66th Street N\, St. Petersburg\, FL\, 33709\, United States
CATEGORIES:Mobile Medical Unit
ATTACH;FMTTYPE=image/jpeg:https://pinellas.gov/wp-content/uploads/2024/06/New-MMU-van-6-2024.jpg
END:VEVENT
BEGIN:VEVENT
DTSTART;TZID=America/New_York:20240726T100000
DTEND;TZID=America/New_York:20240726T120000
DTSTAMP:20260423T070153
CREATED:20240626T175020Z
LAST-MODIFIED:20240723T204742Z
UID:10005287-1721988000-1721995200@pinellas.gov
SUMMARY:Mobile Medical Unit - Services at Bayside Clinic
DESCRIPTION:The new mobile unit will be available at the grand opening of the Bayside Health Clinic.
URL:https://pinellas.gov/event/mobile-medical-unit-services-at-bayside-clinic-4/
LOCATION:Bayside Health Clinic\, 14808 49th Street N\, Clearwater\, FL\, 33762\, United States
CATEGORIES:Bayside Health Clinic,Mobile Medical Unit
ATTACH;FMTTYPE=image/jpeg:https://pinellas.gov/wp-content/uploads/2024/06/New-MMU-van-6-2024.jpg
END:VEVENT
BEGIN:VEVENT
DTSTART;TZID=America/New_York:20240729T080000
DTEND;TZID=America/New_York:20240729T163000
DTSTAMP:20260423T070153
CREATED:20230629T194628Z
LAST-MODIFIED:20240723T212134Z
UID:10005325-1722240000-1722270600@pinellas.gov
SUMMARY:Mobile Medical Unit - Safe Harbor
DESCRIPTION:The mobile unit is a medical office on wheels. It has provided basic care for more than 20 years. Pinellas County homeless can receive free basic health care on the mobile medical unit. Emergency services are not provided. The unit travels to multiple locations in Pinellas County to serve uninsured homeless residents. Learn more about the Mobile Medical Unit. \nLa unidad móvil es un consultorio médico sobre ruedas. Ha proporcionado atención básica durante más de 20 años. Las personas sin hogar del Condado Pinellas pueden recibir atención médica básica gratuita en la unidad médica móvil. No se prestan servicios de emergencia. La unidad viaja a varios lugares en el Condado Pinellas para atender a residentes sin seguro médico. Obtenga más información sobre la unidad médica móvil \n 
URL:https://pinellas.gov/event/mobile-medical-unit-safe-harbor/2024-07-29/
LOCATION:Safe Harbor\, 14840 49th Street N\, Clearwater\, 33762
CATEGORIES:Mobile Medical Unit
ATTACH;FMTTYPE=image/jpeg:https://pinellas.gov/wp-content/uploads/2023/06/New-MMU-van-6-2024.jpg
END:VEVENT
BEGIN:VEVENT
DTSTART;TZID=America/New_York:20240730T083000
DTEND;TZID=America/New_York:20240730T120000
DTSTAMP:20260423T070153
CREATED:20221118T213841Z
LAST-MODIFIED:20240916T200319Z
UID:10005328-1722328200-1722340800@pinellas.gov
SUMMARY:Mobile Medical Unit - SVDP Center of Hope
DESCRIPTION:The mobile unit is a medical office on wheels. It has provided basic care for more than 20 years. Pinellas County homeless can receive free basic health care on the mobile medical unit. Emergency services are not provided. The unit travels to multiple locations in Pinellas County to serve uninsured homeless residents. Learn more about the Mobile Medical Unit. \nLa unidad móvil es un consultorio médico sobre ruedas. Ha proporcionado atención básica durante más de 20 años. Las personas sin hogar del Condado Pinellas pueden recibir atención médica básica gratuita en la unidad médica móvil. No se prestan servicios de emergencia. La unidad viaja a varios lugares en el Condado Pinellas para atender a residentes sin seguro médico. Obtenga más información sobre la unidad médica móvil
URL:https://pinellas.gov/event/mobile-medical-unit-svdp-center-of-hope-2/2024-07-30/
LOCATION:SVDP Center of Hope\, 401 15th Street N\, St. Petersburg\, FL\, 33713\, United States
CATEGORIES:Mobile Medical Unit
ATTACH;FMTTYPE=image/jpeg:https://pinellas.gov/wp-content/uploads/2024/06/New-MMU-van-6-2024.jpg
END:VEVENT
BEGIN:VEVENT
DTSTART;TZID=America/New_York:20240731T083000
DTEND;TZID=America/New_York:20240731T163000
DTSTAMP:20260423T070153
CREATED:20230105T155301Z
LAST-MODIFIED:20260129T135206Z
UID:10005253-1722414600-1722443400@pinellas.gov
SUMMARY:Mobile Medical Unit - Pinellas Hope
DESCRIPTION:The mobile unit is a medical office on wheels. It has provided basic care for more than 20 years. Pinellas County homeless can receive free basic health care on the mobile medical unit. Emergency services are not provided. The unit travels to multiple locations in Pinellas County to serve uninsured homeless residents. Learn more about the Mobile Medical Unit. \nLa unidad móvil es un consultorio médico sobre ruedas. Ha proporcionado atención básica durante más de 20 años. Las personas sin hogar del Condado Pinellas pueden recibir atención médica básica gratuita en la unidad médica móvil. No se prestan servicios de emergencia. La unidad viaja a varios lugares en el Condado Pinellas para atender a residentes sin seguro médico. Obtenga más información sobre la unidad médica móvil. \n 
URL:https://pinellas.gov/event/mobile-medical-unit-pinellas-hope-2/2024-07-31/
LOCATION:Pinellas Hope\, 5726 126th Avenue N\, Clearwater\, FL\, 33760\, United States
CATEGORIES:Mobile Medical Unit
ATTACH;FMTTYPE=image/jpeg:https://pinellas.gov/wp-content/uploads/2024/06/New-MMU-van-6-2024.jpg
END:VEVENT
END:VCALENDAR