BEGIN:VCALENDAR
VERSION:2.0
PRODID:-//Pinellas County - ECPv6.15.18//NONSGML v1.0//EN
CALSCALE:GREGORIAN
METHOD:PUBLISH
X-WR-CALNAME:Pinellas County
X-ORIGINAL-URL:https://pinellas.gov
X-WR-CALDESC:Events for Pinellas County
REFRESH-INTERVAL;VALUE=DURATION:PT1H
X-Robots-Tag:noindex
X-PUBLISHED-TTL:PT1H
BEGIN:VTIMEZONE
TZID:America/New_York
BEGIN:DAYLIGHT
TZOFFSETFROM:-0500
TZOFFSETTO:-0400
TZNAME:EDT
DTSTART:20230312T070000
END:DAYLIGHT
BEGIN:STANDARD
TZOFFSETFROM:-0400
TZOFFSETTO:-0500
TZNAME:EST
DTSTART:20231105T060000
END:STANDARD
BEGIN:DAYLIGHT
TZOFFSETFROM:-0500
TZOFFSETTO:-0400
TZNAME:EDT
DTSTART:20240310T070000
END:DAYLIGHT
BEGIN:STANDARD
TZOFFSETFROM:-0400
TZOFFSETTO:-0500
TZNAME:EST
DTSTART:20241103T060000
END:STANDARD
BEGIN:DAYLIGHT
TZOFFSETFROM:-0500
TZOFFSETTO:-0400
TZNAME:EDT
DTSTART:20250309T070000
END:DAYLIGHT
BEGIN:STANDARD
TZOFFSETFROM:-0400
TZOFFSETTO:-0500
TZNAME:EST
DTSTART:20251102T060000
END:STANDARD
END:VTIMEZONE
BEGIN:VEVENT
DTSTART;TZID=America/New_York:20241101T083000
DTEND;TZID=America/New_York:20241101T160000
DTSTAMP:20260420T142851
CREATED:20230105T154532Z
LAST-MODIFIED:20260129T143324Z
UID:10006022-1730449800-1730476800@pinellas.gov
SUMMARY:Mobile Medical Unit - Salvation Army One Stop
DESCRIPTION:The mobile unit is a medical office on wheels. It has provided basic care for more than 20 years. Pinellas County homeless can receive free basic health care on the mobile medical unit. Emergency services are not provided. The unit travels to multiple locations in Pinellas County to serve uninsured homeless residents. Learn more about the Mobile Medical Unit. \nLa unidad móvil es un consultorio médico sobre ruedas. Ha proporcionado atención básica durante más de 20 años. Las personas sin hogar del Condado Pinellas pueden recibir atención médica básica gratuita en la unidad médica móvil. No se prestan servicios de emergencia. La unidad viaja a varios lugares en el Condado Pinellas para atender a residentes sin seguro médico. Obtenga más información sobre la unidad médica móvil. \n 
URL:https://pinellas.gov/event/mobile-medical-unit-salvation-army-one-stop-2/2024-11-01/
LOCATION:Salvation Army\, 1400 4th St S.\, St Petersburg\, FL\, 33701\, United States
CATEGORIES:Mobile Medical Unit
ATTACH;FMTTYPE=image/jpeg:https://pinellas.gov/wp-content/uploads/2024/06/New-MMU-van-6-2024.jpg
END:VEVENT
BEGIN:VEVENT
DTSTART;TZID=America/New_York:20241104T080000
DTEND;TZID=America/New_York:20241104T170000
DTSTAMP:20260420T142851
CREATED:20240723T213706Z
LAST-MODIFIED:20260129T141759Z
UID:10006004-1730707200-1730739600@pinellas.gov
SUMMARY:Mobile Medical Unit - Clearwater Health Department
DESCRIPTION:The mobile unit is a medical office on wheels. It has provided basic care for more than 20 years. Pinellas County homeless can receive free basic health care on the mobile medical unit. Emergency services are not provided. The unit travels to multiple locations in Pinellas County to serve uninsured homeless residents. Learn more about the Mobile Medical Unit.
URL:https://pinellas.gov/event/mobile-medical-unit-clearwater-health-department/2024-11-04/
LOCATION:Clearwater Health Department\, 310 N Myrtle Avenue\, Clearwater\, FL\, 33756\, United States
CATEGORIES:Mobile Medical Unit
ATTACH;FMTTYPE=image/jpeg:https://pinellas.gov/wp-content/uploads/2024/06/New-MMU-van-6-2024.jpg
END:VEVENT
BEGIN:VEVENT
DTSTART;TZID=America/New_York:20241105T080000
DTEND;TZID=America/New_York:20241105T170000
DTSTAMP:20260420T142851
CREATED:20240626T174653Z
LAST-MODIFIED:20241126T155048Z
UID:10006008-1730793600-1730826000@pinellas.gov
SUMMARY:Mobile Medical Unit - Services at Bayside Clinic
DESCRIPTION:The mobile unit is a medical office on wheels. It has provided basic care for more than 20 years. Pinellas County homeless can receive free basic health care on the mobile medical unit. Emergency services are not provided. The unit travels to multiple locations in Pinellas County to serve uninsured homeless residents. Learn more about the Mobile Medical Unit.
URL:https://pinellas.gov/event/mobile-medical-unit-services-at-bayside-clinic-3/2024-11-05/
LOCATION:Bayside Health Clinic\, 14808 49th Street N\, Clearwater\, FL\, 33762\, United States
CATEGORIES:Bayside Health Clinic,Mobile Medical Unit
ATTACH;FMTTYPE=image/jpeg:https://pinellas.gov/wp-content/uploads/2023/06/New-MMU-van-6-2024.jpg
END:VEVENT
BEGIN:VEVENT
DTSTART;TZID=America/New_York:20241106T083000
DTEND;TZID=America/New_York:20241106T163000
DTSTAMP:20260420T142851
CREATED:20230105T155301Z
LAST-MODIFIED:20260129T135206Z
UID:10006013-1730881800-1730910600@pinellas.gov
SUMMARY:Mobile Medical Unit - Pinellas Hope
DESCRIPTION:The mobile unit is a medical office on wheels. It has provided basic care for more than 20 years. Pinellas County homeless can receive free basic health care on the mobile medical unit. Emergency services are not provided. The unit travels to multiple locations in Pinellas County to serve uninsured homeless residents. Learn more about the Mobile Medical Unit. \nLa unidad móvil es un consultorio médico sobre ruedas. Ha proporcionado atención básica durante más de 20 años. Las personas sin hogar del Condado Pinellas pueden recibir atención médica básica gratuita en la unidad médica móvil. No se prestan servicios de emergencia. La unidad viaja a varios lugares en el Condado Pinellas para atender a residentes sin seguro médico. Obtenga más información sobre la unidad médica móvil. \n 
URL:https://pinellas.gov/event/mobile-medical-unit-pinellas-hope-2/2024-11-06/
LOCATION:Pinellas Hope\, 5726 126th Avenue N\, Clearwater\, FL\, 33760\, United States
CATEGORIES:Mobile Medical Unit
ATTACH;FMTTYPE=image/jpeg:https://pinellas.gov/wp-content/uploads/2024/06/New-MMU-van-6-2024.jpg
END:VEVENT
BEGIN:VEVENT
DTSTART;TZID=America/New_York:20241107T083000
DTEND;TZID=America/New_York:20241107T163000
DTSTAMP:20260420T142851
CREATED:20230105T154844Z
LAST-MODIFIED:20260129T142521Z
UID:10006018-1730968200-1730997000@pinellas.gov
SUMMARY:Mobile Medical Unit - Salvation Army ARC
DESCRIPTION:The mobile unit is a medical office on wheels. It has provided basic care for more than 20 years. Pinellas County homeless can receive free basic health care on the mobile medical unit. Emergency services are not provided. The unit travels to multiple locations in Pinellas County to serve uninsured homeless residents. Learn more about the Mobile Medical Unit. \n  \nLa unidad móvil es un consultorio médico sobre ruedas. Ha proporcionado atención básica durante más de 20 años. Las personas sin hogar del Condado Pinellas pueden recibir atención médica básica gratuita en la unidad médica móvil. No se prestan servicios de emergencia. La unidad viaja a varios lugares en el Condado Pinellas para atender a residentes sin seguro médico. Obtenga más información sobre la unidad médica móvil. \n 
URL:https://pinellas.gov/event/mobile-medical-unit-salvation-army-arc-2/2024-11-07/
LOCATION:Salvation Army\, ARC\, 5885 66th Street N\, St. Petersburg\, FL\, 33709\, United States
CATEGORIES:Mobile Medical Unit
ATTACH;FMTTYPE=image/jpeg:https://pinellas.gov/wp-content/uploads/2024/06/New-MMU-van-6-2024.jpg
END:VEVENT
BEGIN:VEVENT
DTSTART;TZID=America/New_York:20241108T083000
DTEND;TZID=America/New_York:20241108T160000
DTSTAMP:20260420T142851
CREATED:20230105T154532Z
LAST-MODIFIED:20260129T143324Z
UID:10006023-1731054600-1731081600@pinellas.gov
SUMMARY:Mobile Medical Unit - Salvation Army One Stop
DESCRIPTION:The mobile unit is a medical office on wheels. It has provided basic care for more than 20 years. Pinellas County homeless can receive free basic health care on the mobile medical unit. Emergency services are not provided. The unit travels to multiple locations in Pinellas County to serve uninsured homeless residents. Learn more about the Mobile Medical Unit. \nLa unidad móvil es un consultorio médico sobre ruedas. Ha proporcionado atención básica durante más de 20 años. Las personas sin hogar del Condado Pinellas pueden recibir atención médica básica gratuita en la unidad médica móvil. No se prestan servicios de emergencia. La unidad viaja a varios lugares en el Condado Pinellas para atender a residentes sin seguro médico. Obtenga más información sobre la unidad médica móvil. \n 
URL:https://pinellas.gov/event/mobile-medical-unit-salvation-army-one-stop-2/2024-11-08/
LOCATION:Salvation Army\, 1400 4th St S.\, St Petersburg\, FL\, 33701\, United States
CATEGORIES:Mobile Medical Unit
ATTACH;FMTTYPE=image/jpeg:https://pinellas.gov/wp-content/uploads/2024/06/New-MMU-van-6-2024.jpg
END:VEVENT
BEGIN:VEVENT
DTSTART;TZID=America/New_York:20241112T080000
DTEND;TZID=America/New_York:20241112T170000
DTSTAMP:20260420T142851
CREATED:20240626T174653Z
LAST-MODIFIED:20241126T155048Z
UID:10006067-1731398400-1731430800@pinellas.gov
SUMMARY:Mobile Medical Unit - Services at Bayside Clinic
DESCRIPTION:The mobile unit is a medical office on wheels. It has provided basic care for more than 20 years. Pinellas County homeless can receive free basic health care on the mobile medical unit. Emergency services are not provided. The unit travels to multiple locations in Pinellas County to serve uninsured homeless residents. Learn more about the Mobile Medical Unit.
URL:https://pinellas.gov/event/mobile-medical-unit-services-at-bayside-clinic-3/2024-11-12/
LOCATION:Bayside Health Clinic\, 14808 49th Street N\, Clearwater\, FL\, 33762\, United States
CATEGORIES:Bayside Health Clinic,Mobile Medical Unit
ATTACH;FMTTYPE=image/jpeg:https://pinellas.gov/wp-content/uploads/2023/06/New-MMU-van-6-2024.jpg
END:VEVENT
BEGIN:VEVENT
DTSTART;TZID=America/New_York:20241113T083000
DTEND;TZID=America/New_York:20241113T163000
DTSTAMP:20260420T142851
CREATED:20230105T155301Z
LAST-MODIFIED:20260129T135206Z
UID:10006081-1731486600-1731515400@pinellas.gov
SUMMARY:Mobile Medical Unit - Pinellas Hope
DESCRIPTION:The mobile unit is a medical office on wheels. It has provided basic care for more than 20 years. Pinellas County homeless can receive free basic health care on the mobile medical unit. Emergency services are not provided. The unit travels to multiple locations in Pinellas County to serve uninsured homeless residents. Learn more about the Mobile Medical Unit. \nLa unidad móvil es un consultorio médico sobre ruedas. Ha proporcionado atención básica durante más de 20 años. Las personas sin hogar del Condado Pinellas pueden recibir atención médica básica gratuita en la unidad médica móvil. No se prestan servicios de emergencia. La unidad viaja a varios lugares en el Condado Pinellas para atender a residentes sin seguro médico. Obtenga más información sobre la unidad médica móvil. \n 
URL:https://pinellas.gov/event/mobile-medical-unit-pinellas-hope-2/2024-11-13/
LOCATION:Pinellas Hope\, 5726 126th Avenue N\, Clearwater\, FL\, 33760\, United States
CATEGORIES:Mobile Medical Unit
ATTACH;FMTTYPE=image/jpeg:https://pinellas.gov/wp-content/uploads/2024/06/New-MMU-van-6-2024.jpg
END:VEVENT
BEGIN:VEVENT
DTSTART;TZID=America/New_York:20241114T083000
DTEND;TZID=America/New_York:20241114T163000
DTSTAMP:20260420T142851
CREATED:20230105T154844Z
LAST-MODIFIED:20260129T142521Z
UID:10006087-1731573000-1731601800@pinellas.gov
SUMMARY:Mobile Medical Unit - Salvation Army ARC
DESCRIPTION:The mobile unit is a medical office on wheels. It has provided basic care for more than 20 years. Pinellas County homeless can receive free basic health care on the mobile medical unit. Emergency services are not provided. The unit travels to multiple locations in Pinellas County to serve uninsured homeless residents. Learn more about the Mobile Medical Unit. \n  \nLa unidad móvil es un consultorio médico sobre ruedas. Ha proporcionado atención básica durante más de 20 años. Las personas sin hogar del Condado Pinellas pueden recibir atención médica básica gratuita en la unidad médica móvil. No se prestan servicios de emergencia. La unidad viaja a varios lugares en el Condado Pinellas para atender a residentes sin seguro médico. Obtenga más información sobre la unidad médica móvil. \n 
URL:https://pinellas.gov/event/mobile-medical-unit-salvation-army-arc-2/2024-11-14/
LOCATION:Salvation Army\, ARC\, 5885 66th Street N\, St. Petersburg\, FL\, 33709\, United States
CATEGORIES:Mobile Medical Unit
ATTACH;FMTTYPE=image/jpeg:https://pinellas.gov/wp-content/uploads/2024/06/New-MMU-van-6-2024.jpg
END:VEVENT
BEGIN:VEVENT
DTSTART;TZID=America/New_York:20241115T083000
DTEND;TZID=America/New_York:20241115T160000
DTSTAMP:20260420T142851
CREATED:20230105T154532Z
LAST-MODIFIED:20260129T143324Z
UID:10006071-1731659400-1731686400@pinellas.gov
SUMMARY:Mobile Medical Unit - Salvation Army One Stop
DESCRIPTION:The mobile unit is a medical office on wheels. It has provided basic care for more than 20 years. Pinellas County homeless can receive free basic health care on the mobile medical unit. Emergency services are not provided. The unit travels to multiple locations in Pinellas County to serve uninsured homeless residents. Learn more about the Mobile Medical Unit. \nLa unidad móvil es un consultorio médico sobre ruedas. Ha proporcionado atención básica durante más de 20 años. Las personas sin hogar del Condado Pinellas pueden recibir atención médica básica gratuita en la unidad médica móvil. No se prestan servicios de emergencia. La unidad viaja a varios lugares en el Condado Pinellas para atender a residentes sin seguro médico. Obtenga más información sobre la unidad médica móvil. \n 
URL:https://pinellas.gov/event/mobile-medical-unit-salvation-army-one-stop-2/2024-11-15/
LOCATION:Salvation Army\, 1400 4th St S.\, St Petersburg\, FL\, 33701\, United States
CATEGORIES:Mobile Medical Unit
ATTACH;FMTTYPE=image/jpeg:https://pinellas.gov/wp-content/uploads/2024/06/New-MMU-van-6-2024.jpg
END:VEVENT
BEGIN:VEVENT
DTSTART;TZID=America/New_York:20241118T080000
DTEND;TZID=America/New_York:20241118T170000
DTSTAMP:20260420T142851
CREATED:20240723T213706Z
LAST-MODIFIED:20260129T141759Z
UID:10006064-1731916800-1731949200@pinellas.gov
SUMMARY:Mobile Medical Unit - Clearwater Health Department
DESCRIPTION:The mobile unit is a medical office on wheels. It has provided basic care for more than 20 years. Pinellas County homeless can receive free basic health care on the mobile medical unit. Emergency services are not provided. The unit travels to multiple locations in Pinellas County to serve uninsured homeless residents. Learn more about the Mobile Medical Unit.
URL:https://pinellas.gov/event/mobile-medical-unit-clearwater-health-department/2024-11-18/
LOCATION:Clearwater Health Department\, 310 N Myrtle Avenue\, Clearwater\, FL\, 33756\, United States
CATEGORIES:Mobile Medical Unit
ATTACH;FMTTYPE=image/jpeg:https://pinellas.gov/wp-content/uploads/2024/06/New-MMU-van-6-2024.jpg
END:VEVENT
BEGIN:VEVENT
DTSTART;TZID=America/New_York:20241119T080000
DTEND;TZID=America/New_York:20241119T170000
DTSTAMP:20260420T142851
CREATED:20240626T174653Z
LAST-MODIFIED:20241126T155048Z
UID:10006068-1732003200-1732035600@pinellas.gov
SUMMARY:Mobile Medical Unit - Services at Bayside Clinic
DESCRIPTION:The mobile unit is a medical office on wheels. It has provided basic care for more than 20 years. Pinellas County homeless can receive free basic health care on the mobile medical unit. Emergency services are not provided. The unit travels to multiple locations in Pinellas County to serve uninsured homeless residents. Learn more about the Mobile Medical Unit.
URL:https://pinellas.gov/event/mobile-medical-unit-services-at-bayside-clinic-3/2024-11-19/
LOCATION:Bayside Health Clinic\, 14808 49th Street N\, Clearwater\, FL\, 33762\, United States
CATEGORIES:Bayside Health Clinic,Mobile Medical Unit
ATTACH;FMTTYPE=image/jpeg:https://pinellas.gov/wp-content/uploads/2023/06/New-MMU-van-6-2024.jpg
END:VEVENT
BEGIN:VEVENT
DTSTART;TZID=America/New_York:20241120T083000
DTEND;TZID=America/New_York:20241120T163000
DTSTAMP:20260420T142851
CREATED:20230105T155301Z
LAST-MODIFIED:20260129T135206Z
UID:10006082-1732091400-1732120200@pinellas.gov
SUMMARY:Mobile Medical Unit - Pinellas Hope
DESCRIPTION:The mobile unit is a medical office on wheels. It has provided basic care for more than 20 years. Pinellas County homeless can receive free basic health care on the mobile medical unit. Emergency services are not provided. The unit travels to multiple locations in Pinellas County to serve uninsured homeless residents. Learn more about the Mobile Medical Unit. \nLa unidad móvil es un consultorio médico sobre ruedas. Ha proporcionado atención básica durante más de 20 años. Las personas sin hogar del Condado Pinellas pueden recibir atención médica básica gratuita en la unidad médica móvil. No se prestan servicios de emergencia. La unidad viaja a varios lugares en el Condado Pinellas para atender a residentes sin seguro médico. Obtenga más información sobre la unidad médica móvil. \n 
URL:https://pinellas.gov/event/mobile-medical-unit-pinellas-hope-2/2024-11-20/
LOCATION:Pinellas Hope\, 5726 126th Avenue N\, Clearwater\, FL\, 33760\, United States
CATEGORIES:Mobile Medical Unit
ATTACH;FMTTYPE=image/jpeg:https://pinellas.gov/wp-content/uploads/2024/06/New-MMU-van-6-2024.jpg
END:VEVENT
BEGIN:VEVENT
DTSTART;TZID=America/New_York:20241121T083000
DTEND;TZID=America/New_York:20241121T163000
DTSTAMP:20260420T142851
CREATED:20230105T154844Z
LAST-MODIFIED:20260129T142521Z
UID:10006088-1732177800-1732206600@pinellas.gov
SUMMARY:Mobile Medical Unit - Salvation Army ARC
DESCRIPTION:The mobile unit is a medical office on wheels. It has provided basic care for more than 20 years. Pinellas County homeless can receive free basic health care on the mobile medical unit. Emergency services are not provided. The unit travels to multiple locations in Pinellas County to serve uninsured homeless residents. Learn more about the Mobile Medical Unit. \n  \nLa unidad móvil es un consultorio médico sobre ruedas. Ha proporcionado atención básica durante más de 20 años. Las personas sin hogar del Condado Pinellas pueden recibir atención médica básica gratuita en la unidad médica móvil. No se prestan servicios de emergencia. La unidad viaja a varios lugares en el Condado Pinellas para atender a residentes sin seguro médico. Obtenga más información sobre la unidad médica móvil. \n 
URL:https://pinellas.gov/event/mobile-medical-unit-salvation-army-arc-2/2024-11-21/
LOCATION:Salvation Army\, ARC\, 5885 66th Street N\, St. Petersburg\, FL\, 33709\, United States
CATEGORIES:Mobile Medical Unit
ATTACH;FMTTYPE=image/jpeg:https://pinellas.gov/wp-content/uploads/2024/06/New-MMU-van-6-2024.jpg
END:VEVENT
BEGIN:VEVENT
DTSTART;TZID=America/New_York:20241122T083000
DTEND;TZID=America/New_York:20241122T160000
DTSTAMP:20260420T142851
CREATED:20230105T154532Z
LAST-MODIFIED:20260129T143324Z
UID:10006072-1732264200-1732291200@pinellas.gov
SUMMARY:Mobile Medical Unit - Salvation Army One Stop
DESCRIPTION:The mobile unit is a medical office on wheels. It has provided basic care for more than 20 years. Pinellas County homeless can receive free basic health care on the mobile medical unit. Emergency services are not provided. The unit travels to multiple locations in Pinellas County to serve uninsured homeless residents. Learn more about the Mobile Medical Unit. \nLa unidad móvil es un consultorio médico sobre ruedas. Ha proporcionado atención básica durante más de 20 años. Las personas sin hogar del Condado Pinellas pueden recibir atención médica básica gratuita en la unidad médica móvil. No se prestan servicios de emergencia. La unidad viaja a varios lugares en el Condado Pinellas para atender a residentes sin seguro médico. Obtenga más información sobre la unidad médica móvil. \n 
URL:https://pinellas.gov/event/mobile-medical-unit-salvation-army-one-stop-2/2024-11-22/
LOCATION:Salvation Army\, 1400 4th St S.\, St Petersburg\, FL\, 33701\, United States
CATEGORIES:Mobile Medical Unit
ATTACH;FMTTYPE=image/jpeg:https://pinellas.gov/wp-content/uploads/2024/06/New-MMU-van-6-2024.jpg
END:VEVENT
BEGIN:VEVENT
DTSTART;TZID=America/New_York:20241125T080000
DTEND;TZID=America/New_York:20241125T170000
DTSTAMP:20260420T142851
CREATED:20240723T213706Z
LAST-MODIFIED:20260129T141759Z
UID:10006065-1732521600-1732554000@pinellas.gov
SUMMARY:Mobile Medical Unit - Clearwater Health Department
DESCRIPTION:The mobile unit is a medical office on wheels. It has provided basic care for more than 20 years. Pinellas County homeless can receive free basic health care on the mobile medical unit. Emergency services are not provided. The unit travels to multiple locations in Pinellas County to serve uninsured homeless residents. Learn more about the Mobile Medical Unit.
URL:https://pinellas.gov/event/mobile-medical-unit-clearwater-health-department/2024-11-25/
LOCATION:Clearwater Health Department\, 310 N Myrtle Avenue\, Clearwater\, FL\, 33756\, United States
CATEGORIES:Mobile Medical Unit
ATTACH;FMTTYPE=image/jpeg:https://pinellas.gov/wp-content/uploads/2024/06/New-MMU-van-6-2024.jpg
END:VEVENT
BEGIN:VEVENT
DTSTART;TZID=America/New_York:20241126T080000
DTEND;TZID=America/New_York:20241126T170000
DTSTAMP:20260420T142851
CREATED:20240626T174653Z
LAST-MODIFIED:20241126T155048Z
UID:10006069-1732608000-1732640400@pinellas.gov
SUMMARY:Mobile Medical Unit - Services at Bayside Clinic
DESCRIPTION:The mobile unit is a medical office on wheels. It has provided basic care for more than 20 years. Pinellas County homeless can receive free basic health care on the mobile medical unit. Emergency services are not provided. The unit travels to multiple locations in Pinellas County to serve uninsured homeless residents. Learn more about the Mobile Medical Unit.
URL:https://pinellas.gov/event/mobile-medical-unit-services-at-bayside-clinic-3/2024-11-26/
LOCATION:Bayside Health Clinic\, 14808 49th Street N\, Clearwater\, FL\, 33762\, United States
CATEGORIES:Bayside Health Clinic,Mobile Medical Unit
ATTACH;FMTTYPE=image/jpeg:https://pinellas.gov/wp-content/uploads/2023/06/New-MMU-van-6-2024.jpg
END:VEVENT
BEGIN:VEVENT
DTSTART;TZID=America/New_York:20241127T083000
DTEND;TZID=America/New_York:20241127T163000
DTSTAMP:20260420T142851
CREATED:20241126T145328Z
LAST-MODIFIED:20241126T153913Z
UID:10006185-1732696200-1732725000@pinellas.gov
SUMMARY:Mobile Medical Unit at Pinellas Hope will not be available on Wednesday Nov 27\, 2024
DESCRIPTION:All Department of Health offices and Mobile Medical Unit Services are closed for the holidays from November 27 through November 29th\, 2024. \n 
URL:https://pinellas.gov/event/mobile-medical-unit-pinellas-hope-is-closed-on-wednesday-nov-27-2024/
LOCATION:Pinellas Hope\, 5726 126th Avenue N\, Clearwater\, FL\, 33760\, United States
CATEGORIES:Mobile Medical Unit
ATTACH;FMTTYPE=image/jpeg:https://pinellas.gov/wp-content/uploads/2023/06/New-MMU-van-6-2024.jpg
END:VEVENT
END:VCALENDAR