BEGIN:VCALENDAR
VERSION:2.0
PRODID:-//Pinellas County - ECPv6.15.18//NONSGML v1.0//EN
CALSCALE:GREGORIAN
METHOD:PUBLISH
X-WR-CALNAME:Pinellas County
X-ORIGINAL-URL:https://pinellas.gov
X-WR-CALDESC:Events for Pinellas County
REFRESH-INTERVAL;VALUE=DURATION:PT1H
X-Robots-Tag:noindex
X-PUBLISHED-TTL:PT1H
BEGIN:VTIMEZONE
TZID:America/New_York
BEGIN:DAYLIGHT
TZOFFSETFROM:-0500
TZOFFSETTO:-0400
TZNAME:EDT
DTSTART:20240310T070000
END:DAYLIGHT
BEGIN:STANDARD
TZOFFSETFROM:-0400
TZOFFSETTO:-0500
TZNAME:EST
DTSTART:20241103T060000
END:STANDARD
BEGIN:DAYLIGHT
TZOFFSETFROM:-0500
TZOFFSETTO:-0400
TZNAME:EDT
DTSTART:20250309T070000
END:DAYLIGHT
BEGIN:STANDARD
TZOFFSETFROM:-0400
TZOFFSETTO:-0500
TZNAME:EST
DTSTART:20251102T060000
END:STANDARD
BEGIN:DAYLIGHT
TZOFFSETFROM:-0500
TZOFFSETTO:-0400
TZNAME:EDT
DTSTART:20260308T070000
END:DAYLIGHT
BEGIN:STANDARD
TZOFFSETFROM:-0400
TZOFFSETTO:-0500
TZNAME:EST
DTSTART:20261101T060000
END:STANDARD
END:VTIMEZONE
BEGIN:VEVENT
DTSTART;TZID=America/New_York:20250102T083000
DTEND;TZID=America/New_York:20250102T163000
DTSTAMP:20260420T092706
CREATED:20230105T154844Z
LAST-MODIFIED:20260129T142521Z
UID:10006199-1735806600-1735835400@pinellas.gov
SUMMARY:Mobile Medical Unit - Salvation Army ARC
DESCRIPTION:The mobile unit is a medical office on wheels. It has provided basic care for more than 20 years. Pinellas County homeless can receive free basic health care on the mobile medical unit. Emergency services are not provided. The unit travels to multiple locations in Pinellas County to serve uninsured homeless residents. Learn more about the Mobile Medical Unit. \n  \nLa unidad móvil es un consultorio médico sobre ruedas. Ha proporcionado atención básica durante más de 20 años. Las personas sin hogar del Condado Pinellas pueden recibir atención médica básica gratuita en la unidad médica móvil. No se prestan servicios de emergencia. La unidad viaja a varios lugares en el Condado Pinellas para atender a residentes sin seguro médico. Obtenga más información sobre la unidad médica móvil. \n 
URL:https://pinellas.gov/event/mobile-medical-unit-salvation-army-arc-2/2025-01-02/
LOCATION:Salvation Army\, ARC\, 5885 66th Street N\, St. Petersburg\, FL\, 33709\, United States
CATEGORIES:Mobile Medical Unit
ATTACH;FMTTYPE=image/jpeg:https://pinellas.gov/wp-content/uploads/2024/06/New-MMU-van-6-2024.jpg
END:VEVENT
BEGIN:VEVENT
DTSTART;TZID=America/New_York:20250103T083000
DTEND;TZID=America/New_York:20250103T160000
DTSTAMP:20260420T092706
CREATED:20230105T154532Z
LAST-MODIFIED:20260129T143324Z
UID:10006202-1735893000-1735920000@pinellas.gov
SUMMARY:Mobile Medical Unit - Salvation Army One Stop
DESCRIPTION:The mobile unit is a medical office on wheels. It has provided basic care for more than 20 years. Pinellas County homeless can receive free basic health care on the mobile medical unit. Emergency services are not provided. The unit travels to multiple locations in Pinellas County to serve uninsured homeless residents. Learn more about the Mobile Medical Unit. \nLa unidad móvil es un consultorio médico sobre ruedas. Ha proporcionado atención básica durante más de 20 años. Las personas sin hogar del Condado Pinellas pueden recibir atención médica básica gratuita en la unidad médica móvil. No se prestan servicios de emergencia. La unidad viaja a varios lugares en el Condado Pinellas para atender a residentes sin seguro médico. Obtenga más información sobre la unidad médica móvil. \n 
URL:https://pinellas.gov/event/mobile-medical-unit-salvation-army-one-stop-2/2025-01-03/
LOCATION:Salvation Army\, 1400 4th St S.\, St Petersburg\, FL\, 33701\, United States
CATEGORIES:Mobile Medical Unit
ATTACH;FMTTYPE=image/jpeg:https://pinellas.gov/wp-content/uploads/2024/06/New-MMU-van-6-2024.jpg
END:VEVENT
BEGIN:VEVENT
DTSTART;TZID=America/New_York:20250106T080000
DTEND;TZID=America/New_York:20250106T170000
DTSTAMP:20260420T092706
CREATED:20240723T213706Z
LAST-MODIFIED:20260129T141759Z
UID:10006194-1736150400-1736182800@pinellas.gov
SUMMARY:Mobile Medical Unit - Clearwater Health Department
DESCRIPTION:The mobile unit is a medical office on wheels. It has provided basic care for more than 20 years. Pinellas County homeless can receive free basic health care on the mobile medical unit. Emergency services are not provided. The unit travels to multiple locations in Pinellas County to serve uninsured homeless residents. Learn more about the Mobile Medical Unit.
URL:https://pinellas.gov/event/mobile-medical-unit-clearwater-health-department/2025-01-06/
LOCATION:Clearwater Health Department\, 310 N Myrtle Avenue\, Clearwater\, FL\, 33756\, United States
CATEGORIES:Mobile Medical Unit
ATTACH;FMTTYPE=image/jpeg:https://pinellas.gov/wp-content/uploads/2024/06/New-MMU-van-6-2024.jpg
END:VEVENT
BEGIN:VEVENT
DTSTART;TZID=America/New_York:20250107T080000
DTEND;TZID=America/New_York:20250107T170000
DTSTAMP:20260420T092706
CREATED:20250106T153258Z
LAST-MODIFIED:20260129T141037Z
UID:10006344-1736236800-1736269200@pinellas.gov
SUMMARY:Mobile Medical Unit - Human Services Office
DESCRIPTION:The mobile unit is a medical office on wheels. It has provided basic care for more than 20 years. Pinellas County homeless can receive free basic health care on the mobile medical unit. Emergency services are not provided. The unit travels to multiple locations in Pinellas County to serve uninsured homeless residents. Learn more about the Mobile Medical Unit.
URL:https://pinellas.gov/event/mobile-medical-unit-human-services-office/2025-01-07/
LOCATION:Human Services – St Pete Office\, 647 1st Avenue N\, St Petersburg\, 33701\, United States
CATEGORIES:Mobile Medical Unit
ATTACH;FMTTYPE=image/jpeg:https://pinellas.gov/wp-content/uploads/2021/07/mmu-truck.jpg
END:VEVENT
BEGIN:VEVENT
DTSTART;TZID=America/New_York:20250108T083000
DTEND;TZID=America/New_York:20250108T163000
DTSTAMP:20260420T092706
CREATED:20230105T155301Z
LAST-MODIFIED:20260129T135206Z
UID:10006184-1736325000-1736353800@pinellas.gov
SUMMARY:Mobile Medical Unit - Pinellas Hope
DESCRIPTION:The mobile unit is a medical office on wheels. It has provided basic care for more than 20 years. Pinellas County homeless can receive free basic health care on the mobile medical unit. Emergency services are not provided. The unit travels to multiple locations in Pinellas County to serve uninsured homeless residents. Learn more about the Mobile Medical Unit. \nLa unidad móvil es un consultorio médico sobre ruedas. Ha proporcionado atención básica durante más de 20 años. Las personas sin hogar del Condado Pinellas pueden recibir atención médica básica gratuita en la unidad médica móvil. No se prestan servicios de emergencia. La unidad viaja a varios lugares en el Condado Pinellas para atender a residentes sin seguro médico. Obtenga más información sobre la unidad médica móvil. \n 
URL:https://pinellas.gov/event/mobile-medical-unit-pinellas-hope-2/2025-01-08/
LOCATION:Pinellas Hope\, 5726 126th Avenue N\, Clearwater\, FL\, 33760\, United States
CATEGORIES:Mobile Medical Unit
ATTACH;FMTTYPE=image/jpeg:https://pinellas.gov/wp-content/uploads/2024/06/New-MMU-van-6-2024.jpg
END:VEVENT
BEGIN:VEVENT
DTSTART;TZID=America/New_York:20250109T083000
DTEND;TZID=America/New_York:20250109T163000
DTSTAMP:20260420T092706
CREATED:20230105T154844Z
LAST-MODIFIED:20260129T142521Z
UID:10006200-1736411400-1736440200@pinellas.gov
SUMMARY:Mobile Medical Unit - Salvation Army ARC
DESCRIPTION:The mobile unit is a medical office on wheels. It has provided basic care for more than 20 years. Pinellas County homeless can receive free basic health care on the mobile medical unit. Emergency services are not provided. The unit travels to multiple locations in Pinellas County to serve uninsured homeless residents. Learn more about the Mobile Medical Unit. \n  \nLa unidad móvil es un consultorio médico sobre ruedas. Ha proporcionado atención básica durante más de 20 años. Las personas sin hogar del Condado Pinellas pueden recibir atención médica básica gratuita en la unidad médica móvil. No se prestan servicios de emergencia. La unidad viaja a varios lugares en el Condado Pinellas para atender a residentes sin seguro médico. Obtenga más información sobre la unidad médica móvil. \n 
URL:https://pinellas.gov/event/mobile-medical-unit-salvation-army-arc-2/2025-01-09/
LOCATION:Salvation Army\, ARC\, 5885 66th Street N\, St. Petersburg\, FL\, 33709\, United States
CATEGORIES:Mobile Medical Unit
ATTACH;FMTTYPE=image/jpeg:https://pinellas.gov/wp-content/uploads/2024/06/New-MMU-van-6-2024.jpg
END:VEVENT
BEGIN:VEVENT
DTSTART;TZID=America/New_York:20250110T083000
DTEND;TZID=America/New_York:20250110T160000
DTSTAMP:20260420T092706
CREATED:20230105T154532Z
LAST-MODIFIED:20260129T143324Z
UID:10006203-1736497800-1736524800@pinellas.gov
SUMMARY:Mobile Medical Unit - Salvation Army One Stop
DESCRIPTION:The mobile unit is a medical office on wheels. It has provided basic care for more than 20 years. Pinellas County homeless can receive free basic health care on the mobile medical unit. Emergency services are not provided. The unit travels to multiple locations in Pinellas County to serve uninsured homeless residents. Learn more about the Mobile Medical Unit. \nLa unidad móvil es un consultorio médico sobre ruedas. Ha proporcionado atención básica durante más de 20 años. Las personas sin hogar del Condado Pinellas pueden recibir atención médica básica gratuita en la unidad médica móvil. No se prestan servicios de emergencia. La unidad viaja a varios lugares en el Condado Pinellas para atender a residentes sin seguro médico. Obtenga más información sobre la unidad médica móvil. \n 
URL:https://pinellas.gov/event/mobile-medical-unit-salvation-army-one-stop-2/2025-01-10/
LOCATION:Salvation Army\, 1400 4th St S.\, St Petersburg\, FL\, 33701\, United States
CATEGORIES:Mobile Medical Unit
ATTACH;FMTTYPE=image/jpeg:https://pinellas.gov/wp-content/uploads/2024/06/New-MMU-van-6-2024.jpg
END:VEVENT
BEGIN:VEVENT
DTSTART;TZID=America/New_York:20250113T080000
DTEND;TZID=America/New_York:20250113T170000
DTSTAMP:20260420T092706
CREATED:20240723T213706Z
LAST-MODIFIED:20260129T141759Z
UID:10006349-1736755200-1736787600@pinellas.gov
SUMMARY:Mobile Medical Unit - Clearwater Health Department
DESCRIPTION:The mobile unit is a medical office on wheels. It has provided basic care for more than 20 years. Pinellas County homeless can receive free basic health care on the mobile medical unit. Emergency services are not provided. The unit travels to multiple locations in Pinellas County to serve uninsured homeless residents. Learn more about the Mobile Medical Unit.
URL:https://pinellas.gov/event/mobile-medical-unit-clearwater-health-department/2025-01-13/
LOCATION:Clearwater Health Department\, 310 N Myrtle Avenue\, Clearwater\, FL\, 33756\, United States
CATEGORIES:Mobile Medical Unit
ATTACH;FMTTYPE=image/jpeg:https://pinellas.gov/wp-content/uploads/2024/06/New-MMU-van-6-2024.jpg
END:VEVENT
BEGIN:VEVENT
DTSTART;TZID=America/New_York:20250114T080000
DTEND;TZID=America/New_York:20250114T170000
DTSTAMP:20260420T092706
CREATED:20250106T153258Z
LAST-MODIFIED:20260129T141037Z
UID:10006345-1736841600-1736874000@pinellas.gov
SUMMARY:Mobile Medical Unit - Human Services Office
DESCRIPTION:The mobile unit is a medical office on wheels. It has provided basic care for more than 20 years. Pinellas County homeless can receive free basic health care on the mobile medical unit. Emergency services are not provided. The unit travels to multiple locations in Pinellas County to serve uninsured homeless residents. Learn more about the Mobile Medical Unit.
URL:https://pinellas.gov/event/mobile-medical-unit-human-services-office/2025-01-14/
LOCATION:Human Services – St Pete Office\, 647 1st Avenue N\, St Petersburg\, 33701\, United States
CATEGORIES:Mobile Medical Unit
ATTACH;FMTTYPE=image/jpeg:https://pinellas.gov/wp-content/uploads/2021/07/mmu-truck.jpg
END:VEVENT
BEGIN:VEVENT
DTSTART;TZID=America/New_York:20250115T083000
DTEND;TZID=America/New_York:20250115T163000
DTSTAMP:20260420T092706
CREATED:20230105T155301Z
LAST-MODIFIED:20260129T135206Z
UID:10006352-1736929800-1736958600@pinellas.gov
SUMMARY:Mobile Medical Unit - Pinellas Hope
DESCRIPTION:The mobile unit is a medical office on wheels. It has provided basic care for more than 20 years. Pinellas County homeless can receive free basic health care on the mobile medical unit. Emergency services are not provided. The unit travels to multiple locations in Pinellas County to serve uninsured homeless residents. Learn more about the Mobile Medical Unit. \nLa unidad móvil es un consultorio médico sobre ruedas. Ha proporcionado atención básica durante más de 20 años. Las personas sin hogar del Condado Pinellas pueden recibir atención médica básica gratuita en la unidad médica móvil. No se prestan servicios de emergencia. La unidad viaja a varios lugares en el Condado Pinellas para atender a residentes sin seguro médico. Obtenga más información sobre la unidad médica móvil. \n 
URL:https://pinellas.gov/event/mobile-medical-unit-pinellas-hope-2/2025-01-15/
LOCATION:Pinellas Hope\, 5726 126th Avenue N\, Clearwater\, FL\, 33760\, United States
CATEGORIES:Mobile Medical Unit
ATTACH;FMTTYPE=image/jpeg:https://pinellas.gov/wp-content/uploads/2024/06/New-MMU-van-6-2024.jpg
END:VEVENT
BEGIN:VEVENT
DTSTART;TZID=America/New_York:20250116T083000
DTEND;TZID=America/New_York:20250116T163000
DTSTAMP:20260420T092706
CREATED:20230105T154844Z
LAST-MODIFIED:20260129T142521Z
UID:10006356-1737016200-1737045000@pinellas.gov
SUMMARY:Mobile Medical Unit - Salvation Army ARC
DESCRIPTION:The mobile unit is a medical office on wheels. It has provided basic care for more than 20 years. Pinellas County homeless can receive free basic health care on the mobile medical unit. Emergency services are not provided. The unit travels to multiple locations in Pinellas County to serve uninsured homeless residents. Learn more about the Mobile Medical Unit. \n  \nLa unidad móvil es un consultorio médico sobre ruedas. Ha proporcionado atención básica durante más de 20 años. Las personas sin hogar del Condado Pinellas pueden recibir atención médica básica gratuita en la unidad médica móvil. No se prestan servicios de emergencia. La unidad viaja a varios lugares en el Condado Pinellas para atender a residentes sin seguro médico. Obtenga más información sobre la unidad médica móvil. \n 
URL:https://pinellas.gov/event/mobile-medical-unit-salvation-army-arc-2/2025-01-16/
LOCATION:Salvation Army\, ARC\, 5885 66th Street N\, St. Petersburg\, FL\, 33709\, United States
CATEGORIES:Mobile Medical Unit
ATTACH;FMTTYPE=image/jpeg:https://pinellas.gov/wp-content/uploads/2024/06/New-MMU-van-6-2024.jpg
END:VEVENT
BEGIN:VEVENT
DTSTART;TZID=America/New_York:20250117T083000
DTEND;TZID=America/New_York:20250117T160000
DTSTAMP:20260420T092706
CREATED:20230105T154532Z
LAST-MODIFIED:20260129T143324Z
UID:10006360-1737102600-1737129600@pinellas.gov
SUMMARY:Mobile Medical Unit - Salvation Army One Stop
DESCRIPTION:The mobile unit is a medical office on wheels. It has provided basic care for more than 20 years. Pinellas County homeless can receive free basic health care on the mobile medical unit. Emergency services are not provided. The unit travels to multiple locations in Pinellas County to serve uninsured homeless residents. Learn more about the Mobile Medical Unit. \nLa unidad móvil es un consultorio médico sobre ruedas. Ha proporcionado atención básica durante más de 20 años. Las personas sin hogar del Condado Pinellas pueden recibir atención médica básica gratuita en la unidad médica móvil. No se prestan servicios de emergencia. La unidad viaja a varios lugares en el Condado Pinellas para atender a residentes sin seguro médico. Obtenga más información sobre la unidad médica móvil. \n 
URL:https://pinellas.gov/event/mobile-medical-unit-salvation-army-one-stop-2/2025-01-17/
LOCATION:Salvation Army\, 1400 4th St S.\, St Petersburg\, FL\, 33701\, United States
CATEGORIES:Mobile Medical Unit
ATTACH;FMTTYPE=image/jpeg:https://pinellas.gov/wp-content/uploads/2024/06/New-MMU-van-6-2024.jpg
END:VEVENT
BEGIN:VEVENT
DTSTART;TZID=America/New_York:20250121T080000
DTEND;TZID=America/New_York:20250121T170000
DTSTAMP:20260420T092706
CREATED:20250106T153258Z
LAST-MODIFIED:20260129T141037Z
UID:10006346-1737446400-1737478800@pinellas.gov
SUMMARY:Mobile Medical Unit - Human Services Office
DESCRIPTION:The mobile unit is a medical office on wheels. It has provided basic care for more than 20 years. Pinellas County homeless can receive free basic health care on the mobile medical unit. Emergency services are not provided. The unit travels to multiple locations in Pinellas County to serve uninsured homeless residents. Learn more about the Mobile Medical Unit.
URL:https://pinellas.gov/event/mobile-medical-unit-human-services-office/2025-01-21/
LOCATION:Human Services – St Pete Office\, 647 1st Avenue N\, St Petersburg\, 33701\, United States
CATEGORIES:Mobile Medical Unit
ATTACH;FMTTYPE=image/jpeg:https://pinellas.gov/wp-content/uploads/2021/07/mmu-truck.jpg
END:VEVENT
BEGIN:VEVENT
DTSTART;TZID=America/New_York:20250122T083000
DTEND;TZID=America/New_York:20250122T163000
DTSTAMP:20260420T092706
CREATED:20230105T155301Z
LAST-MODIFIED:20260129T135206Z
UID:10006353-1737534600-1737563400@pinellas.gov
SUMMARY:Mobile Medical Unit - Pinellas Hope
DESCRIPTION:The mobile unit is a medical office on wheels. It has provided basic care for more than 20 years. Pinellas County homeless can receive free basic health care on the mobile medical unit. Emergency services are not provided. The unit travels to multiple locations in Pinellas County to serve uninsured homeless residents. Learn more about the Mobile Medical Unit. \nLa unidad móvil es un consultorio médico sobre ruedas. Ha proporcionado atención básica durante más de 20 años. Las personas sin hogar del Condado Pinellas pueden recibir atención médica básica gratuita en la unidad médica móvil. No se prestan servicios de emergencia. La unidad viaja a varios lugares en el Condado Pinellas para atender a residentes sin seguro médico. Obtenga más información sobre la unidad médica móvil. \n 
URL:https://pinellas.gov/event/mobile-medical-unit-pinellas-hope-2/2025-01-22/
LOCATION:Pinellas Hope\, 5726 126th Avenue N\, Clearwater\, FL\, 33760\, United States
CATEGORIES:Mobile Medical Unit
ATTACH;FMTTYPE=image/jpeg:https://pinellas.gov/wp-content/uploads/2024/06/New-MMU-van-6-2024.jpg
END:VEVENT
BEGIN:VEVENT
DTSTART;TZID=America/New_York:20250123T083000
DTEND;TZID=America/New_York:20250123T163000
DTSTAMP:20260420T092706
CREATED:20230105T154844Z
LAST-MODIFIED:20260129T142521Z
UID:10006357-1737621000-1737649800@pinellas.gov
SUMMARY:Mobile Medical Unit - Salvation Army ARC
DESCRIPTION:The mobile unit is a medical office on wheels. It has provided basic care for more than 20 years. Pinellas County homeless can receive free basic health care on the mobile medical unit. Emergency services are not provided. The unit travels to multiple locations in Pinellas County to serve uninsured homeless residents. Learn more about the Mobile Medical Unit. \n  \nLa unidad móvil es un consultorio médico sobre ruedas. Ha proporcionado atención básica durante más de 20 años. Las personas sin hogar del Condado Pinellas pueden recibir atención médica básica gratuita en la unidad médica móvil. No se prestan servicios de emergencia. La unidad viaja a varios lugares en el Condado Pinellas para atender a residentes sin seguro médico. Obtenga más información sobre la unidad médica móvil. \n 
URL:https://pinellas.gov/event/mobile-medical-unit-salvation-army-arc-2/2025-01-23/
LOCATION:Salvation Army\, ARC\, 5885 66th Street N\, St. Petersburg\, FL\, 33709\, United States
CATEGORIES:Mobile Medical Unit
ATTACH;FMTTYPE=image/jpeg:https://pinellas.gov/wp-content/uploads/2024/06/New-MMU-van-6-2024.jpg
END:VEVENT
BEGIN:VEVENT
DTSTART;TZID=America/New_York:20250124T083000
DTEND;TZID=America/New_York:20250124T160000
DTSTAMP:20260420T092706
CREATED:20230105T154532Z
LAST-MODIFIED:20260129T143324Z
UID:10006361-1737707400-1737734400@pinellas.gov
SUMMARY:Mobile Medical Unit - Salvation Army One Stop
DESCRIPTION:The mobile unit is a medical office on wheels. It has provided basic care for more than 20 years. Pinellas County homeless can receive free basic health care on the mobile medical unit. Emergency services are not provided. The unit travels to multiple locations in Pinellas County to serve uninsured homeless residents. Learn more about the Mobile Medical Unit. \nLa unidad móvil es un consultorio médico sobre ruedas. Ha proporcionado atención básica durante más de 20 años. Las personas sin hogar del Condado Pinellas pueden recibir atención médica básica gratuita en la unidad médica móvil. No se prestan servicios de emergencia. La unidad viaja a varios lugares en el Condado Pinellas para atender a residentes sin seguro médico. Obtenga más información sobre la unidad médica móvil. \n 
URL:https://pinellas.gov/event/mobile-medical-unit-salvation-army-one-stop-2/2025-01-24/
LOCATION:Salvation Army\, 1400 4th St S.\, St Petersburg\, FL\, 33701\, United States
CATEGORIES:Mobile Medical Unit
ATTACH;FMTTYPE=image/jpeg:https://pinellas.gov/wp-content/uploads/2024/06/New-MMU-van-6-2024.jpg
END:VEVENT
BEGIN:VEVENT
DTSTART;TZID=America/New_York:20250127T080000
DTEND;TZID=America/New_York:20250127T170000
DTSTAMP:20260420T092706
CREATED:20240723T213706Z
LAST-MODIFIED:20260129T141759Z
UID:10006350-1737964800-1737997200@pinellas.gov
SUMMARY:Mobile Medical Unit - Clearwater Health Department
DESCRIPTION:The mobile unit is a medical office on wheels. It has provided basic care for more than 20 years. Pinellas County homeless can receive free basic health care on the mobile medical unit. Emergency services are not provided. The unit travels to multiple locations in Pinellas County to serve uninsured homeless residents. Learn more about the Mobile Medical Unit.
URL:https://pinellas.gov/event/mobile-medical-unit-clearwater-health-department/2025-01-27/
LOCATION:Clearwater Health Department\, 310 N Myrtle Avenue\, Clearwater\, FL\, 33756\, United States
CATEGORIES:Mobile Medical Unit
ATTACH;FMTTYPE=image/jpeg:https://pinellas.gov/wp-content/uploads/2024/06/New-MMU-van-6-2024.jpg
END:VEVENT
BEGIN:VEVENT
DTSTART;TZID=America/New_York:20250128T080000
DTEND;TZID=America/New_York:20250128T170000
DTSTAMP:20260420T092706
CREATED:20250106T153258Z
LAST-MODIFIED:20260129T141037Z
UID:10006347-1738051200-1738083600@pinellas.gov
SUMMARY:Mobile Medical Unit - Human Services Office
DESCRIPTION:The mobile unit is a medical office on wheels. It has provided basic care for more than 20 years. Pinellas County homeless can receive free basic health care on the mobile medical unit. Emergency services are not provided. The unit travels to multiple locations in Pinellas County to serve uninsured homeless residents. Learn more about the Mobile Medical Unit.
URL:https://pinellas.gov/event/mobile-medical-unit-human-services-office/2025-01-28/
LOCATION:Human Services – St Pete Office\, 647 1st Avenue N\, St Petersburg\, 33701\, United States
CATEGORIES:Mobile Medical Unit
ATTACH;FMTTYPE=image/jpeg:https://pinellas.gov/wp-content/uploads/2021/07/mmu-truck.jpg
END:VEVENT
BEGIN:VEVENT
DTSTART;TZID=America/New_York:20250129T083000
DTEND;TZID=America/New_York:20250129T163000
DTSTAMP:20260420T092706
CREATED:20230105T155301Z
LAST-MODIFIED:20260129T135206Z
UID:10006354-1738139400-1738168200@pinellas.gov
SUMMARY:Mobile Medical Unit - Pinellas Hope
DESCRIPTION:The mobile unit is a medical office on wheels. It has provided basic care for more than 20 years. Pinellas County homeless can receive free basic health care on the mobile medical unit. Emergency services are not provided. The unit travels to multiple locations in Pinellas County to serve uninsured homeless residents. Learn more about the Mobile Medical Unit. \nLa unidad móvil es un consultorio médico sobre ruedas. Ha proporcionado atención básica durante más de 20 años. Las personas sin hogar del Condado Pinellas pueden recibir atención médica básica gratuita en la unidad médica móvil. No se prestan servicios de emergencia. La unidad viaja a varios lugares en el Condado Pinellas para atender a residentes sin seguro médico. Obtenga más información sobre la unidad médica móvil. \n 
URL:https://pinellas.gov/event/mobile-medical-unit-pinellas-hope-2/2025-01-29/
LOCATION:Pinellas Hope\, 5726 126th Avenue N\, Clearwater\, FL\, 33760\, United States
CATEGORIES:Mobile Medical Unit
ATTACH;FMTTYPE=image/jpeg:https://pinellas.gov/wp-content/uploads/2024/06/New-MMU-van-6-2024.jpg
END:VEVENT
BEGIN:VEVENT
DTSTART;TZID=America/New_York:20250130T083000
DTEND;TZID=America/New_York:20250130T163000
DTSTAMP:20260420T092706
CREATED:20230105T154844Z
LAST-MODIFIED:20260129T142521Z
UID:10006358-1738225800-1738254600@pinellas.gov
SUMMARY:Mobile Medical Unit - Salvation Army ARC
DESCRIPTION:The mobile unit is a medical office on wheels. It has provided basic care for more than 20 years. Pinellas County homeless can receive free basic health care on the mobile medical unit. Emergency services are not provided. The unit travels to multiple locations in Pinellas County to serve uninsured homeless residents. Learn more about the Mobile Medical Unit. \n  \nLa unidad móvil es un consultorio médico sobre ruedas. Ha proporcionado atención básica durante más de 20 años. Las personas sin hogar del Condado Pinellas pueden recibir atención médica básica gratuita en la unidad médica móvil. No se prestan servicios de emergencia. La unidad viaja a varios lugares en el Condado Pinellas para atender a residentes sin seguro médico. Obtenga más información sobre la unidad médica móvil. \n 
URL:https://pinellas.gov/event/mobile-medical-unit-salvation-army-arc-2/2025-01-30/
LOCATION:Salvation Army\, ARC\, 5885 66th Street N\, St. Petersburg\, FL\, 33709\, United States
CATEGORIES:Mobile Medical Unit
ATTACH;FMTTYPE=image/jpeg:https://pinellas.gov/wp-content/uploads/2024/06/New-MMU-van-6-2024.jpg
END:VEVENT
BEGIN:VEVENT
DTSTART;TZID=America/New_York:20250131T083000
DTEND;TZID=America/New_York:20250131T160000
DTSTAMP:20260420T092706
CREATED:20230105T154532Z
LAST-MODIFIED:20260129T143324Z
UID:10006362-1738312200-1738339200@pinellas.gov
SUMMARY:Mobile Medical Unit - Salvation Army One Stop
DESCRIPTION:The mobile unit is a medical office on wheels. It has provided basic care for more than 20 years. Pinellas County homeless can receive free basic health care on the mobile medical unit. Emergency services are not provided. The unit travels to multiple locations in Pinellas County to serve uninsured homeless residents. Learn more about the Mobile Medical Unit. \nLa unidad móvil es un consultorio médico sobre ruedas. Ha proporcionado atención básica durante más de 20 años. Las personas sin hogar del Condado Pinellas pueden recibir atención médica básica gratuita en la unidad médica móvil. No se prestan servicios de emergencia. La unidad viaja a varios lugares en el Condado Pinellas para atender a residentes sin seguro médico. Obtenga más información sobre la unidad médica móvil. \n 
URL:https://pinellas.gov/event/mobile-medical-unit-salvation-army-one-stop-2/2025-01-31/
LOCATION:Salvation Army\, 1400 4th St S.\, St Petersburg\, FL\, 33701\, United States
CATEGORIES:Mobile Medical Unit
ATTACH;FMTTYPE=image/jpeg:https://pinellas.gov/wp-content/uploads/2024/06/New-MMU-van-6-2024.jpg
END:VEVENT
END:VCALENDAR