BEGIN:VCALENDAR
VERSION:2.0
PRODID:-//Pinellas County - ECPv6.15.18//NONSGML v1.0//EN
CALSCALE:GREGORIAN
METHOD:PUBLISH
X-WR-CALNAME:Pinellas County
X-ORIGINAL-URL:https://pinellas.gov
X-WR-CALDESC:Events for Pinellas County
REFRESH-INTERVAL;VALUE=DURATION:PT1H
X-Robots-Tag:noindex
X-PUBLISHED-TTL:PT1H
BEGIN:VTIMEZONE
TZID:America/New_York
BEGIN:DAYLIGHT
TZOFFSETFROM:-0500
TZOFFSETTO:-0400
TZNAME:EDT
DTSTART:20220313T070000
END:DAYLIGHT
BEGIN:STANDARD
TZOFFSETFROM:-0400
TZOFFSETTO:-0500
TZNAME:EST
DTSTART:20221106T060000
END:STANDARD
BEGIN:DAYLIGHT
TZOFFSETFROM:-0500
TZOFFSETTO:-0400
TZNAME:EDT
DTSTART:20230312T070000
END:DAYLIGHT
BEGIN:STANDARD
TZOFFSETFROM:-0400
TZOFFSETTO:-0500
TZNAME:EST
DTSTART:20231105T060000
END:STANDARD
BEGIN:DAYLIGHT
TZOFFSETFROM:-0500
TZOFFSETTO:-0400
TZNAME:EDT
DTSTART:20240310T070000
END:DAYLIGHT
BEGIN:STANDARD
TZOFFSETFROM:-0400
TZOFFSETTO:-0500
TZNAME:EST
DTSTART:20241103T060000
END:STANDARD
END:VTIMEZONE
BEGIN:VEVENT
DTSTART;TZID=America/New_York:20230110T100000
DTEND;TZID=America/New_York:20230110T110000
DTSTAMP:20260420T112623
CREATED:20230725T154143Z
LAST-MODIFIED:20230725T154308Z
UID:10003951-1673344800-1673348400@pinellas.gov
SUMMARY:Opioid Abatement Funding Advisory Board Meeting
DESCRIPTION:
URL:https://pinellas.gov/event/opioid-abatement-funding-advisory-board-meeting-7/
LOCATION:Lealman Exchange Community Center\, 5175 45th St. N.\, Lealman\, FL\, 33714\, United States
CATEGORIES:Opioid Abatement Funding Board
END:VEVENT
BEGIN:VEVENT
DTSTART;TZID=America/New_York:20230110T100000
DTEND;TZID=America/New_York:20230110T120000
DTSTAMP:20260420T112624
CREATED:20221202T204029Z
LAST-MODIFIED:20221202T204547Z
UID:10002418-1673344800-1673352000@pinellas.gov
SUMMARY:Opioid Abatement Funding Advisory Board Meeting
DESCRIPTION:This is the regular meeting of the Opioid Abatement Funding Advisory Board. By-laws and meeting schedules will be established. \n  \nLealman Exchange\, Room 113 \n5175 45th Street N.\, St. Petersburg\, 33714 \n  \nLinda Chaffin 727-464-8417 \nlchaffin@pinellas.gov \n 
URL:https://pinellas.gov/event/opioid-abatement-funding-advisory-board-meeting/
LOCATION:Lealman Exchange Community Center\, 5175 45th St. N.\, Lealman\, FL\, 33714\, United States
CATEGORIES:Opioid Abatement Funding Board
END:VEVENT
END:VCALENDAR