BEGIN:VCALENDAR
VERSION:2.0
PRODID:-//Pinellas County - ECPv6.15.18//NONSGML v1.0//EN
CALSCALE:GREGORIAN
METHOD:PUBLISH
X-WR-CALNAME:Pinellas County
X-ORIGINAL-URL:https://pinellas.gov
X-WR-CALDESC:Events for Pinellas County
REFRESH-INTERVAL;VALUE=DURATION:PT1H
X-Robots-Tag:noindex
X-PUBLISHED-TTL:PT1H
BEGIN:VTIMEZONE
TZID:America/New_York
BEGIN:DAYLIGHT
TZOFFSETFROM:-0500
TZOFFSETTO:-0400
TZNAME:EDT
DTSTART:20210314T070000
END:DAYLIGHT
BEGIN:STANDARD
TZOFFSETFROM:-0400
TZOFFSETTO:-0500
TZNAME:EST
DTSTART:20211107T060000
END:STANDARD
BEGIN:DAYLIGHT
TZOFFSETFROM:-0500
TZOFFSETTO:-0400
TZNAME:EDT
DTSTART:20220313T070000
END:DAYLIGHT
BEGIN:STANDARD
TZOFFSETFROM:-0400
TZOFFSETTO:-0500
TZNAME:EST
DTSTART:20221106T060000
END:STANDARD
BEGIN:DAYLIGHT
TZOFFSETFROM:-0500
TZOFFSETTO:-0400
TZNAME:EDT
DTSTART:20230312T070000
END:DAYLIGHT
BEGIN:STANDARD
TZOFFSETFROM:-0400
TZOFFSETTO:-0500
TZNAME:EST
DTSTART:20231105T060000
END:STANDARD
END:VTIMEZONE
BEGIN:VEVENT
DTSTART;TZID=America/New_York:20221206T083000
DTEND;TZID=America/New_York:20221206T084000
DTSTAMP:20260421T151823
CREATED:20221117T205537Z
LAST-MODIFIED:20221219T175516Z
UID:10002224-1670315400-1670316000@pinellas.gov
SUMMARY:TEFRA Hearing for Riverside Apartments
DESCRIPTION:Notice is hereby given that the Housing Finance Authority of Pinellas County\, Florida (the “Authority”) will hold and conduct a public hearing to be held on December 6\, 2022 beginning at 8:30 a.m. or as soon thereafter as such matters may be heard\, at the offices of the Authority located at 450 Carillon Parkway\, Suite 105\, St. Petersburg\, Florida  33716
URL:https://pinellas.gov/event/tefra-hearing-for-riverside-apartments/
LOCATION:Housing Finance Authority Office\, 450 Carillon Parkway\, Ste. 105\, St. Petersburg\, FL\, 33716\, United States
CATEGORIES:Pinellas County Housing Finance Authority
END:VEVENT
BEGIN:VEVENT
DTSTART;TZID=America/New_York:20221207T150000
DTEND;TZID=America/New_York:20221207T150000
DTSTAMP:20260421T151823
CREATED:20221101T191624Z
LAST-MODIFIED:20221117T203648Z
UID:10001677-1670425200-1670425200@pinellas.gov
SUMMARY:Housing Finance Authority Board Meeting - Canceled
DESCRIPTION:Meetings of the Housing Finance Authority of Pinellas County Board of Directors start at 3:00 p.m. and are held in the Palm Room at the Pinellas County Communications Building\, 333 Chestnut St.\, Clearwater.  Location is subject to change. \nAny person wanting to appeal an official decision made on any subject at the meeting must have a verbatim record of the meeting that includes the testimony and evidence on which the appeal is based.
URL:https://pinellas.gov/event/housing-finance-authority-board-meeting-11/
LOCATION:Pinellas County Communications\, the Palm Room\, 333 Chestnut St.\, Clearwater\, Florida\, 33756
CATEGORIES:Pinellas County Housing Finance Authority
END:VEVENT
END:VCALENDAR