BEGIN:VCALENDAR
VERSION:2.0
PRODID:-//Pinellas County - ECPv6.15.18//NONSGML v1.0//EN
CALSCALE:GREGORIAN
METHOD:PUBLISH
X-WR-CALNAME:Pinellas County
X-ORIGINAL-URL:https://pinellas.gov
X-WR-CALDESC:Events for Pinellas County
REFRESH-INTERVAL;VALUE=DURATION:PT1H
X-Robots-Tag:noindex
X-PUBLISHED-TTL:PT1H
BEGIN:VTIMEZONE
TZID:America/New_York
BEGIN:DAYLIGHT
TZOFFSETFROM:-0500
TZOFFSETTO:-0400
TZNAME:EDT
DTSTART:20210314T070000
END:DAYLIGHT
BEGIN:STANDARD
TZOFFSETFROM:-0400
TZOFFSETTO:-0500
TZNAME:EST
DTSTART:20211107T060000
END:STANDARD
BEGIN:DAYLIGHT
TZOFFSETFROM:-0500
TZOFFSETTO:-0400
TZNAME:EDT
DTSTART:20220313T070000
END:DAYLIGHT
BEGIN:STANDARD
TZOFFSETFROM:-0400
TZOFFSETTO:-0500
TZNAME:EST
DTSTART:20221106T060000
END:STANDARD
BEGIN:DAYLIGHT
TZOFFSETFROM:-0500
TZOFFSETTO:-0400
TZNAME:EDT
DTSTART:20230312T070000
END:DAYLIGHT
BEGIN:STANDARD
TZOFFSETFROM:-0400
TZOFFSETTO:-0500
TZNAME:EST
DTSTART:20231105T060000
END:STANDARD
END:VTIMEZONE
BEGIN:VEVENT
DTSTART;TZID=America/New_York:20221110T090000
DTEND;TZID=America/New_York:20221110T110000
DTSTAMP:20260423T035624
CREATED:20211101T203202Z
LAST-MODIFIED:20221208T161842Z
UID:10000990-1668070800-1668078000@pinellas.gov
SUMMARY:Joint Board of County Commissioners and Tourist Development Council Meeting and Work Session/Agenda Briefing
DESCRIPTION:Note: The meeting/work session has been cancelled due to Tropical Storm Nicole and will be rescheduled. \n  \nBoard of County Commissioners agendas are posted at https://pinellas.legistar.com/Calendar.aspx. \nThe Board only takes public comment at regular meetings. The Board does not take public comment at work sessions.
URL:https://pinellas.gov/event/board-of-county-commissioners-work-session-agenda-briefing-2022-11-10/
LOCATION:St. Petersburg Marriott Clearwater\, 12600 Roosevelt Blvd North\, St. Petersburg\, FL\, 33716\, United States
CATEGORIES:Board of County Commissioners Meetings,Tourist Development Council
END:VEVENT
BEGIN:VEVENT
DTSTART;TZID=America/New_York:20221116T090000
DTEND;TZID=America/New_York:20221116T120000
DTSTAMP:20260423T035624
CREATED:20221101T210059Z
LAST-MODIFIED:20221115T154401Z
UID:10001694-1668589200-1668600000@pinellas.gov
SUMMARY:Tourist Development Council Meeting
DESCRIPTION:Liz McCann – CVB\n(727) 464-7261\nLiz.mccann@visitspc.com \nThis meeting will be broadcast on PCCTV on Spectrum Channel 637\, Frontier Channel 44 and WOW Channel 18. It also will be streamed on YouTube at https://www.youtube.com/channel/UCakmugpSeqsZbfF5P5P90Dg
URL:https://pinellas.gov/event/tourist-development-council-meeting-5/
LOCATION:Pinellas County Communications\, the Palm Room\, 333 Chestnut St.\, Clearwater\, Florida\, 33756
CATEGORIES:Tourist Development Council
END:VEVENT
END:VCALENDAR