BEGIN:VCALENDAR
VERSION:2.0
PRODID:-//Pinellas County - ECPv6.15.18//NONSGML v1.0//EN
CALSCALE:GREGORIAN
METHOD:PUBLISH
X-WR-CALNAME:Pinellas County
X-ORIGINAL-URL:https://pinellas.gov
X-WR-CALDESC:Events for Pinellas County
REFRESH-INTERVAL;VALUE=DURATION:PT1H
X-Robots-Tag:noindex
X-PUBLISHED-TTL:PT1H
BEGIN:VTIMEZONE
TZID:America/New_York
BEGIN:DAYLIGHT
TZOFFSETFROM:-0500
TZOFFSETTO:-0400
TZNAME:EDT
DTSTART:20210314T070000
END:DAYLIGHT
BEGIN:STANDARD
TZOFFSETFROM:-0400
TZOFFSETTO:-0500
TZNAME:EST
DTSTART:20211107T060000
END:STANDARD
BEGIN:DAYLIGHT
TZOFFSETFROM:-0500
TZOFFSETTO:-0400
TZNAME:EDT
DTSTART:20220313T070000
END:DAYLIGHT
BEGIN:STANDARD
TZOFFSETFROM:-0400
TZOFFSETTO:-0500
TZNAME:EST
DTSTART:20221106T060000
END:STANDARD
BEGIN:DAYLIGHT
TZOFFSETFROM:-0500
TZOFFSETTO:-0400
TZNAME:EDT
DTSTART:20230312T070000
END:DAYLIGHT
BEGIN:STANDARD
TZOFFSETFROM:-0400
TZOFFSETTO:-0500
TZNAME:EST
DTSTART:20231105T060000
END:STANDARD
END:VTIMEZONE
BEGIN:VEVENT
DTSTART;TZID=America/New_York:20221221T090000
DTEND;TZID=America/New_York:20221221T090000
DTSTAMP:20260423T024718
CREATED:20221027T154239Z
LAST-MODIFIED:20221027T154405Z
UID:10001641-1671613200-1671613200@pinellas.gov
SUMMARY:Tourist Development Council Meeting
DESCRIPTION:COMMUNICATIONS BUILDING – PALM ROOM \n\n333 Chestnut St.\n\nClearwater\, FL 33774\n\n\n\nMarch Tourist Development Council Meeting \nAgenda will be available on the St. Pete/Clearwater Industry Partner calendar. \nMeeting can be viewed LIVE online.
URL:https://pinellas.gov/event/tourist-development-council-meeting-4/
LOCATION:Pinellas County Communications\, the Palm Room\, 333 Chestnut St.\, Clearwater\, Florida\, 33756
CATEGORIES:Tourist Development Council
END:VEVENT
END:VCALENDAR