BEGIN:VCALENDAR
VERSION:2.0
PRODID:-//Pinellas County - ECPv6.15.18//NONSGML v1.0//EN
CALSCALE:GREGORIAN
METHOD:PUBLISH
X-WR-CALNAME:Pinellas County
X-ORIGINAL-URL:https://pinellas.gov
X-WR-CALDESC:Events for Pinellas County
REFRESH-INTERVAL;VALUE=DURATION:PT1H
X-Robots-Tag:noindex
X-PUBLISHED-TTL:PT1H
BEGIN:VTIMEZONE
TZID:America/New_York
BEGIN:DAYLIGHT
TZOFFSETFROM:-0500
TZOFFSETTO:-0400
TZNAME:EDT
DTSTART:20220313T070000
END:DAYLIGHT
BEGIN:STANDARD
TZOFFSETFROM:-0400
TZOFFSETTO:-0500
TZNAME:EST
DTSTART:20221106T060000
END:STANDARD
BEGIN:DAYLIGHT
TZOFFSETFROM:-0500
TZOFFSETTO:-0400
TZNAME:EDT
DTSTART:20230312T070000
END:DAYLIGHT
BEGIN:STANDARD
TZOFFSETFROM:-0400
TZOFFSETTO:-0500
TZNAME:EST
DTSTART:20231105T060000
END:STANDARD
BEGIN:DAYLIGHT
TZOFFSETFROM:-0500
TZOFFSETTO:-0400
TZNAME:EDT
DTSTART:20240310T070000
END:DAYLIGHT
BEGIN:STANDARD
TZOFFSETFROM:-0400
TZOFFSETTO:-0500
TZNAME:EST
DTSTART:20241103T060000
END:STANDARD
END:VTIMEZONE
BEGIN:VEVENT
DTSTART;TZID=America/New_York:20230215T090000
DTEND;TZID=America/New_York:20230215T120000
DTSTAMP:20260423T001130
CREATED:20230117T190031Z
LAST-MODIFIED:20230117T190622Z
UID:10003320-1676451600-1676462400@pinellas.gov
SUMMARY:Tourist Development Council Meeting
DESCRIPTION:Contact Info: \nStacy O’Donnell \n727-464-7261 \nstacy@visitSPC.com \n  \nMonthly TDC Board Meeting \nBroadcast on PCCTV: Spectrum Channel 637/ Frontier Channel 44—WOW! Channel 18 \nRepeats are televised every Wednesday at midnight and on the first Thursday following the live meeting at 8pm. They are also archived and can be viewed at pinellascounty.org/media/tdc
URL:https://pinellas.gov/event/tourist-development-council-meeting-15/
LOCATION:Pinellas County Communications – Palm Room\, 333 Chestnut Street\, Clearwater\, 33756
CATEGORIES:Tourist Development Council
END:VEVENT
BEGIN:VEVENT
DTSTART;TZID=America/New_York:20230228T090000
DTEND;TZID=America/New_York:20230228T110000
DTSTAMP:20260423T001130
CREATED:20230111T163545Z
LAST-MODIFIED:20230216T190739Z
UID:10003289-1677574800-1677582000@pinellas.gov
SUMMARY:Joint Board of County Commissioners and Tourist Development Council Meeting
DESCRIPTION:Location is Sheraton Sand Key\, 1160 Gulf Blvd. Clearwater Beach\, FL 33767. \nBoard of County Commissioners agendas are posted at https://pinellas.legistar.com/Calendar.aspx. \nThe Board only takes public comment at regular meetings. The Board does not take public comment at work sessions. \nThis meeting will not be broadcast.
URL:https://pinellas.gov/event/joint-board-of-county-commissioners-and-tourist-development-council-meeting/
LOCATION:Sheraton Sand Key Resort\, 1160 Gulf Blvd.\, Clearwater Beach\, FL\, 33767
CATEGORIES:Board of County Commissioners Meetings,Tourist Development Council
END:VEVENT
END:VCALENDAR