BEGIN:VCALENDAR
VERSION:2.0
PRODID:-//Pinellas County - ECPv6.15.18//NONSGML v1.0//EN
CALSCALE:GREGORIAN
METHOD:PUBLISH
X-WR-CALNAME:Pinellas County
X-ORIGINAL-URL:https://pinellas.gov
X-WR-CALDESC:Events for Pinellas County
REFRESH-INTERVAL;VALUE=DURATION:PT1H
X-Robots-Tag:noindex
X-PUBLISHED-TTL:PT1H
BEGIN:VTIMEZONE
TZID:America/New_York
BEGIN:DAYLIGHT
TZOFFSETFROM:-0500
TZOFFSETTO:-0400
TZNAME:EDT
DTSTART:20220313T070000
END:DAYLIGHT
BEGIN:STANDARD
TZOFFSETFROM:-0400
TZOFFSETTO:-0500
TZNAME:EST
DTSTART:20221106T060000
END:STANDARD
BEGIN:DAYLIGHT
TZOFFSETFROM:-0500
TZOFFSETTO:-0400
TZNAME:EDT
DTSTART:20230312T070000
END:DAYLIGHT
BEGIN:STANDARD
TZOFFSETFROM:-0400
TZOFFSETTO:-0500
TZNAME:EST
DTSTART:20231105T060000
END:STANDARD
BEGIN:DAYLIGHT
TZOFFSETFROM:-0500
TZOFFSETTO:-0400
TZNAME:EDT
DTSTART:20240310T070000
END:DAYLIGHT
BEGIN:STANDARD
TZOFFSETFROM:-0400
TZOFFSETTO:-0500
TZNAME:EST
DTSTART:20241103T060000
END:STANDARD
END:VTIMEZONE
BEGIN:VEVENT
DTSTART;TZID=America/New_York:20231115T090000
DTEND;TZID=America/New_York:20231115T120000
DTSTAMP:20260422T070304
CREATED:20230119T170854Z
LAST-MODIFIED:20230119T170926Z
UID:10003341-1700038800-1700049600@pinellas.gov
SUMMARY:Tourist Development Council Board Meeting
DESCRIPTION:Stacy O’Donnell\n(727) 464-7261\nstacy@visitSPC.com \n  \nThis meeting will be broadcast on PCCTV on Spectrum Channel 637\, Frontier Channel 44 and WOW Channel 18. It also will be streamed on YouTube at https://www.youtube.com/channel/UCakmugpSeqsZbfF5P5P90Dg
URL:https://pinellas.gov/event/tourist-development-council-board-meeting-9/
LOCATION:Pinellas County Communications – Palm Room\, 333 Chestnut Street\, Clearwater\, 33756
CATEGORIES:Tourist Development Council
END:VEVENT
END:VCALENDAR