BEGIN:VCALENDAR
VERSION:2.0
PRODID:-//Pinellas County - ECPv6.15.18//NONSGML v1.0//EN
CALSCALE:GREGORIAN
METHOD:PUBLISH
X-WR-CALNAME:Pinellas County
X-ORIGINAL-URL:https://pinellas.gov
X-WR-CALDESC:Events for Pinellas County
REFRESH-INTERVAL;VALUE=DURATION:PT1H
X-Robots-Tag:noindex
X-PUBLISHED-TTL:PT1H
BEGIN:VTIMEZONE
TZID:America/New_York
BEGIN:DAYLIGHT
TZOFFSETFROM:-0500
TZOFFSETTO:-0400
TZNAME:EDT
DTSTART:20220313T070000
END:DAYLIGHT
BEGIN:STANDARD
TZOFFSETFROM:-0400
TZOFFSETTO:-0500
TZNAME:EST
DTSTART:20221106T060000
END:STANDARD
BEGIN:DAYLIGHT
TZOFFSETFROM:-0500
TZOFFSETTO:-0400
TZNAME:EDT
DTSTART:20230312T070000
END:DAYLIGHT
BEGIN:STANDARD
TZOFFSETFROM:-0400
TZOFFSETTO:-0500
TZNAME:EST
DTSTART:20231105T060000
END:STANDARD
BEGIN:DAYLIGHT
TZOFFSETFROM:-0500
TZOFFSETTO:-0400
TZNAME:EDT
DTSTART:20240310T070000
END:DAYLIGHT
BEGIN:STANDARD
TZOFFSETFROM:-0400
TZOFFSETTO:-0500
TZNAME:EST
DTSTART:20241103T060000
END:STANDARD
END:VTIMEZONE
BEGIN:VEVENT
DTSTART;TZID=America/New_York:20230428T090000
DTEND;TZID=America/New_York:20230428T150000
DTSTAMP:20260421T190255
CREATED:20230322T150519Z
LAST-MODIFIED:20230407T191816Z
UID:10003591-1682672400-1682694000@pinellas.gov
SUMMARY:2023 Homes for Pinellas Summit
DESCRIPTION:In 2020\, Pinellas County and Forward Pinellas held the first Homes for Pinellas virtual summit series. Last year\, many local governments joined Pinellas County and Forward Pinellas in signing a Countywide Housing Compact – a commitment to work together toward a future where more friends\, neighbors and essential workers can afford to call Pinellas home. \nNow the Advantage Pinellas Housing Compact partners are ready to roll out the Housing Action Plan. To succeed\, we need as many people at the table as possible. Local agencies\, businesses\, developers\, nonprofits and other community partners\, find out how you can be part of the solution at the 2023 Homes for Pinellas Summit.  \nElected officials from the Pinellas County Board of County Commissioners as well as the cities of Clearwater\, Largo\, Gulfport\, St. Petersburg\, Indian Rocks Beach\, St. Pete Beach and the Pinellas County School Board are expected to attend. \nEvent registration is currently full. For more information\, email homesforpinellas@pinellas.gov. \n  \n  \n 
URL:https://pinellas.gov/event/2023-homes-for-pinellas-summit/
LOCATION:Central Park Performing Arts Center\, 105 Central Park Drive\, Largo\, FL\, 33771\, United States
ATTACH;FMTTYPE=image/jpeg:https://pinellas.gov/wp-content/uploads/2023/03/EventBriteHeaderHomes2023-01-01.jpg
ORGANIZER;CN="Pinellas County Housing and Community Development Department":MAILTO:cdplanning@pinellas.gov
END:VEVENT
END:VCALENDAR